BEGIN:VCALENDAR
VERSION:2.0
PRODID:-//Skowhegan Outdoors - ECPv6.15.20//NONSGML v1.0//EN
CALSCALE:GREGORIAN
METHOD:PUBLISH
X-ORIGINAL-URL:https://skowheganoutdoors.com
X-WR-CALDESC:Events for Skowhegan Outdoors
REFRESH-INTERVAL;VALUE=DURATION:PT1H
X-Robots-Tag:noindex
X-PUBLISHED-TTL:PT1H
BEGIN:VTIMEZONE
TZID:America/New_York
BEGIN:DAYLIGHT
TZOFFSETFROM:-0500
TZOFFSETTO:-0400
TZNAME:EDT
DTSTART:20250309T070000
END:DAYLIGHT
BEGIN:STANDARD
TZOFFSETFROM:-0400
TZOFFSETTO:-0500
TZNAME:EST
DTSTART:20251102T060000
END:STANDARD
BEGIN:DAYLIGHT
TZOFFSETFROM:-0500
TZOFFSETTO:-0400
TZNAME:EDT
DTSTART:20260308T070000
END:DAYLIGHT
BEGIN:STANDARD
TZOFFSETFROM:-0400
TZOFFSETTO:-0500
TZNAME:EST
DTSTART:20261101T060000
END:STANDARD
BEGIN:DAYLIGHT
TZOFFSETFROM:-0500
TZOFFSETTO:-0400
TZNAME:EDT
DTSTART:20270314T070000
END:DAYLIGHT
BEGIN:STANDARD
TZOFFSETFROM:-0400
TZOFFSETTO:-0500
TZNAME:EST
DTSTART:20271107T060000
END:STANDARD
END:VTIMEZONE
BEGIN:VEVENT
DTSTART;TZID=America/New_York:20260607T100000
DTEND;TZID=America/New_York:20260607T110000
DTSTAMP:20260422T100342
CREATED:20260421T233004Z
LAST-MODIFIED:20260422T134106Z
UID:4056-1780826400-1780830000@skowheganoutdoors.com
SUMMARY:Outdoor Yoga with Jill | June 7\, 2026
DESCRIPTION:Outdoor Yoga with Jill\nJune 7 & 21 | 10:00am – 11:00am\nRobbins Hill\, Solon\nTake your yoga practice outside and enjoy movement in a beautiful outdoor setting. These classes are a chance to slow down\, breathe deeply\, and connect with the landscape while building strength and ease.
URL:https://skowheganoutdoors.com/event/outdoor-yoga-with-jill-june-7-2026/
LOCATION:Robbins Hill\, Solon\, Solon\, United States
CATEGORIES:Family Focused,Gather,June,Yoga
ATTACH;FMTTYPE=image/png:https://skowheganoutdoors.com/wp-content/uploads/2026/04/24.png
END:VEVENT
END:VCALENDAR