BEGIN:VCALENDAR
VERSION:2.0
PRODID:-//Skowhegan Outdoors - ECPv6.15.20//NONSGML v1.0//EN
CALSCALE:GREGORIAN
METHOD:PUBLISH
X-ORIGINAL-URL:https://skowheganoutdoors.com
X-WR-CALDESC:Events for Skowhegan Outdoors
REFRESH-INTERVAL;VALUE=DURATION:PT1H
X-Robots-Tag:noindex
X-PUBLISHED-TTL:PT1H
BEGIN:VTIMEZONE
TZID:America/New_York
BEGIN:DAYLIGHT
TZOFFSETFROM:-0500
TZOFFSETTO:-0400
TZNAME:EDT
DTSTART:20250309T070000
END:DAYLIGHT
BEGIN:STANDARD
TZOFFSETFROM:-0400
TZOFFSETTO:-0500
TZNAME:EST
DTSTART:20251102T060000
END:STANDARD
BEGIN:DAYLIGHT
TZOFFSETFROM:-0500
TZOFFSETTO:-0400
TZNAME:EDT
DTSTART:20260308T070000
END:DAYLIGHT
BEGIN:STANDARD
TZOFFSETFROM:-0400
TZOFFSETTO:-0500
TZNAME:EST
DTSTART:20261101T060000
END:STANDARD
BEGIN:DAYLIGHT
TZOFFSETFROM:-0500
TZOFFSETTO:-0400
TZNAME:EDT
DTSTART:20270314T070000
END:DAYLIGHT
BEGIN:STANDARD
TZOFFSETFROM:-0400
TZOFFSETTO:-0500
TZNAME:EST
DTSTART:20271107T060000
END:STANDARD
END:VTIMEZONE
BEGIN:VEVENT
DTSTART;TZID=America/New_York:20260611T150000
DTEND;TZID=America/New_York:20260611T190000
DTSTAMP:20260422T092305
CREATED:20260421T233034Z
LAST-MODIFIED:20260422T131738Z
UID:4063-1781190000-1781204400@skowheganoutdoors.com
SUMMARY:Whitewater Kayaking Private Rolling Lessons | June 11\, 2026
DESCRIPTION:Whitewater Kayaking Private Lessons\nJune 3\, 2026 / June 11\, 2026 / June 27\, 20261-hour Sessions @ Cleaver Boat Landing or Crusher Pool (depending on interest**)\nThese private lessons are designed for paddlers looking for personalized instruction\, focused feedback\, and time to build skills at their own pace. Whether you are brand new to whitewater kayaking or hoping to strengthen a specific skill\, these one-on-one sessions offer a supportive way to grow confidence on the water. \nProgram Type: Private Lesson \nCost: $30 per lesson \nIncludes \n\nProfessional instruction & coaching\nWhitewater kayak\, paddle\, helmet\, and safety gear\nGear fitting and basic on-water support\n\nWhat to ExpectPrivate lessons are tailored to the participant and may focus on foundational paddling skills\, river reading\, boat control\, edging\, strokes\, balance\, or confidence-building in moving water. Sessions are designed to meet you where you are and provide direct\, individualized coaching in a supportive setting. \nLessons will take place at either Cleaver Boat Landing or Crusher Pool depending on conditions\, participant goals\, and scheduling. Final details\, including meeting location and any needed logistics\, will be shared in advance. \nWhat to Bring (Additional) \n\nClothes you can get wet in\nClosed-toe footwear that can get wet\nTowel and dry clothes for after\nWater\nLayers appropriate for weather\n\nCancellation Policy \n\nMore than 7 days prior to the program: Full refund\n3–7 days prior: 50% refund or full credit toward a future Skowhegan Outdoors program\nLess than 72 hours prior or no-show: No refund\n\n\n		                            \n\n    Register!
URL:https://skowheganoutdoors.com/event/elevate-whitewater-kayaking-private-lessons-june-11-2026/
CATEGORIES:Elevate,June,Paddling,Whitewater
ATTACH;FMTTYPE=image/png:https://skowheganoutdoors.com/wp-content/uploads/2026/04/17.png
END:VEVENT
END:VCALENDAR