BEGIN:VCALENDAR
VERSION:2.0
PRODID:-//Skowhegan Outdoors - ECPv6.15.20//NONSGML v1.0//EN
CALSCALE:GREGORIAN
METHOD:PUBLISH
X-ORIGINAL-URL:https://skowheganoutdoors.com
X-WR-CALDESC:Events for Skowhegan Outdoors
REFRESH-INTERVAL;VALUE=DURATION:PT1H
X-Robots-Tag:noindex
X-PUBLISHED-TTL:PT1H
BEGIN:VTIMEZONE
TZID:America/New_York
BEGIN:DAYLIGHT
TZOFFSETFROM:-0500
TZOFFSETTO:-0400
TZNAME:EDT
DTSTART:20250309T070000
END:DAYLIGHT
BEGIN:STANDARD
TZOFFSETFROM:-0400
TZOFFSETTO:-0500
TZNAME:EST
DTSTART:20251102T060000
END:STANDARD
BEGIN:DAYLIGHT
TZOFFSETFROM:-0500
TZOFFSETTO:-0400
TZNAME:EDT
DTSTART:20260308T070000
END:DAYLIGHT
BEGIN:STANDARD
TZOFFSETFROM:-0400
TZOFFSETTO:-0500
TZNAME:EST
DTSTART:20261101T060000
END:STANDARD
BEGIN:DAYLIGHT
TZOFFSETFROM:-0500
TZOFFSETTO:-0400
TZNAME:EDT
DTSTART:20270314T070000
END:DAYLIGHT
BEGIN:STANDARD
TZOFFSETFROM:-0400
TZOFFSETTO:-0500
TZNAME:EST
DTSTART:20271107T060000
END:STANDARD
END:VTIMEZONE
BEGIN:VEVENT
DTSTART;TZID=America/New_York:20260609T160000
DTEND;TZID=America/New_York:20260609T180000
DTSTAMP:20260422T153136
CREATED:20260421T233019Z
LAST-MODIFIED:20260422T135503Z
UID:4059-1781020800-1781028000@skowheganoutdoors.com
SUMMARY:All-Levels Guided Mountain Bike Ride | June 9\, 2026
DESCRIPTION:Register!\n\n\n			All-Levels Guided Mountain Bike Ride\nJune 13 | 3:00pm – 5:00pm\nCoburn Woods\, Skowhegan\nJoin Skowhegan Outdoors for a guided mountain bike ride that welcomes a range of experience levels. This ride is a great chance to get on the trail\, build comfort on the bike\, and enjoy a supportive group experience outdoors. \nThanks to the trail maintenance in these areas done by Somerset Woods Trustees.
URL:https://skowheganoutdoors.com/event/all-levels-guided-mountain-bike-ride-june-9-2026/
LOCATION:Quarry Road\, Waterville\, United States
CATEGORIES:Explore,Family Focused,Free,Mountain biking
ATTACH;FMTTYPE=image/png:https://skowheganoutdoors.com/wp-content/uploads/2026/04/22.png
END:VEVENT
BEGIN:VEVENT
DTSTART;TZID=America/New_York:20260613T150000
DTEND;TZID=America/New_York:20260613T170000
DTSTAMP:20260422T153136
CREATED:20260421T233034Z
LAST-MODIFIED:20260422T135904Z
UID:4065-1781362800-1781370000@skowheganoutdoors.com
SUMMARY:All-Levels Guided Mountain Bike Ride | June 13\, 2026
DESCRIPTION:Register!\n\n\n			All-Levels Guided Mountain Bike Ride\nJune 13 | 3:00pm – 5:00pm\nCoburn Woods\, Skowhegan\nJoin Skowhegan Outdoors for a guided mountain bike ride that welcomes a range of experience levels. This ride is a great chance to get on the trail\, build comfort on the bike\, and enjoy a supportive group experience outdoors. \nThanks to the trail maintenance in these areas done by Somerset Woods Trustees.
URL:https://skowheganoutdoors.com/event/all-levels-guided-mountain-bike-ride-june-13-2026/
LOCATION:Coburn Woods\, Skowhegan\, United States
CATEGORIES:Explore,Free,June,Mountain biking,Somerset Woods Trustees
ATTACH;FMTTYPE=image/png:https://skowheganoutdoors.com/wp-content/uploads/2026/04/23.png
END:VEVENT
BEGIN:VEVENT
DTSTART;TZID=America/New_York:20260615T160000
DTEND;TZID=America/New_York:20260615T180000
DTSTAMP:20260422T153136
CREATED:20260421T233034Z
LAST-MODIFIED:20260422T140535Z
UID:4066-1781539200-1781546400@skowheganoutdoors.com
SUMMARY:All-Levels Guided Mountain Bike Ride | June 15\, 2026
DESCRIPTION:Register!\n\n\n			All-Levels Guided Mountain Bike Ride\nJune 13 | 3:00pm – 5:00pm\nCoburn Woods\, Skowhegan\nJoin Skowhegan Outdoors for a guided mountain bike ride that welcomes a range of experience levels. This ride is a great chance to get on the trail\, build comfort on the bike\, and enjoy a supportive group experience outdoors. \nThanks to the trail maintenance in these areas done by Somerset Woods Trustees.
URL:https://skowheganoutdoors.com/event/all-levels-guided-mountain-bike-ride-june-15-2026/
LOCATION:Quarry Road\, Waterville\, United States
CATEGORIES:Explore,Free,June,Mountain biking
ATTACH;FMTTYPE=image/png:https://skowheganoutdoors.com/wp-content/uploads/2026/04/Spring-2-Covers-6.png
END:VEVENT
END:VCALENDAR