BEGIN:VCALENDAR
VERSION:2.0
PRODID:-//Skowhegan Outdoors - ECPv6.15.20//NONSGML v1.0//EN
CALSCALE:GREGORIAN
METHOD:PUBLISH
X-ORIGINAL-URL:https://skowheganoutdoors.com
X-WR-CALDESC:Events for Skowhegan Outdoors
REFRESH-INTERVAL;VALUE=DURATION:PT1H
X-Robots-Tag:noindex
X-PUBLISHED-TTL:PT1H
BEGIN:VTIMEZONE
TZID:America/New_York
BEGIN:DAYLIGHT
TZOFFSETFROM:-0500
TZOFFSETTO:-0400
TZNAME:EDT
DTSTART:20250309T070000
END:DAYLIGHT
BEGIN:STANDARD
TZOFFSETFROM:-0400
TZOFFSETTO:-0500
TZNAME:EST
DTSTART:20251102T060000
END:STANDARD
BEGIN:DAYLIGHT
TZOFFSETFROM:-0500
TZOFFSETTO:-0400
TZNAME:EDT
DTSTART:20260308T070000
END:DAYLIGHT
BEGIN:STANDARD
TZOFFSETFROM:-0400
TZOFFSETTO:-0500
TZNAME:EST
DTSTART:20261101T060000
END:STANDARD
BEGIN:DAYLIGHT
TZOFFSETFROM:-0500
TZOFFSETTO:-0400
TZNAME:EDT
DTSTART:20270314T070000
END:DAYLIGHT
BEGIN:STANDARD
TZOFFSETFROM:-0400
TZOFFSETTO:-0500
TZNAME:EST
DTSTART:20271107T060000
END:STANDARD
END:VTIMEZONE
BEGIN:VEVENT
DTSTART;TZID=America/New_York:20260606T080000
DTEND;TZID=America/New_York:20260606T150000
DTSTAMP:20260422T074002
CREATED:20260421T233004Z
LAST-MODIFIED:20260421T233004Z
UID:4055-1780732800-1780758000@skowheganoutdoors.com
SUMMARY:Millinocket X-Treme Canoe Race | June 6\, 2026
DESCRIPTION:The Millinocket X-Treme Canoe Race is a classic paddling event that brings racers and river enthusiasts together for a full day on the water. It is a signature race-day experience for the paddling community.
URL:https://skowheganoutdoors.com/event/millinocket-x-treme-canoe-race-june-6-2026/
CATEGORIES:Elevate
END:VEVENT
BEGIN:VEVENT
DTSTART;TZID=America/New_York:20260610T170000
DTEND;TZID=America/New_York:20260610T190000
DTSTAMP:20260422T074002
CREATED:20260421T233019Z
LAST-MODIFIED:20260422T025548Z
UID:4061-1781110800-1781118000@skowheganoutdoors.com
SUMMARY:Basics of Whitewater Kayaking | June 10\, 2026
DESCRIPTION:Learn the Basics of Whitewater Kayaking\nMay 19 & 26 and June 10 | 5:00pm – 7:00pm\nCleaver Boat Landing\nCurious about whitewater kayaking? This introductory program is designed to help new paddlers build foundational skills\, get comfortable in and around the boat\, and learn in a supportive environment with instruction and guidance. \nAll gear available upon request. \nCleaver Boat Landing is maintained by Somerset Woods Trustees.
URL:https://skowheganoutdoors.com/event/basics-of-whitewater-kayaking-june-10-2026/
LOCATION:Cleaver Boat Landing\, Skowhegan\, United States
CATEGORIES:June,Learn,Paddling,Whitewater
ATTACH;FMTTYPE=image/png:https://skowheganoutdoors.com/wp-content/uploads/2026/04/13.png
END:VEVENT
BEGIN:VEVENT
DTSTART;TZID=America/New_York:20260619T130000
DTEND;TZID=America/New_York:20260619T180000
DTSTAMP:20260422T074002
CREATED:20260421T233049Z
LAST-MODIFIED:20260421T233049Z
UID:4070-1781874000-1781892000@skowheganoutdoors.com
SUMMARY:Skowhegan Gorge River Trips | June 19\, 2026
DESCRIPTION:Experience the Skowhegan Gorge on a guided river trip from Basecamp Gear Library to Cleaver Landing. This is a memorable chance to get on the water and see the river from a new perspective.
URL:https://skowheganoutdoors.com/event/skowhegan-gorge-river-trips-june-19-2026/
LOCATION:Basecamp Gear Library\, 65 Water St. (Riverside)\, Skowhegan\, ME\, 04976\, United States
CATEGORIES:Elevate
END:VEVENT
BEGIN:VEVENT
DTSTART;TZID=America/New_York:20260621T190000
DTEND;TZID=America/New_York:20260621T210000
DTSTAMP:20260422T074002
CREATED:20260421T233104Z
LAST-MODIFIED:20260421T233104Z
UID:4074-1782068400-1782075600@skowheganoutdoors.com
SUMMARY:Sunset Canoeing | June 21\, 2026
DESCRIPTION:Spend the evening paddling at Lake George East as the sun goes down. This relaxed outing is a beautiful way to experience the water and unwind.
URL:https://skowheganoutdoors.com/event/sunset-canoeing-june-21-2026/
LOCATION:Lake George East\, Canaan\, United States
CATEGORIES:Explore
END:VEVENT
BEGIN:VEVENT
DTSTART;TZID=America/New_York:20260623T140000
DTEND;TZID=America/New_York:20260623T160000
DTSTAMP:20260422T074002
CREATED:20260421T233119Z
LAST-MODIFIED:20260421T233119Z
UID:4078-1782223200-1782230400@skowheganoutdoors.com
SUMMARY:Basics of SUPing | June 23\, 2026
DESCRIPTION:Learn the basics of stand-up paddleboarding in this beginner-friendly session at Lake George East. Participants will build confidence with equipment\, balance\, and paddling skills.
URL:https://skowheganoutdoors.com/event/basics-of-suping-june-23-2026/
LOCATION:Lake George East\, Canaan\, United States
CATEGORIES:Learn
END:VEVENT
BEGIN:VEVENT
DTSTART;TZID=America/New_York:20260624T190000
DTEND;TZID=America/New_York:20260624T210000
DTSTAMP:20260422T074002
CREATED:20260421T233119Z
LAST-MODIFIED:20260421T233119Z
UID:4080-1782327600-1782334800@skowheganoutdoors.com
SUMMARY:Sunset Canoeing | June 24\, 2026
DESCRIPTION:Spend the evening paddling at Lake George East as the sun goes down. This relaxed outing is a beautiful way to experience the water and unwind.
URL:https://skowheganoutdoors.com/event/sunset-canoeing-june-24-2026/
LOCATION:Lake George East\, Canaan\, United States
CATEGORIES:Explore
END:VEVENT
BEGIN:VEVENT
DTSTART;TZID=America/New_York:20260626T130000
DTEND;TZID=America/New_York:20260626T180000
DTSTAMP:20260422T074002
CREATED:20260421T233134Z
LAST-MODIFIED:20260421T233134Z
UID:4084-1782478800-1782496800@skowheganoutdoors.com
SUMMARY:Skowhegan Gorge River Trips | June 26\, 2026
DESCRIPTION:Experience the Skowhegan Gorge on a guided river trip from Basecamp Gear Library to Cleaver Landing. This is a memorable chance to get on the water and see the river from a new perspective.
URL:https://skowheganoutdoors.com/event/skowhegan-gorge-river-trips-june-26-2026/
LOCATION:Basecamp Gear Library\, 65 Water St. (Riverside)\, Skowhegan\, ME\, 04976\, United States
CATEGORIES:Elevate
END:VEVENT
BEGIN:VEVENT
DTSTART;TZID=America/New_York:20260628T000000
DTEND;TZID=America/New_York:20260628T000000
DTSTAMP:20260422T074002
CREATED:20260421T233149Z
LAST-MODIFIED:20260421T233149Z
UID:4087-1782604800-1782604800@skowheganoutdoors.com
SUMMARY:Kennebec River Ramble | June 28\, 2026
DESCRIPTION:The Kennebec River Ramble is a featured paddling event that brings people together for a day on the river. More details can be added in WordPress if needed.
URL:https://skowheganoutdoors.com/event/kennebec-river-ramble-june-28-2026/
CATEGORIES:Elevate
END:VEVENT
BEGIN:VEVENT
DTSTART;TZID=America/New_York:20260629T193000
DTEND;TZID=America/New_York:20260629T213000
DTSTAMP:20260422T074002
CREATED:20260421T233149Z
LAST-MODIFIED:20260421T233149Z
UID:4089-1782761400-1782768600@skowheganoutdoors.com
SUMMARY:Full Moon Canoeing | June 29\, 2026
DESCRIPTION:Paddle under the evening sky during this special full moon canoe outing at Lake George East. It is a peaceful\, memorable way to experience the water at night.
URL:https://skowheganoutdoors.com/event/full-moon-canoeing-june-29-2026/
LOCATION:Lake George East\, Canaan\, United States
CATEGORIES:Explore
END:VEVENT
END:VCALENDAR