BEGIN:VCALENDAR
VERSION:2.0
PRODID:-//Skowhegan Outdoors - ECPv6.15.20//NONSGML v1.0//EN
CALSCALE:GREGORIAN
METHOD:PUBLISH
X-WR-CALNAME:Skowhegan Outdoors
X-ORIGINAL-URL:https://skowheganoutdoors.com
X-WR-CALDESC:Events for Skowhegan Outdoors
REFRESH-INTERVAL;VALUE=DURATION:PT1H
X-Robots-Tag:noindex
X-PUBLISHED-TTL:PT1H
BEGIN:VTIMEZONE
TZID:America/New_York
BEGIN:DAYLIGHT
TZOFFSETFROM:-0500
TZOFFSETTO:-0400
TZNAME:EDT
DTSTART:20250309T070000
END:DAYLIGHT
BEGIN:STANDARD
TZOFFSETFROM:-0400
TZOFFSETTO:-0500
TZNAME:EST
DTSTART:20251102T060000
END:STANDARD
BEGIN:DAYLIGHT
TZOFFSETFROM:-0500
TZOFFSETTO:-0400
TZNAME:EDT
DTSTART:20260308T070000
END:DAYLIGHT
BEGIN:STANDARD
TZOFFSETFROM:-0400
TZOFFSETTO:-0500
TZNAME:EST
DTSTART:20261101T060000
END:STANDARD
BEGIN:DAYLIGHT
TZOFFSETFROM:-0500
TZOFFSETTO:-0400
TZNAME:EDT
DTSTART:20270314T070000
END:DAYLIGHT
BEGIN:STANDARD
TZOFFSETFROM:-0400
TZOFFSETTO:-0500
TZNAME:EST
DTSTART:20271107T060000
END:STANDARD
END:VTIMEZONE
BEGIN:VEVENT
DTSTART;TZID=America/New_York:20260514T180000
DTEND;TZID=America/New_York:20260514T190000
DTSTAMP:20260422T054328
CREATED:20260421T232848Z
LAST-MODIFIED:20260421T232848Z
UID:4031-1778781600-1778785200@skowheganoutdoors.com
SUMMARY:Tree Identification & Basic Forest Management with Maine Forest Service | May 14\, 2026
DESCRIPTION:Learn to identify common tree species and explore the basics of forest management with the Maine Forest Service. This program offers approachable outdoor education for land stewards and curious learners alike.
URL:https://skowheganoutdoors.com/event/tree-identification-basic-forest-management-with-maine-forest-service-may-14-2026/
LOCATION:Unwined\, Skowhegan\, United States
CATEGORIES:Learn
END:VEVENT
BEGIN:VEVENT
DTSTART;TZID=America/New_York:20260622T090000
DTEND;TZID=America/New_York:20260622T130000
DTSTAMP:20260422T054328
CREATED:20260421T233104Z
LAST-MODIFIED:20260421T233104Z
UID:4075-1782118800-1782133200@skowheganoutdoors.com
SUMMARY:Tweens & Teens Bug Week | June 22\, 2026
DESCRIPTION:Bug Week invites tweens and teens to explore the outdoors through hands-on learning and themed activities. This daytime program blends curiosity\, fun\, and time outside.
URL:https://skowheganoutdoors.com/event/tweens-teens-bug-week-june-22-2026/
LOCATION:Basecamp Gear Library\, 65 Water St. (Riverside)\, Skowhegan\, ME\, 04976\, United States
CATEGORIES:Learn
END:VEVENT
END:VCALENDAR