BEGIN:VCALENDAR
VERSION:2.0
PRODID:-//Skowhegan Outdoors - ECPv6.15.20//NONSGML v1.0//EN
CALSCALE:GREGORIAN
METHOD:PUBLISH
X-WR-CALNAME:Skowhegan Outdoors
X-ORIGINAL-URL:https://skowheganoutdoors.com
X-WR-CALDESC:Events for Skowhegan Outdoors
REFRESH-INTERVAL;VALUE=DURATION:PT1H
X-Robots-Tag:noindex
X-PUBLISHED-TTL:PT1H
BEGIN:VTIMEZONE
TZID:America/New_York
BEGIN:DAYLIGHT
TZOFFSETFROM:-0500
TZOFFSETTO:-0400
TZNAME:EDT
DTSTART:20250309T070000
END:DAYLIGHT
BEGIN:STANDARD
TZOFFSETFROM:-0400
TZOFFSETTO:-0500
TZNAME:EST
DTSTART:20251102T060000
END:STANDARD
BEGIN:DAYLIGHT
TZOFFSETFROM:-0500
TZOFFSETTO:-0400
TZNAME:EDT
DTSTART:20260308T070000
END:DAYLIGHT
BEGIN:STANDARD
TZOFFSETFROM:-0400
TZOFFSETTO:-0500
TZNAME:EST
DTSTART:20261101T060000
END:STANDARD
BEGIN:DAYLIGHT
TZOFFSETFROM:-0500
TZOFFSETTO:-0400
TZNAME:EDT
DTSTART:20270314T070000
END:DAYLIGHT
BEGIN:STANDARD
TZOFFSETFROM:-0400
TZOFFSETTO:-0500
TZNAME:EST
DTSTART:20271107T060000
END:STANDARD
END:VTIMEZONE
BEGIN:VEVENT
DTSTART;TZID=America/New_York:20260622T090000
DTEND;TZID=America/New_York:20260624T130000
DTSTAMP:20260422T173416
CREATED:20260421T233104Z
LAST-MODIFIED:20260422T150217Z
UID:4075-1782118800-1782306000@skowheganoutdoors.com
SUMMARY:Tweens & Teens Bug Week | June 22 - 24\, 2026
DESCRIPTION:Register!\n\n\n			Tweens & Teens Bug WeekJune 22-24\, 20269:00am – 1:00pm\nTweens Bug Week is a playful\, hands-on outdoor program all about insects\, discovery\, and curiosity. Participants will spend the week learning about bugs through fun lessons\, outdoor exploration\, games\, and close-up observation while building comfort and confidence outside. \nThis program is designed for tweens who like to ask questions\, look closely\, and get their hands dirty. Expect a mix of nature-based learning\, time on the move\, and activities that make the outdoors feel exciting\, approachable\, and fun.
URL:https://skowheganoutdoors.com/event/tweens-teens-bug-week-june-22-2026/
LOCATION:Basecamp Gear Library\, 65 Water St. (Riverside)\, Skowhegan\, ME\, 04976\, United States
CATEGORIES:Family Focused,Free,June,Learn
ATTACH;FMTTYPE=image/png:https://skowheganoutdoors.com/wp-content/uploads/2026/04/29.png
END:VEVENT
END:VCALENDAR