BEGIN:VCALENDAR
VERSION:2.0
PRODID:-//Skowhegan Outdoors - ECPv6.15.20//NONSGML v1.0//EN
CALSCALE:GREGORIAN
METHOD:PUBLISH
X-WR-CALNAME:Skowhegan Outdoors
X-ORIGINAL-URL:https://skowheganoutdoors.com
X-WR-CALDESC:Events for Skowhegan Outdoors
REFRESH-INTERVAL;VALUE=DURATION:PT1H
X-Robots-Tag:noindex
X-PUBLISHED-TTL:PT1H
BEGIN:VTIMEZONE
TZID:America/New_York
BEGIN:DAYLIGHT
TZOFFSETFROM:-0500
TZOFFSETTO:-0400
TZNAME:EDT
DTSTART:20250309T070000
END:DAYLIGHT
BEGIN:STANDARD
TZOFFSETFROM:-0400
TZOFFSETTO:-0500
TZNAME:EST
DTSTART:20251102T060000
END:STANDARD
BEGIN:DAYLIGHT
TZOFFSETFROM:-0500
TZOFFSETTO:-0400
TZNAME:EDT
DTSTART:20260308T070000
END:DAYLIGHT
BEGIN:STANDARD
TZOFFSETFROM:-0400
TZOFFSETTO:-0500
TZNAME:EST
DTSTART:20261101T060000
END:STANDARD
BEGIN:DAYLIGHT
TZOFFSETFROM:-0500
TZOFFSETTO:-0400
TZNAME:EDT
DTSTART:20270314T070000
END:DAYLIGHT
BEGIN:STANDARD
TZOFFSETFROM:-0400
TZOFFSETTO:-0500
TZNAME:EST
DTSTART:20271107T060000
END:STANDARD
END:VTIMEZONE
BEGIN:VEVENT
DTSTART;TZID=America/New_York:20260518T173000
DTEND;TZID=America/New_York:20260518T190000
DTSTAMP:20260422T055826
CREATED:20260421T232904Z
LAST-MODIFIED:20260422T024706Z
UID:4035-1779125400-1779130800@skowheganoutdoors.com
SUMMARY:Volunteer Appreciation BBQ | May 18\, 2026
DESCRIPTION:Register!\n\n\n			Volunteer Appreciation Community Dinner BBQ\nMay 18 | 5:30pm – 7:00pm\nBasecamp Gear Library\nCome celebrate the people who help make this work possible. This BBQ is a chance to gather\, connect\, and thank volunteers for the time\, energy\, and care they bring to Main Street Skowhegan and the broader community.
URL:https://skowheganoutdoors.com/event/volunteer-appreciation-bbq-may-18-2026/
LOCATION:Basecamp Gear Library\, 65 Water St. (Riverside)\, Skowhegan\, ME\, 04976\, United States
CATEGORIES:Free,Gather,May
ATTACH;FMTTYPE=image/png:https://skowheganoutdoors.com/wp-content/uploads/2026/04/12.png
END:VEVENT
END:VCALENDAR