BEGIN:VCALENDAR
VERSION:2.0
PRODID:-//Skowhegan Outdoors - ECPv6.15.20//NONSGML v1.0//EN
CALSCALE:GREGORIAN
METHOD:PUBLISH
X-WR-CALNAME:Skowhegan Outdoors
X-ORIGINAL-URL:https://skowheganoutdoors.com
X-WR-CALDESC:Events for Skowhegan Outdoors
REFRESH-INTERVAL;VALUE=DURATION:PT1H
X-Robots-Tag:noindex
X-PUBLISHED-TTL:PT1H
BEGIN:VTIMEZONE
TZID:America/New_York
BEGIN:DAYLIGHT
TZOFFSETFROM:-0500
TZOFFSETTO:-0400
TZNAME:EDT
DTSTART:20240310T070000
END:DAYLIGHT
BEGIN:STANDARD
TZOFFSETFROM:-0400
TZOFFSETTO:-0500
TZNAME:EST
DTSTART:20241103T060000
END:STANDARD
BEGIN:DAYLIGHT
TZOFFSETFROM:-0500
TZOFFSETTO:-0400
TZNAME:EDT
DTSTART:20250309T070000
END:DAYLIGHT
BEGIN:STANDARD
TZOFFSETFROM:-0400
TZOFFSETTO:-0500
TZNAME:EST
DTSTART:20251102T060000
END:STANDARD
BEGIN:DAYLIGHT
TZOFFSETFROM:-0500
TZOFFSETTO:-0400
TZNAME:EDT
DTSTART:20260308T070000
END:DAYLIGHT
BEGIN:STANDARD
TZOFFSETFROM:-0400
TZOFFSETTO:-0500
TZNAME:EST
DTSTART:20261101T060000
END:STANDARD
END:VTIMEZONE
BEGIN:VEVENT
DTSTART;VALUE=DATE:20251024
DTEND;VALUE=DATE:20251027
DTSTAMP:20260425T120110
CREATED:20251029T175032Z
LAST-MODIFIED:20251029T175032Z
UID:3065-1761264000-1761523199@skowheganoutdoors.com
SUMMARY:Thanksgiving Food Drive Drop-Off
DESCRIPTION:Register!\n\n\n			Fresh Air Fridays\n12:00pm – 1:00pm @ Coburn Park\, Skowhegan\nMay 1\, 8\, 15 & June 12\, 19\, 26\nCost: Free\nFresh Air Fridays are a simple way to get outside\, move your body\, and enjoy a midday break in community. Join Skowhegan Outdoors for a relaxed hour outdoors that is open to all experience levels and designed to make getting outside feel easy and approachable
URL:https://skowheganoutdoors.com/event/thanksgiving-food-drive-drop-off/
LOCATION:Skowhegan Outdoors Basecamp\, 65 Water Street\, Skowhegan\, ME\, United States
CATEGORIES:Gather
ATTACH;FMTTYPE=image/png:https://skowheganoutdoors.com/wp-content/uploads/2025/10/12.png
END:VEVENT
BEGIN:VEVENT
DTSTART;TZID=America/New_York:20251024T193000
DTEND;TZID=America/New_York:20251024T210000
DTSTAMP:20260425T120110
CREATED:20251008T195553Z
LAST-MODIFIED:20251014T194324Z
UID:2839-1761334200-1761339600@skowheganoutdoors.com
SUMMARY:Outdoor Movie Night: Casper
DESCRIPTION:Register!\n\n\n			Fresh Air Fridays\n12:00pm – 1:00pm @ Coburn Park\, Skowhegan\nMay 1\, 8\, 15 & June 12\, 19\, 26\nCost: Free\nFresh Air Fridays are a simple way to get outside\, move your body\, and enjoy a midday break in community. Join Skowhegan Outdoors for a relaxed hour outdoors that is open to all experience levels and designed to make getting outside feel easy and approachable
URL:https://skowheganoutdoors.com/event/outdoor-movie-night-casper/
LOCATION:Greenspace\, 151 Water Street\, Skowhegan\, ME\, 04976\, United States
ATTACH;FMTTYPE=image/png:https://skowheganoutdoors.com/wp-content/uploads/2025/10/Casper.png
ORGANIZER;CN="autumn@mainstreetskowhegan.org":MAILTO:autumn@mainstreetskowhegan.org
END:VEVENT
BEGIN:VEVENT
DTSTART;TZID=America/New_York:20251025T090000
DTEND;TZID=America/New_York:20251025T120000
DTSTAMP:20260425T120110
CREATED:20251008T195554Z
LAST-MODIFIED:20251014T194109Z
UID:2841-1761382800-1761393600@skowheganoutdoors.com
SUMMARY:Firewood Frenzy w/SWT
DESCRIPTION:Register!\n\n\n			Fresh Air Fridays\n12:00pm – 1:00pm @ Coburn Park\, Skowhegan\nMay 1\, 8\, 15 & June 12\, 19\, 26\nCost: Free\nFresh Air Fridays are a simple way to get outside\, move your body\, and enjoy a midday break in community. Join Skowhegan Outdoors for a relaxed hour outdoors that is open to all experience levels and designed to make getting outside feel easy and approachable
URL:https://skowheganoutdoors.com/event/firewood-frenzy-w-swt-2/
LOCATION:Parkman Hill Farm\, 380 Parkman Hill Rd\, Solon\, ME\, United States
ATTACH;FMTTYPE=image/png:https://skowheganoutdoors.com/wp-content/uploads/2025/10/FireFrenzy.png
ORGANIZER;CN="autumn@mainstreetskowhegan.org":MAILTO:autumn@mainstreetskowhegan.org
END:VEVENT
BEGIN:VEVENT
DTSTART;TZID=America/New_York:20251025T090000
DTEND;TZID=America/New_York:20251025T130000
DTSTAMP:20260425T120110
CREATED:20251008T195554Z
LAST-MODIFIED:20251008T195600Z
UID:2842-1761382800-1761397200@skowheganoutdoors.com
SUMMARY:Skowhegan Farmers Market
DESCRIPTION:Register!\n\n\n			Fresh Air Fridays\n12:00pm – 1:00pm @ Coburn Park\, Skowhegan\nMay 1\, 8\, 15 & June 12\, 19\, 26\nCost: Free\nFresh Air Fridays are a simple way to get outside\, move your body\, and enjoy a midday break in community. Join Skowhegan Outdoors for a relaxed hour outdoors that is open to all experience levels and designed to make getting outside feel easy and approachable
URL:https://skowheganoutdoors.com/event/skowhegan-farmers-market-2/
LOCATION:ME
ORGANIZER;CN="amber@mainstreetskowhegan.org":MAILTO:amber@mainstreetskowhegan.org
END:VEVENT
BEGIN:VEVENT
DTSTART;TZID=America/New_York:20251026T080000
DTEND;TZID=America/New_York:20251026T170000
DTSTAMP:20260425T120110
CREATED:20251008T195554Z
LAST-MODIFIED:20251014T183109Z
UID:2843-1761465600-1761498000@skowheganoutdoors.com
SUMMARY:Saddleback Mountain Hike
DESCRIPTION:Register!\n\n\n			Fresh Air Fridays\n12:00pm – 1:00pm @ Coburn Park\, Skowhegan\nMay 1\, 8\, 15 & June 12\, 19\, 26\nCost: Free\nFresh Air Fridays are a simple way to get outside\, move your body\, and enjoy a midday break in community. Join Skowhegan Outdoors for a relaxed hour outdoors that is open to all experience levels and designed to make getting outside feel easy and approachable
URL:https://skowheganoutdoors.com/event/saddleback-mountain-hike/
LOCATION:Skowhegan Outdoors Basecamp\, 65 Water Street\, Skowhegan\, ME\, United States
CATEGORIES:Hike
ATTACH;FMTTYPE=image/png:https://skowheganoutdoors.com/wp-content/uploads/2025/10/saddlebackHike.png
ORGANIZER;CN="autumn@mainstreetskowhegan.org":MAILTO:autumn@mainstreetskowhegan.org
END:VEVENT
BEGIN:VEVENT
DTSTART;TZID=America/New_York:20251027T090000
DTEND;TZID=America/New_York:20251027T120000
DTSTAMP:20260425T120110
CREATED:20251008T195554Z
LAST-MODIFIED:20251008T195601Z
UID:2844-1761555600-1761566400@skowheganoutdoors.com
SUMMARY:Greenspace Clean Up
DESCRIPTION:Register!\n\n\n			Fresh Air Fridays\n12:00pm – 1:00pm @ Coburn Park\, Skowhegan\nMay 1\, 8\, 15 & June 12\, 19\, 26\nCost: Free\nFresh Air Fridays are a simple way to get outside\, move your body\, and enjoy a midday break in community. Join Skowhegan Outdoors for a relaxed hour outdoors that is open to all experience levels and designed to make getting outside feel easy and approachable
URL:https://skowheganoutdoors.com/event/greenspace-clean-up/
LOCATION:ME
ORGANIZER;CN="amber@mainstreetskowhegan.org":MAILTO:amber@mainstreetskowhegan.org
END:VEVENT
BEGIN:VEVENT
DTSTART;TZID=America/New_York:20251027T170000
DTEND;TZID=America/New_York:20251027T180000
DTSTAMP:20260425T120110
CREATED:20251008T195554Z
LAST-MODIFIED:20251014T182918Z
UID:2845-1761584400-1761588000@skowheganoutdoors.com
SUMMARY:Rucksack Walk
DESCRIPTION:Register!\n\n\n			Fresh Air Fridays\n12:00pm – 1:00pm @ Coburn Park\, Skowhegan\nMay 1\, 8\, 15 & June 12\, 19\, 26\nCost: Free\nFresh Air Fridays are a simple way to get outside\, move your body\, and enjoy a midday break in community. Join Skowhegan Outdoors for a relaxed hour outdoors that is open to all experience levels and designed to make getting outside feel easy and approachable
URL:https://skowheganoutdoors.com/event/rucksack-walk-3/
LOCATION:Skowhegan Outdoors Basecamp\, 65 Water Street\, Skowhegan\, ME\, United States
CATEGORIES:Hike
ATTACH;FMTTYPE=image/png:https://skowheganoutdoors.com/wp-content/uploads/2025/10/RucksackeOct.png
ORGANIZER;CN="autumn@mainstreetskowhegan.org":MAILTO:autumn@mainstreetskowhegan.org
END:VEVENT
BEGIN:VEVENT
DTSTART;TZID=America/New_York:20251028T170000
DTEND;TZID=America/New_York:20251028T180000
DTSTAMP:20260425T120110
CREATED:20251008T195555Z
LAST-MODIFIED:20251014T182246Z
UID:2846-1761670800-1761674400@skowheganoutdoors.com
SUMMARY:Sunset Run
DESCRIPTION:Register!\n\n\n			Fresh Air Fridays\n12:00pm – 1:00pm @ Coburn Park\, Skowhegan\nMay 1\, 8\, 15 & June 12\, 19\, 26\nCost: Free\nFresh Air Fridays are a simple way to get outside\, move your body\, and enjoy a midday break in community. Join Skowhegan Outdoors for a relaxed hour outdoors that is open to all experience levels and designed to make getting outside feel easy and approachable
URL:https://skowheganoutdoors.com/event/sunset-run-3/
LOCATION:Skowhegan Outdoors Basecamp\, 65 Water Street\, Skowhegan\, ME\, United States
CATEGORIES:Running
ATTACH;FMTTYPE=image/png:https://skowheganoutdoors.com/wp-content/uploads/2025/10/SunsetRun.png
ORGANIZER;CN="autumn@mainstreetskowhegan.org":MAILTO:autumn@mainstreetskowhegan.org
END:VEVENT
BEGIN:VEVENT
DTSTART;TZID=America/New_York:20251029T170000
DTEND;TZID=America/New_York:20251029T183000
DTSTAMP:20260425T120110
CREATED:20251008T195555Z
LAST-MODIFIED:20251008T195601Z
UID:2848-1761757200-1761762600@skowheganoutdoors.com
SUMMARY:Community Yoga
DESCRIPTION:Register!\n\n\n			Fresh Air Fridays\n12:00pm – 1:00pm @ Coburn Park\, Skowhegan\nMay 1\, 8\, 15 & June 12\, 19\, 26\nCost: Free\nFresh Air Fridays are a simple way to get outside\, move your body\, and enjoy a midday break in community. Join Skowhegan Outdoors for a relaxed hour outdoors that is open to all experience levels and designed to make getting outside feel easy and approachable
URL:https://skowheganoutdoors.com/event/community-yoga-5/
LOCATION:27 Parkman Hill Rd\, Skowhegan\, ME\, United States
ORGANIZER;CN="autumn@mainstreetskowhegan.org":MAILTO:autumn@mainstreetskowhegan.org
END:VEVENT
BEGIN:VEVENT
DTSTART;TZID=America/New_York:20251030T170000
DTEND;TZID=America/New_York:20251030T180000
DTSTAMP:20260425T120110
CREATED:20251008T195555Z
LAST-MODIFIED:20251014T193048Z
UID:2849-1761843600-1761847200@skowheganoutdoors.com
SUMMARY:Spooky Geocaching
DESCRIPTION:Register!\n\n\n			Fresh Air Fridays\n12:00pm – 1:00pm @ Coburn Park\, Skowhegan\nMay 1\, 8\, 15 & June 12\, 19\, 26\nCost: Free\nFresh Air Fridays are a simple way to get outside\, move your body\, and enjoy a midday break in community. Join Skowhegan Outdoors for a relaxed hour outdoors that is open to all experience levels and designed to make getting outside feel easy and approachable
URL:https://skowheganoutdoors.com/event/spooky-geocaching/
LOCATION:Skowhegan Outdoors Basecamp\, 65 Water Street\, Skowhegan\, ME\, United States
CATEGORIES:Family Focused
ATTACH;FMTTYPE=image/png:https://skowheganoutdoors.com/wp-content/uploads/2025/10/SpookyGeo.png
ORGANIZER;CN="autumn@mainstreetskowhegan.org":MAILTO:autumn@mainstreetskowhegan.org
END:VEVENT
BEGIN:VEVENT
DTSTART;TZID=America/New_York:20251102T100000
DTEND;TZID=America/New_York:20251102T120000
DTSTAMP:20260425T120110
CREATED:20251029T154034Z
LAST-MODIFIED:20251029T200212Z
UID:3005-1762077600-1762084800@skowheganoutdoors.com
SUMMARY:Learn to Mountain Bike
DESCRIPTION:Register!\n\n\n			Fresh Air Fridays\n12:00pm – 1:00pm @ Coburn Park\, Skowhegan\nMay 1\, 8\, 15 & June 12\, 19\, 26\nCost: Free\nFresh Air Fridays are a simple way to get outside\, move your body\, and enjoy a midday break in community. Join Skowhegan Outdoors for a relaxed hour outdoors that is open to all experience levels and designed to make getting outside feel easy and approachable
URL:https://skowheganoutdoors.com/event/learn-to-mountain-bike/
LOCATION:ME
CATEGORIES:Learn,Mountain biking
ATTACH;FMTTYPE=image/png:https://skowheganoutdoors.com/wp-content/uploads/2025/10/1.png
END:VEVENT
BEGIN:VEVENT
DTSTART;TZID=America/New_York:20251103T170000
DTEND;TZID=America/New_York:20251103T180000
DTSTAMP:20260425T120110
CREATED:20251029T154454Z
LAST-MODIFIED:20251029T154815Z
UID:3023-1762189200-1762192800@skowheganoutdoors.com
SUMMARY:Headlamp Rucksack Walk
DESCRIPTION:Register!\n\n\n			Fresh Air Fridays\n12:00pm – 1:00pm @ Coburn Park\, Skowhegan\nMay 1\, 8\, 15 & June 12\, 19\, 26\nCost: Free\nFresh Air Fridays are a simple way to get outside\, move your body\, and enjoy a midday break in community. Join Skowhegan Outdoors for a relaxed hour outdoors that is open to all experience levels and designed to make getting outside feel easy and approachable
URL:https://skowheganoutdoors.com/event/headlamp-rucksack-walk/
LOCATION:Skowhegan Outdoors Basecamp\, 65 Water Street\, Skowhegan\, ME\, United States
CATEGORIES:Explore,Fitness,Hike
ATTACH;FMTTYPE=image/png:https://skowheganoutdoors.com/wp-content/uploads/2025/10/3.png
END:VEVENT
BEGIN:VEVENT
DTSTART;TZID=America/New_York:20251104T170000
DTEND;TZID=America/New_York:20251104T180000
DTSTAMP:20260425T120110
CREATED:20251029T155116Z
LAST-MODIFIED:20251029T155116Z
UID:3026-1762275600-1762279200@skowheganoutdoors.com
SUMMARY:Sunset Run with Kay Active Fitness
DESCRIPTION:Register!\n\n\n			Fresh Air Fridays\n12:00pm – 1:00pm @ Coburn Park\, Skowhegan\nMay 1\, 8\, 15 & June 12\, 19\, 26\nCost: Free\nFresh Air Fridays are a simple way to get outside\, move your body\, and enjoy a midday break in community. Join Skowhegan Outdoors for a relaxed hour outdoors that is open to all experience levels and designed to make getting outside feel easy and approachable
URL:https://skowheganoutdoors.com/event/sunset-run-with-kay-active-fitness/
LOCATION:ME
CATEGORIES:Elevate,Fitness,Running
ATTACH;FMTTYPE=image/png:https://skowheganoutdoors.com/wp-content/uploads/2025/10/4.png
END:VEVENT
BEGIN:VEVENT
DTSTART;TZID=America/New_York:20251105T170000
DTEND;TZID=America/New_York:20251105T183000
DTSTAMP:20260425T120110
CREATED:20251029T170952Z
LAST-MODIFIED:20251029T195746Z
UID:3029-1762362000-1762367400@skowheganoutdoors.com
SUMMARY:Community Yoga
DESCRIPTION:Register!\n\n\n			Fresh Air Fridays\n12:00pm – 1:00pm @ Coburn Park\, Skowhegan\nMay 1\, 8\, 15 & June 12\, 19\, 26\nCost: Free\nFresh Air Fridays are a simple way to get outside\, move your body\, and enjoy a midday break in community. Join Skowhegan Outdoors for a relaxed hour outdoors that is open to all experience levels and designed to make getting outside feel easy and approachable
URL:https://skowheganoutdoors.com/event/community-yoga-6/
LOCATION:27 Parkman Hill Rd\, Skowhegan\, ME\, United States
CATEGORIES:Gather,Yoga
ATTACH;FMTTYPE=image/png:https://skowheganoutdoors.com/wp-content/uploads/2025/10/2.png
END:VEVENT
BEGIN:VEVENT
DTSTART;TZID=America/New_York:20251106T180000
DTEND;TZID=America/New_York:20251106T193000
DTSTAMP:20260425T120110
CREATED:20251029T171227Z
LAST-MODIFIED:20251029T171227Z
UID:3031-1762452000-1762457400@skowheganoutdoors.com
SUMMARY:Basics of Ski Tuning
DESCRIPTION:Register!\n\n\n			Fresh Air Fridays\n12:00pm – 1:00pm @ Coburn Park\, Skowhegan\nMay 1\, 8\, 15 & June 12\, 19\, 26\nCost: Free\nFresh Air Fridays are a simple way to get outside\, move your body\, and enjoy a midday break in community. Join Skowhegan Outdoors for a relaxed hour outdoors that is open to all experience levels and designed to make getting outside feel easy and approachable
URL:https://skowheganoutdoors.com/event/basics-of-ski-tuning/
LOCATION:Skowhegan Outdoors Basecamp\, 65 Water Street\, Skowhegan\, ME\, United States
CATEGORIES:Cross-Country Skiing,Learn
ATTACH;FMTTYPE=image/png:https://skowheganoutdoors.com/wp-content/uploads/2025/10/5.png
END:VEVENT
BEGIN:VEVENT
DTSTART;TZID=America/New_York:20251107T100000
DTEND;TZID=America/New_York:20251107T120000
DTSTAMP:20260425T120110
CREATED:20251029T171415Z
LAST-MODIFIED:20251029T171415Z
UID:3033-1762509600-1762516800@skowheganoutdoors.com
SUMMARY:Trail Maintenance Workshop with Somerset Woods Trustees
DESCRIPTION:Register!\n\n\n			Fresh Air Fridays\n12:00pm – 1:00pm @ Coburn Park\, Skowhegan\nMay 1\, 8\, 15 & June 12\, 19\, 26\nCost: Free\nFresh Air Fridays are a simple way to get outside\, move your body\, and enjoy a midday break in community. Join Skowhegan Outdoors for a relaxed hour outdoors that is open to all experience levels and designed to make getting outside feel easy and approachable
URL:https://skowheganoutdoors.com/event/trail-maintenance-workshop-with-somerset-woods-trustees/
LOCATION:ME
CATEGORIES:Learn
ATTACH;FMTTYPE=image/png:https://skowheganoutdoors.com/wp-content/uploads/2025/10/7.png
END:VEVENT
BEGIN:VEVENT
DTSTART;TZID=America/New_York:20251109T110000
DTEND;TZID=America/New_York:20251109T130000
DTSTAMP:20260425T120110
CREATED:20251029T171605Z
LAST-MODIFIED:20251029T171605Z
UID:3035-1762686000-1762693200@skowheganoutdoors.com
SUMMARY:Explore Coburn Woods: Walk or Ride
DESCRIPTION:Register!\n\n\n			Fresh Air Fridays\n12:00pm – 1:00pm @ Coburn Park\, Skowhegan\nMay 1\, 8\, 15 & June 12\, 19\, 26\nCost: Free\nFresh Air Fridays are a simple way to get outside\, move your body\, and enjoy a midday break in community. Join Skowhegan Outdoors for a relaxed hour outdoors that is open to all experience levels and designed to make getting outside feel easy and approachable
URL:https://skowheganoutdoors.com/event/explore-coburn-woods-walk-or-ride/
LOCATION:ME
CATEGORIES:Explore,Family Focused,Fitness,Hike,Mountain biking,Running
ATTACH;FMTTYPE=image/png:https://skowheganoutdoors.com/wp-content/uploads/2025/10/6.png
END:VEVENT
BEGIN:VEVENT
DTSTART;TZID=America/New_York:20251109T130000
DTEND;TZID=America/New_York:20251109T160000
DTSTAMP:20260425T120110
CREATED:20251029T171744Z
LAST-MODIFIED:20251029T195847Z
UID:3037-1762693200-1762704000@skowheganoutdoors.com
SUMMARY:Coburn Woods Clean-Up with Somerset Woods Trustees
DESCRIPTION:Register!\n\n\n			Fresh Air Fridays\n12:00pm – 1:00pm @ Coburn Park\, Skowhegan\nMay 1\, 8\, 15 & June 12\, 19\, 26\nCost: Free\nFresh Air Fridays are a simple way to get outside\, move your body\, and enjoy a midday break in community. Join Skowhegan Outdoors for a relaxed hour outdoors that is open to all experience levels and designed to make getting outside feel easy and approachable
URL:https://skowheganoutdoors.com/event/coburn-woods-clean-up-with-somerset-woods-trustees/
LOCATION:ME
ATTACH;FMTTYPE=image/png:https://skowheganoutdoors.com/wp-content/uploads/2025/10/8.png
END:VEVENT
BEGIN:VEVENT
DTSTART;TZID=America/New_York:20251110T170000
DTEND;TZID=America/New_York:20251110T180000
DTSTAMP:20260425T120110
CREATED:20251029T171947Z
LAST-MODIFIED:20251029T171947Z
UID:3039-1762794000-1762797600@skowheganoutdoors.com
SUMMARY:Headlamp Rucksack Walk with Kay Active Fitness
DESCRIPTION:Register!\n\n\n			Fresh Air Fridays\n12:00pm – 1:00pm @ Coburn Park\, Skowhegan\nMay 1\, 8\, 15 & June 12\, 19\, 26\nCost: Free\nFresh Air Fridays are a simple way to get outside\, move your body\, and enjoy a midday break in community. Join Skowhegan Outdoors for a relaxed hour outdoors that is open to all experience levels and designed to make getting outside feel easy and approachable
URL:https://skowheganoutdoors.com/event/headlamp-rucksack-walk-with-kay-active-fitness/
LOCATION:Skowhegan Outdoors Basecamp\, 65 Water Street\, Skowhegan\, ME\, United States
CATEGORIES:Explore,Hike
ATTACH;FMTTYPE=image/png:https://skowheganoutdoors.com/wp-content/uploads/2025/10/3.png
END:VEVENT
BEGIN:VEVENT
DTSTART;VALUE=DATE:20251111
DTEND;VALUE=DATE:20251112
DTSTAMP:20260425T120110
CREATED:20251029T172210Z
LAST-MODIFIED:20251029T172229Z
UID:3043-1762819200-1762905599@skowheganoutdoors.com
SUMMARY:Basecamp Gear Library Closed
DESCRIPTION:Register!\n\n\n			Fresh Air Fridays\n12:00pm – 1:00pm @ Coburn Park\, Skowhegan\nMay 1\, 8\, 15 & June 12\, 19\, 26\nCost: Free\nFresh Air Fridays are a simple way to get outside\, move your body\, and enjoy a midday break in community. Join Skowhegan Outdoors for a relaxed hour outdoors that is open to all experience levels and designed to make getting outside feel easy and approachable
URL:https://skowheganoutdoors.com/event/basecamp-gear-library-closed-11-11-25/
LOCATION:ME
END:VEVENT
BEGIN:VEVENT
DTSTART;TZID=America/New_York:20251112T170000
DTEND;TZID=America/New_York:20251112T183000
DTSTAMP:20260425T120110
CREATED:20251029T172146Z
LAST-MODIFIED:20251029T172146Z
UID:3041-1762966800-1762972200@skowheganoutdoors.com
SUMMARY:Community Yoga
DESCRIPTION:Register!\n\n\n			Fresh Air Fridays\n12:00pm – 1:00pm @ Coburn Park\, Skowhegan\nMay 1\, 8\, 15 & June 12\, 19\, 26\nCost: Free\nFresh Air Fridays are a simple way to get outside\, move your body\, and enjoy a midday break in community. Join Skowhegan Outdoors for a relaxed hour outdoors that is open to all experience levels and designed to make getting outside feel easy and approachable
URL:https://skowheganoutdoors.com/event/community-yoga-7/
LOCATION:ME
CATEGORIES:Fitness,Gather,Yoga
ATTACH;FMTTYPE=image/png:https://skowheganoutdoors.com/wp-content/uploads/2025/10/2.png
END:VEVENT
BEGIN:VEVENT
DTSTART;TZID=America/New_York:20251113T180000
DTEND;TZID=America/New_York:20251113T193000
DTSTAMP:20260425T120110
CREATED:20251029T172443Z
LAST-MODIFIED:20251029T172443Z
UID:3045-1763056800-1763062200@skowheganoutdoors.com
SUMMARY:Bugs and Brews: Learn Fly-Tying
DESCRIPTION:Register!\n\n\n			Fresh Air Fridays\n12:00pm – 1:00pm @ Coburn Park\, Skowhegan\nMay 1\, 8\, 15 & June 12\, 19\, 26\nCost: Free\nFresh Air Fridays are a simple way to get outside\, move your body\, and enjoy a midday break in community. Join Skowhegan Outdoors for a relaxed hour outdoors that is open to all experience levels and designed to make getting outside feel easy and approachable
URL:https://skowheganoutdoors.com/event/bugs-and-brews-learn-fly-tying/
LOCATION:Skowhegan Outdoors Basecamp\, 65 Water Street\, Skowhegan\, ME\, United States
CATEGORIES:Family Focused,Fly Fishing,Learn
ATTACH;FMTTYPE=image/png:https://skowheganoutdoors.com/wp-content/uploads/2025/10/9.png
END:VEVENT
BEGIN:VEVENT
DTSTART;TZID=America/New_York:20251115T050000
DTEND;TZID=America/New_York:20251115T210000
DTSTAMP:20260425T120110
CREATED:20251008T195555Z
LAST-MODIFIED:20251103T172206Z
UID:2851-1763182800-1763240400@skowheganoutdoors.com
SUMMARY:Roaring Into Our 20s: MSS 20th Anniversary Party
DESCRIPTION:Register!\n\n\n			Fresh Air Fridays\n12:00pm – 1:00pm @ Coburn Park\, Skowhegan\nMay 1\, 8\, 15 & June 12\, 19\, 26\nCost: Free\nFresh Air Fridays are a simple way to get outside\, move your body\, and enjoy a midday break in community. Join Skowhegan Outdoors for a relaxed hour outdoors that is open to all experience levels and designed to make getting outside feel easy and approachable
URL:https://skowheganoutdoors.com/event/20th-anniversary-party/
LOCATION:ME
ATTACH;FMTTYPE=image/jpeg:https://skowheganoutdoors.com/wp-content/uploads/2025/10/41646x85ad0ddacdeb10356d6c648758731d27fc71b9df.jpg
ORGANIZER;CN="amber@mainstreetskowhegan.org":MAILTO:amber@mainstreetskowhegan.org
END:VEVENT
BEGIN:VEVENT
DTSTART;TZID=America/New_York:20251117T080000
DTEND;TZID=America/New_York:20251117T170000
DTSTAMP:20260425T120110
CREATED:20251029T172955Z
LAST-MODIFIED:20251029T195640Z
UID:3049-1763366400-1763398800@skowheganoutdoors.com
SUMMARY:Headlamp Rucksack Walk with Kay Active Fitness
DESCRIPTION:Register!\n\n\n			Fresh Air Fridays\n12:00pm – 1:00pm @ Coburn Park\, Skowhegan\nMay 1\, 8\, 15 & June 12\, 19\, 26\nCost: Free\nFresh Air Fridays are a simple way to get outside\, move your body\, and enjoy a midday break in community. Join Skowhegan Outdoors for a relaxed hour outdoors that is open to all experience levels and designed to make getting outside feel easy and approachable
URL:https://skowheganoutdoors.com/event/headlamp-rucksack-walk-with-kay-active-fitness-11-17/
LOCATION:ME
CATEGORIES:Explore,Fitness,Hike
ATTACH;FMTTYPE=image/png:https://skowheganoutdoors.com/wp-content/uploads/2025/10/3.png
END:VEVENT
BEGIN:VEVENT
DTSTART;TZID=America/New_York:20251118T170000
DTEND;TZID=America/New_York:20251118T180000
DTSTAMP:20260425T120110
CREATED:20251029T173204Z
LAST-MODIFIED:20251029T173204Z
UID:3051-1763485200-1763488800@skowheganoutdoors.com
SUMMARY:Sunset Run with Kay Active Fitness
DESCRIPTION:Register!\n\n\n			Fresh Air Fridays\n12:00pm – 1:00pm @ Coburn Park\, Skowhegan\nMay 1\, 8\, 15 & June 12\, 19\, 26\nCost: Free\nFresh Air Fridays are a simple way to get outside\, move your body\, and enjoy a midday break in community. Join Skowhegan Outdoors for a relaxed hour outdoors that is open to all experience levels and designed to make getting outside feel easy and approachable
URL:https://skowheganoutdoors.com/event/sunset-run-with-kay-active-fitness-11-18/
LOCATION:ME
CATEGORIES:Elevate,Fitness,Running
ATTACH;FMTTYPE=image/png:https://skowheganoutdoors.com/wp-content/uploads/2025/10/4.png
END:VEVENT
BEGIN:VEVENT
DTSTART;TZID=America/New_York:20251119T170000
DTEND;TZID=America/New_York:20251119T183000
DTSTAMP:20260425T120110
CREATED:20251029T173433Z
LAST-MODIFIED:20251029T173433Z
UID:3053-1763571600-1763577000@skowheganoutdoors.com
SUMMARY:Community Yoga
DESCRIPTION:Register!\n\n\n			Fresh Air Fridays\n12:00pm – 1:00pm @ Coburn Park\, Skowhegan\nMay 1\, 8\, 15 & June 12\, 19\, 26\nCost: Free\nFresh Air Fridays are a simple way to get outside\, move your body\, and enjoy a midday break in community. Join Skowhegan Outdoors for a relaxed hour outdoors that is open to all experience levels and designed to make getting outside feel easy and approachable
URL:https://skowheganoutdoors.com/event/community-yoga-11-19/
LOCATION:ME
CATEGORIES:Gather,Yoga
ATTACH;FMTTYPE=image/png:https://skowheganoutdoors.com/wp-content/uploads/2025/10/2.png
END:VEVENT
BEGIN:VEVENT
DTSTART;TZID=America/New_York:20251120T180000
DTEND;TZID=America/New_York:20251120T190000
DTSTAMP:20260425T120110
CREATED:20251029T173802Z
LAST-MODIFIED:20251103T172136Z
UID:3055-1763661600-1763665200@skowheganoutdoors.com
SUMMARY:Basecamp Speaker Session: Phrenology of a Floodplain
DESCRIPTION:Register!\n\n\n			Fresh Air Fridays\n12:00pm – 1:00pm @ Coburn Park\, Skowhegan\nMay 1\, 8\, 15 & June 12\, 19\, 26\nCost: Free\nFresh Air Fridays are a simple way to get outside\, move your body\, and enjoy a midday break in community. Join Skowhegan Outdoors for a relaxed hour outdoors that is open to all experience levels and designed to make getting outside feel easy and approachable
URL:https://skowheganoutdoors.com/event/basecamp-speaker-session-phrenology-of-a-floodplain/
LOCATION:Skowhegan Outdoors Basecamp\, 65 Water Street\, Skowhegan\, ME\, United States
CATEGORIES:Family Focused,Gather
ATTACH;FMTTYPE=image/png:https://skowheganoutdoors.com/wp-content/uploads/2025/10/10.png
END:VEVENT
BEGIN:VEVENT
DTSTART;TZID=America/New_York:20251121T170000
DTEND;TZID=America/New_York:20251121T200000
DTSTAMP:20260425T120110
CREATED:20251029T174404Z
LAST-MODIFIED:20251103T172124Z
UID:3059-1763744400-1763755200@skowheganoutdoors.com
SUMMARY:Fall Open House and Membership Drive
DESCRIPTION:Register!\n\n\n			Fresh Air Fridays\n12:00pm – 1:00pm @ Coburn Park\, Skowhegan\nMay 1\, 8\, 15 & June 12\, 19\, 26\nCost: Free\nFresh Air Fridays are a simple way to get outside\, move your body\, and enjoy a midday break in community. Join Skowhegan Outdoors for a relaxed hour outdoors that is open to all experience levels and designed to make getting outside feel easy and approachable
URL:https://skowheganoutdoors.com/event/fall-open-house-and-membership-drive/
LOCATION:Skowhegan Outdoors Basecamp\, 65 Water Street\, Skowhegan\, ME\, United States
CATEGORIES:Family Focused,Gather
ATTACH;FMTTYPE=image/png:https://skowheganoutdoors.com/wp-content/uploads/2025/10/11.png
END:VEVENT
BEGIN:VEVENT
DTSTART;TZID=America/New_York:20251122T090000
DTEND;TZID=America/New_York:20251122T123000
DTSTAMP:20260425T120110
CREATED:20251029T174749Z
LAST-MODIFIED:20251114T165559Z
UID:3063-1763802000-1763814600@skowheganoutdoors.com
SUMMARY:1st Annual Skowhegan Outdoors Harvest Relay Race
DESCRIPTION:Register!\n\n\n			Fresh Air Fridays\n12:00pm – 1:00pm @ Coburn Park\, Skowhegan\nMay 1\, 8\, 15 & June 12\, 19\, 26\nCost: Free\nFresh Air Fridays are a simple way to get outside\, move your body\, and enjoy a midday break in community. Join Skowhegan Outdoors for a relaxed hour outdoors that is open to all experience levels and designed to make getting outside feel easy and approachable
URL:https://skowheganoutdoors.com/event/1st-annual-skowhegan-outdoors-harvest-relay-race/
LOCATION:Skowhegan Outdoors Basecamp\, 65 Water Street\, Skowhegan\, ME\, United States
CATEGORIES:Elevate,Family Focused,Fitness,Running
ATTACH;FMTTYPE=image/png:https://skowheganoutdoors.com/wp-content/uploads/2025/10/November-Event-Covers.png
END:VEVENT
BEGIN:VEVENT
DTSTART;TZID=America/New_York:20251124T170000
DTEND;TZID=America/New_York:20251124T180000
DTSTAMP:20260425T120110
CREATED:20251029T175354Z
LAST-MODIFIED:20251103T172008Z
UID:3067-1764003600-1764007200@skowheganoutdoors.com
SUMMARY:Headlamp Rucksack Walk with Kay Active Fitness
DESCRIPTION:Register!\n\n\n			Fresh Air Fridays\n12:00pm – 1:00pm @ Coburn Park\, Skowhegan\nMay 1\, 8\, 15 & June 12\, 19\, 26\nCost: Free\nFresh Air Fridays are a simple way to get outside\, move your body\, and enjoy a midday break in community. Join Skowhegan Outdoors for a relaxed hour outdoors that is open to all experience levels and designed to make getting outside feel easy and approachable
URL:https://skowheganoutdoors.com/event/headlamp-rucksack-walk-with-kay-active-fitness-11-24/
LOCATION:Skowhegan Outdoors Basecamp\, 65 Water Street\, Skowhegan\, ME\, United States
CATEGORIES:Explore,Fitness,Hike
ATTACH;FMTTYPE=image/png:https://skowheganoutdoors.com/wp-content/uploads/2025/10/3.png
END:VEVENT
END:VCALENDAR