BEGIN:VCALENDAR
VERSION:2.0
PRODID:-//Skowhegan Outdoors - ECPv6.15.20//NONSGML v1.0//EN
CALSCALE:GREGORIAN
METHOD:PUBLISH
X-WR-CALNAME:Skowhegan Outdoors
X-ORIGINAL-URL:https://skowheganoutdoors.com
X-WR-CALDESC:Events for Skowhegan Outdoors
REFRESH-INTERVAL;VALUE=DURATION:PT1H
X-Robots-Tag:noindex
X-PUBLISHED-TTL:PT1H
BEGIN:VTIMEZONE
TZID:America/New_York
BEGIN:DAYLIGHT
TZOFFSETFROM:-0500
TZOFFSETTO:-0400
TZNAME:EDT
DTSTART:20200308T070000
END:DAYLIGHT
BEGIN:STANDARD
TZOFFSETFROM:-0400
TZOFFSETTO:-0500
TZNAME:EST
DTSTART:20201101T060000
END:STANDARD
BEGIN:DAYLIGHT
TZOFFSETFROM:-0500
TZOFFSETTO:-0400
TZNAME:EDT
DTSTART:20210314T070000
END:DAYLIGHT
BEGIN:STANDARD
TZOFFSETFROM:-0400
TZOFFSETTO:-0500
TZNAME:EST
DTSTART:20211107T060000
END:STANDARD
BEGIN:DAYLIGHT
TZOFFSETFROM:-0500
TZOFFSETTO:-0400
TZNAME:EDT
DTSTART:20220313T070000
END:DAYLIGHT
BEGIN:STANDARD
TZOFFSETFROM:-0400
TZOFFSETTO:-0500
TZNAME:EST
DTSTART:20221106T060000
END:STANDARD
END:VTIMEZONE
BEGIN:VEVENT
DTSTART;TZID=America/New_York:20210410T060000
DTEND;TZID=America/New_York:20210410T080000
DTSTAMP:20260425T120245
CREATED:20210325T214634Z
LAST-MODIFIED:20210325T214634Z
UID:1026-1618034400-1618041600@skowheganoutdoors.com
SUMMARY:Camping 101
DESCRIPTION:Register!\n\n\n			Basics of SUPing\nJune 23 | 2:00pm – 4:00pm\nLake George Regional Park East\nTry stand-up paddleboarding in a beginner-friendly session designed to help participants get comfortable on the water. This program focuses on foundational skills\, balance\, and fun while offering a supportive introduction to SUP.
URL:https://skowheganoutdoors.com/event/camping-101/
LOCATION:Coburn Park\, Skowhegan\, ME\, United States
CATEGORIES:Camping
ATTACH;FMTTYPE=image/jpeg:https://skowheganoutdoors.com/wp-content/uploads/2021/03/Camping-101.jpg
ORGANIZER;CN="Skowhegan Outdoors AmeriCorps Program":MAILTO:americorps@mainstreetskowhegan.org
END:VEVENT
BEGIN:VEVENT
DTSTART;TZID=America/New_York:20210409T120000
DTEND;TZID=America/New_York:20210409T133000
DTSTAMP:20260425T120245
CREATED:20210325T214456Z
LAST-MODIFIED:20210326T223849Z
UID:1023-1617969600-1617975000@skowheganoutdoors.com
SUMMARY:Bernard Langlais Art Walk
DESCRIPTION:Register!\n\n\n			Basics of SUPing\nJune 23 | 2:00pm – 4:00pm\nLake George Regional Park East\nTry stand-up paddleboarding in a beginner-friendly session designed to help participants get comfortable on the water. This program focuses on foundational skills\, balance\, and fun while offering a supportive introduction to SUP.
URL:https://skowheganoutdoors.com/event/bernard-langlais-art-walk/
LOCATION:Main Street Skowhegan\, 48 Court Street\, Skowhegan\, ME\, 04976\, United States
ATTACH;FMTTYPE=image/jpeg:https://skowheganoutdoors.com/wp-content/uploads/2021/03/Bernard-Langlais-Art-Walk.jpg
ORGANIZER;CN="Skowhegan Outdoors AmeriCorps Program":MAILTO:americorps@mainstreetskowhegan.org
END:VEVENT
BEGIN:VEVENT
DTSTART;VALUE=DATE:20210406
DTEND;VALUE=DATE:20210408
DTSTAMP:20260425T120245
CREATED:20210325T220638Z
LAST-MODIFIED:20210325T220638Z
UID:1044-1617739200-1617825599@skowheganoutdoors.com
SUMMARY:After School Outdoors Club: Community Outreach Program
DESCRIPTION:Register!\n\n\n			Basics of SUPing\nJune 23 | 2:00pm – 4:00pm\nLake George Regional Park East\nTry stand-up paddleboarding in a beginner-friendly session designed to help participants get comfortable on the water. This program focuses on foundational skills\, balance\, and fun while offering a supportive introduction to SUP.
URL:https://skowheganoutdoors.com/event/after-school-outdoors-club-community-outreach-program/
ATTACH;FMTTYPE=image/jpeg:https://skowheganoutdoors.com/wp-content/uploads/2021/02/After-School-Outdoors-Club.jpg
ORGANIZER;CN="Skowhegan Outdoors AmeriCorps Program":MAILTO:americorps@mainstreetskowhegan.org
END:VEVENT
BEGIN:VEVENT
DTSTART;TZID=America/New_York:20210404T040000
DTEND;TZID=America/New_York:20210404T130000
DTSTAMP:20260425T120245
CREATED:20210325T214233Z
LAST-MODIFIED:20210325T214233Z
UID:1021-1617508800-1617541200@skowheganoutdoors.com
SUMMARY:Round Top Mountain Hike
DESCRIPTION:Register!\n\n\n			Basics of SUPing\nJune 23 | 2:00pm – 4:00pm\nLake George Regional Park East\nTry stand-up paddleboarding in a beginner-friendly session designed to help participants get comfortable on the water. This program focuses on foundational skills\, balance\, and fun while offering a supportive introduction to SUP.
URL:https://skowheganoutdoors.com/event/round-top-mountain-hike/
LOCATION:Main Street Skowhegan\, 48 Court Street\, Skowhegan\, ME\, 04976\, United States
CATEGORIES:Hike
ATTACH;FMTTYPE=image/png:https://skowheganoutdoors.com/wp-content/uploads/2021/03/Round-Top-Mountain-Hike.png
ORGANIZER;CN="Skowhegan Outdoors AmeriCorps Program":MAILTO:americorps@mainstreetskowhegan.org
END:VEVENT
BEGIN:VEVENT
DTSTART;TZID=America/New_York:20210403T080000
DTEND;TZID=America/New_York:20210403T100000
DTSTAMP:20260425T120245
CREATED:20210325T214101Z
LAST-MODIFIED:20210325T214101Z
UID:1018-1617436800-1617444000@skowheganoutdoors.com
SUMMARY:Maple Tour at Strawberry Hill Farms
DESCRIPTION:Register!\n\n\n			Basics of SUPing\nJune 23 | 2:00pm – 4:00pm\nLake George Regional Park East\nTry stand-up paddleboarding in a beginner-friendly session designed to help participants get comfortable on the water. This program focuses on foundational skills\, balance\, and fun while offering a supportive introduction to SUP.
URL:https://skowheganoutdoors.com/event/maple-tour-at-strawberry-hill-farms/
LOCATION:Strawberry Hill Farms Maple\, 163 Rowe Road\, Skowhegan\, ME\, 04976\, United States
CATEGORIES:Family Focused,Fitness
ATTACH;FMTTYPE=image/png:https://skowheganoutdoors.com/wp-content/uploads/2021/03/Maple-Tour.png
END:VEVENT
BEGIN:VEVENT
DTSTART;TZID=America/New_York:20210402T040000
DTEND;TZID=America/New_York:20210402T050000
DTSTAMP:20260425T120245
CREATED:20210325T213710Z
LAST-MODIFIED:20210325T213710Z
UID:1004-1617336000-1617339600@skowheganoutdoors.com
SUMMARY:Yankee Woodlot Morning Stroll
DESCRIPTION:Register!\n\n\n			Basics of SUPing\nJune 23 | 2:00pm – 4:00pm\nLake George Regional Park East\nTry stand-up paddleboarding in a beginner-friendly session designed to help participants get comfortable on the water. This program focuses on foundational skills\, balance\, and fun while offering a supportive introduction to SUP.
URL:https://skowheganoutdoors.com/event/yankee-woodlot-morning-stroll/
LOCATION:Yankee Woodlot\, 7 County Drive\, Skowhegan\, ME\, 04976\, United States
CATEGORIES:Hike
ATTACH;FMTTYPE=image/jpeg:https://skowheganoutdoors.com/wp-content/uploads/2021/03/Yankee-Woodlot-Morning-Stroll.jpg
END:VEVENT
BEGIN:VEVENT
DTSTART;VALUE=DATE:20210330
DTEND;VALUE=DATE:20210401
DTSTAMP:20260425T120245
CREATED:20210218T215418Z
LAST-MODIFIED:20210222T020445Z
UID:878-1617134400-1617220799@skowheganoutdoors.com
SUMMARY:After School Outdoors Club
DESCRIPTION:Register!\n\n\n			Basics of SUPing\nJune 23 | 2:00pm – 4:00pm\nLake George Regional Park East\nTry stand-up paddleboarding in a beginner-friendly session designed to help participants get comfortable on the water. This program focuses on foundational skills\, balance\, and fun while offering a supportive introduction to SUP.
URL:https://skowheganoutdoors.com/event/after-school-outdoors-club-19/
ATTACH;FMTTYPE=image/jpeg:https://skowheganoutdoors.com/wp-content/uploads/2021/02/After-School-Outdoors-Club.jpg
ORGANIZER;CN="Skowhegan Outdoors AmeriCorps Program":MAILTO:americorps@mainstreetskowhegan.org
END:VEVENT
BEGIN:VEVENT
DTSTART;VALUE=DATE:20210327
DTEND;VALUE=DATE:20210329
DTSTAMP:20260425T120245
CREATED:20210218T215306Z
LAST-MODIFIED:20210218T215306Z
UID:876-1616875200-1616961599@skowheganoutdoors.com
SUMMARY:Volunteer Orientation
DESCRIPTION:Register!\n\n\n			Basics of SUPing\nJune 23 | 2:00pm – 4:00pm\nLake George Regional Park East\nTry stand-up paddleboarding in a beginner-friendly session designed to help participants get comfortable on the water. This program focuses on foundational skills\, balance\, and fun while offering a supportive introduction to SUP.
URL:https://skowheganoutdoors.com/event/volunteer-orientation/
ORGANIZER;CN="Skowhegan Outdoors AmeriCorps Program":MAILTO:americorps@mainstreetskowhegan.org
END:VEVENT
BEGIN:VEVENT
DTSTART;TZID=America/New_York:20210327T120000
DTEND;TZID=America/New_York:20210327T140000
DTSTAMP:20260425T120245
CREATED:20210218T214107Z
LAST-MODIFIED:20210325T011020Z
UID:871-1616846400-1616853600@skowheganoutdoors.com
SUMMARY:Campfire Cooking Clinic: Pizza!
DESCRIPTION:Register!\n\n\n			Basics of SUPing\nJune 23 | 2:00pm – 4:00pm\nLake George Regional Park East\nTry stand-up paddleboarding in a beginner-friendly session designed to help participants get comfortable on the water. This program focuses on foundational skills\, balance\, and fun while offering a supportive introduction to SUP.
URL:https://skowheganoutdoors.com/event/campfire-cooking-clinic-pizza/
LOCATION:Lake George Regional Park (East)\, Lake George Dr E\, Canaan\, ME\, 04976\, United States
CATEGORIES:Camping
ATTACH;FMTTYPE=image/jpeg:https://skowheganoutdoors.com/wp-content/uploads/2021/02/Campfire-Cooking-Clinic_-Pizza-4.jpg
ORGANIZER;CN="Skowhegan Outdoors AmeriCorps Program":MAILTO:americorps@mainstreetskowhegan.org
END:VEVENT
BEGIN:VEVENT
DTSTART;VALUE=DATE:20210323
DTEND;VALUE=DATE:20210325
DTSTAMP:20260425T120245
CREATED:20210218T213234Z
LAST-MODIFIED:20210222T020023Z
UID:869-1616529600-1616615999@skowheganoutdoors.com
SUMMARY:After School Outdoors Program
DESCRIPTION:Register!\n\n\n			Basics of SUPing\nJune 23 | 2:00pm – 4:00pm\nLake George Regional Park East\nTry stand-up paddleboarding in a beginner-friendly session designed to help participants get comfortable on the water. This program focuses on foundational skills\, balance\, and fun while offering a supportive introduction to SUP.
URL:https://skowheganoutdoors.com/event/after-school-outdoors-program/
ATTACH;FMTTYPE=image/jpeg:https://skowheganoutdoors.com/wp-content/uploads/2021/02/After-School-Outdoors-Club.jpg
ORGANIZER;CN="Skowhegan Outdoors AmeriCorps Program":MAILTO:americorps@mainstreetskowhegan.org
END:VEVENT
BEGIN:VEVENT
DTSTART;TZID=America/New_York:20210321T060000
DTEND;TZID=America/New_York:20210321T070000
DTSTAMP:20260425T120245
CREATED:20210218T213000Z
LAST-MODIFIED:20210222T015841Z
UID:867-1616306400-1616310000@skowheganoutdoors.com
SUMMARY:Story Walk: From Head to Toe
DESCRIPTION:Register!\n\n\n			Basics of SUPing\nJune 23 | 2:00pm – 4:00pm\nLake George Regional Park East\nTry stand-up paddleboarding in a beginner-friendly session designed to help participants get comfortable on the water. This program focuses on foundational skills\, balance\, and fun while offering a supportive introduction to SUP.
URL:https://skowheganoutdoors.com/event/story-walk-from-head-to-toe/
LOCATION:Coburn Park\, Skowhegan\, ME\, United States
CATEGORIES:Family Focused
ATTACH;FMTTYPE=image/jpeg:https://skowheganoutdoors.com/wp-content/uploads/2021/02/Story-Walk_-From-Head-to-Toe-4.jpg
ORGANIZER;CN="Skowhegan Outdoors AmeriCorps Program":MAILTO:americorps@mainstreetskowhegan.org
END:VEVENT
BEGIN:VEVENT
DTSTART;VALUE=DATE:20210319
DTEND;VALUE=DATE:20210321
DTSTAMP:20260425T120245
CREATED:20210218T212456Z
LAST-MODIFIED:20210218T212456Z
UID:863-1616184000-1616270399@skowheganoutdoors.com
SUMMARY:SAHS Outing Club: Winter Skills
DESCRIPTION:Register!\n\n\n			Basics of SUPing\nJune 23 | 2:00pm – 4:00pm\nLake George Regional Park East\nTry stand-up paddleboarding in a beginner-friendly session designed to help participants get comfortable on the water. This program focuses on foundational skills\, balance\, and fun while offering a supportive introduction to SUP.
URL:https://skowheganoutdoors.com/event/sahs-outing-club-winter-skills/
ORGANIZER;CN="Skowhegan Outdoors AmeriCorps Program":MAILTO:americorps@mainstreetskowhegan.org
END:VEVENT
BEGIN:VEVENT
DTSTART;TZID=America/New_York:20210319T090000
DTEND;TZID=America/New_York:20210319T110000
DTSTAMP:20260425T120245
CREATED:20210218T211940Z
LAST-MODIFIED:20210222T015715Z
UID:861-1616144400-1616151600@skowheganoutdoors.com
SUMMARY:Snowshoe Stroll
DESCRIPTION:Register!\n\n\n			Basics of SUPing\nJune 23 | 2:00pm – 4:00pm\nLake George Regional Park East\nTry stand-up paddleboarding in a beginner-friendly session designed to help participants get comfortable on the water. This program focuses on foundational skills\, balance\, and fun while offering a supportive introduction to SUP.
URL:https://skowheganoutdoors.com/event/snowshoe-stroll-3/
LOCATION:Weston Woods and Waters\, 701-779 Weston Ave\, Madison\, ME\, 04950
CATEGORIES:Snowshoe
ATTACH;FMTTYPE=image/jpeg:https://skowheganoutdoors.com/wp-content/uploads/2021/02/Snowshoe-Stroll-WWW-4.jpg
ORGANIZER;CN="Skowhegan Outdoors AmeriCorps Program":MAILTO:americorps@mainstreetskowhegan.org
END:VEVENT
BEGIN:VEVENT
DTSTART;VALUE=DATE:20210316
DTEND;VALUE=DATE:20210318
DTSTAMP:20260425T120245
CREATED:20210218T211515Z
LAST-MODIFIED:20210222T013950Z
UID:857-1615924800-1616011199@skowheganoutdoors.com
SUMMARY:After School Outdoors Club
DESCRIPTION:Register!\n\n\n			Basics of SUPing\nJune 23 | 2:00pm – 4:00pm\nLake George Regional Park East\nTry stand-up paddleboarding in a beginner-friendly session designed to help participants get comfortable on the water. This program focuses on foundational skills\, balance\, and fun while offering a supportive introduction to SUP.
URL:https://skowheganoutdoors.com/event/after-school-outdoors-club-17/
ATTACH;FMTTYPE=image/jpeg:https://skowheganoutdoors.com/wp-content/uploads/2021/02/After-School-Outdoors-Club.jpg
ORGANIZER;CN="Skowhegan Outdoors AmeriCorps Program":MAILTO:americorps@mainstreetskowhegan.org
END:VEVENT
BEGIN:VEVENT
DTSTART;TZID=America/New_York:20210314T070000
DTEND;TZID=America/New_York:20210314T100000
DTSTAMP:20260425T120245
CREATED:20210218T211301Z
LAST-MODIFIED:20210313T035650Z
UID:855-1615705200-1615716000@skowheganoutdoors.com
SUMMARY:Cross-Country Ski Meetup
DESCRIPTION:Register!\n\n\n			Basics of SUPing\nJune 23 | 2:00pm – 4:00pm\nLake George Regional Park East\nTry stand-up paddleboarding in a beginner-friendly session designed to help participants get comfortable on the water. This program focuses on foundational skills\, balance\, and fun while offering a supportive introduction to SUP.
URL:https://skowheganoutdoors.com/event/cross-country-ski-meetup/
CATEGORIES:Cross-Country Skiing,Fitness
ATTACH;FMTTYPE=image/jpeg:https://skowheganoutdoors.com/wp-content/uploads/2021/02/Cross-Country-Ski-Meet-up-5.jpg
ORGANIZER;CN="Skowhegan Outdoors AmeriCorps Program":MAILTO:americorps@mainstreetskowhegan.org
END:VEVENT
BEGIN:VEVENT
DTSTART;TZID=America/New_York:20210313T050000
DTEND;TZID=America/New_York:20210313T080000
DTSTAMP:20260425T120245
CREATED:20210218T210448Z
LAST-MODIFIED:20210222T013801Z
UID:853-1615611600-1615622400@skowheganoutdoors.com
SUMMARY:Orienteering Clinic and Course
DESCRIPTION:Register!\n\n\n			Basics of SUPing\nJune 23 | 2:00pm – 4:00pm\nLake George Regional Park East\nTry stand-up paddleboarding in a beginner-friendly session designed to help participants get comfortable on the water. This program focuses on foundational skills\, balance\, and fun while offering a supportive introduction to SUP.
URL:https://skowheganoutdoors.com/event/orienteering-clinic-and-course/
LOCATION:Yankee Woodlot\, 7 County Drive\, Skowhegan\, ME\, 04976\, United States
ATTACH;FMTTYPE=image/jpeg:https://skowheganoutdoors.com/wp-content/uploads/2021/02/Orienteering-Course-4.jpg
END:VEVENT
BEGIN:VEVENT
DTSTART;TZID=America/New_York:20210312T140000
DTEND;TZID=America/New_York:20210312T160000
DTSTAMP:20260425T120245
CREATED:20210218T210039Z
LAST-MODIFIED:20210222T013634Z
UID:851-1615557600-1615564800@skowheganoutdoors.com
SUMMARY:New Moon Night Hike
DESCRIPTION:Register!\n\n\n			Basics of SUPing\nJune 23 | 2:00pm – 4:00pm\nLake George Regional Park East\nTry stand-up paddleboarding in a beginner-friendly session designed to help participants get comfortable on the water. This program focuses on foundational skills\, balance\, and fun while offering a supportive introduction to SUP.
URL:https://skowheganoutdoors.com/event/new-moon-night-hike/
LOCATION:Yankee Woodlot\, 7 County Drive\, Skowhegan\, ME\, 04976\, United States
CATEGORIES:Hike
ATTACH;FMTTYPE=image/jpeg:https://skowheganoutdoors.com/wp-content/uploads/2021/02/New-Moon-Hike-6.jpg
ORGANIZER;CN="Skowhegan Outdoors AmeriCorps Program":MAILTO:americorps@mainstreetskowhegan.org
END:VEVENT
BEGIN:VEVENT
DTSTART;VALUE=DATE:20210309
DTEND;VALUE=DATE:20210311
DTSTAMP:20260425T120245
CREATED:20210218T205354Z
LAST-MODIFIED:20210222T013428Z
UID:849-1615316400-1615402799@skowheganoutdoors.com
SUMMARY:After School Outdoors Club
DESCRIPTION:Register!\n\n\n			Basics of SUPing\nJune 23 | 2:00pm – 4:00pm\nLake George Regional Park East\nTry stand-up paddleboarding in a beginner-friendly session designed to help participants get comfortable on the water. This program focuses on foundational skills\, balance\, and fun while offering a supportive introduction to SUP.
URL:https://skowheganoutdoors.com/event/after-school-outdoors-club-16/
ATTACH;FMTTYPE=image/jpeg:https://skowheganoutdoors.com/wp-content/uploads/2021/02/After-School-Outdoors-Club.jpg
ORGANIZER;CN="Skowhegan Outdoors AmeriCorps Program":MAILTO:americorps@mainstreetskowhegan.org
END:VEVENT
BEGIN:VEVENT
DTSTART;TZID=America/New_York:20210307T050000
DTEND;TZID=America/New_York:20210307T080000
DTSTAMP:20260425T120245
CREATED:20210218T203743Z
LAST-MODIFIED:20210222T013031Z
UID:847-1615093200-1615104000@skowheganoutdoors.com
SUMMARY:Cross-Country Ski Clinic
DESCRIPTION:Register!\n\n\n			Basics of SUPing\nJune 23 | 2:00pm – 4:00pm\nLake George Regional Park East\nTry stand-up paddleboarding in a beginner-friendly session designed to help participants get comfortable on the water. This program focuses on foundational skills\, balance\, and fun while offering a supportive introduction to SUP.
URL:https://skowheganoutdoors.com/event/cross-country-ski-clinic/
LOCATION:Lakewood Golf Course\, 803 Lakewood Road\, Madison\, ME\, 04950\, United States
CATEGORIES:Cross-Country Skiing
ATTACH;FMTTYPE=image/jpeg:https://skowheganoutdoors.com/wp-content/uploads/2021/02/Cross-Country-Ski-Clinic-4.jpg
ORGANIZER;CN="Skowhegan Outdoors AmeriCorps Program":MAILTO:americorps@mainstreetskowhegan.org
END:VEVENT
BEGIN:VEVENT
DTSTART;TZID=America/New_York:20210306T080000
DTEND;TZID=America/New_York:20210306T100000
DTSTAMP:20260425T120245
CREATED:20210218T203309Z
LAST-MODIFIED:20210222T012143Z
UID:845-1615017600-1615024800@skowheganoutdoors.com
SUMMARY:Leave No Trace Clinic
DESCRIPTION:Register!\n\n\n			Basics of SUPing\nJune 23 | 2:00pm – 4:00pm\nLake George Regional Park East\nTry stand-up paddleboarding in a beginner-friendly session designed to help participants get comfortable on the water. This program focuses on foundational skills\, balance\, and fun while offering a supportive introduction to SUP.
URL:https://skowheganoutdoors.com/event/leave-no-trace-clinic/
LOCATION:Coburn Woods\, Skowhegan\, United States
CATEGORIES:Camping
ATTACH;FMTTYPE=image/jpeg:https://skowheganoutdoors.com/wp-content/uploads/2021/02/Leave-No-Trace-Clinic-5.jpg
ORGANIZER;CN="Skowhegan Outdoors AmeriCorps Program":MAILTO:americorps@mainstreetskowhegan.org
END:VEVENT
BEGIN:VEVENT
DTSTART;TZID=America/New_York:20210305T100000
DTEND;TZID=America/New_York:20210305T120000
DTSTAMP:20260425T120245
CREATED:20210218T202104Z
LAST-MODIFIED:20210222T014231Z
UID:843-1614938400-1614945600@skowheganoutdoors.com
SUMMARY:Snowshoe Stroll
DESCRIPTION:Register!\n\n\n			Basics of SUPing\nJune 23 | 2:00pm – 4:00pm\nLake George Regional Park East\nTry stand-up paddleboarding in a beginner-friendly session designed to help participants get comfortable on the water. This program focuses on foundational skills\, balance\, and fun while offering a supportive introduction to SUP.
URL:https://skowheganoutdoors.com/event/snowshoe-stroll-2/
LOCATION:Philbrick Trail\, 44-30 Joyce St\, Skowhegan\, ME\, 04976\, United States
CATEGORIES:Fitness,Snowshoe
ATTACH;FMTTYPE=image/jpeg:https://skowheganoutdoors.com/wp-content/uploads/2021/02/Snowshoe-Stroll-Philbrick-4.jpg
ORGANIZER;CN="Skowhegan Outdoors AmeriCorps Program":MAILTO:americorps@mainstreetskowhegan.org
END:VEVENT
BEGIN:VEVENT
DTSTART;VALUE=DATE:20210302
DTEND;VALUE=DATE:20210304
DTSTAMP:20260425T120245
CREATED:20210218T211644Z
LAST-MODIFIED:20210222T014541Z
UID:859-1614711600-1614797999@skowheganoutdoors.com
SUMMARY:After School Outdoors Club
DESCRIPTION:Register!\n\n\n			Basics of SUPing\nJune 23 | 2:00pm – 4:00pm\nLake George Regional Park East\nTry stand-up paddleboarding in a beginner-friendly session designed to help participants get comfortable on the water. This program focuses on foundational skills\, balance\, and fun while offering a supportive introduction to SUP.
URL:https://skowheganoutdoors.com/event/after-school-outdoors-club-18/
ATTACH;FMTTYPE=image/jpeg:https://skowheganoutdoors.com/wp-content/uploads/2021/02/After-School-Outdoors-Club.jpg
ORGANIZER;CN="Skowhegan Outdoors AmeriCorps Program":MAILTO:americorps@mainstreetskowhegan.org
END:VEVENT
BEGIN:VEVENT
DTSTART;TZID=America/New_York:20210228T060000
DTEND;TZID=America/New_York:20210228T073000
DTSTAMP:20260425T120245
CREATED:20210128T002501Z
LAST-MODIFIED:20210129T002241Z
UID:794-1614492000-1614497400@skowheganoutdoors.com
SUMMARY:Winter Nature Craft: Bird Feeder
DESCRIPTION:Register!\n\n\n			Basics of SUPing\nJune 23 | 2:00pm – 4:00pm\nLake George Regional Park East\nTry stand-up paddleboarding in a beginner-friendly session designed to help participants get comfortable on the water. This program focuses on foundational skills\, balance\, and fun while offering a supportive introduction to SUP.
URL:https://skowheganoutdoors.com/event/winter-nature-craft-bird-feeder/
LOCATION:Lake George Regional Park (East)\, Lake George Dr E\, Canaan\, ME\, 04976\, United States
ATTACH;FMTTYPE=image/jpeg:https://skowheganoutdoors.com/wp-content/uploads/2021/01/snowfest-winter-nature-craft-bird-feeder.jpg
ORGANIZER;CN="Skowhegan Outdoors AmeriCorps Program":MAILTO:americorps@mainstreetskowhegan.org
END:VEVENT
BEGIN:VEVENT
DTSTART;TZID=America/New_York:20210227T060000
DTEND;TZID=America/New_York:20210227T080000
DTSTAMP:20260425T120245
CREATED:20210128T002200Z
LAST-MODIFIED:20210129T002638Z
UID:792-1614405600-1614412800@skowheganoutdoors.com
SUMMARY:Snow Art
DESCRIPTION:Register!\n\n\n			Basics of SUPing\nJune 23 | 2:00pm – 4:00pm\nLake George Regional Park East\nTry stand-up paddleboarding in a beginner-friendly session designed to help participants get comfortable on the water. This program focuses on foundational skills\, balance\, and fun while offering a supportive introduction to SUP.
URL:https://skowheganoutdoors.com/event/snow-art/
LOCATION:Coburn Park\, Skowhegan\, ME\, United States
ATTACH;FMTTYPE=image/jpeg:https://skowheganoutdoors.com/wp-content/uploads/2021/01/snowfest-snowart.jpg
ORGANIZER;CN="Skowhegan Outdoors AmeriCorps Program":MAILTO:americorps@mainstreetskowhegan.org
END:VEVENT
BEGIN:VEVENT
DTSTART;TZID=America/New_York:20210226T133000
DTEND;TZID=America/New_York:20210226T153000
DTSTAMP:20260425T120245
CREATED:20210128T002821Z
LAST-MODIFIED:20210128T225727Z
UID:796-1614346200-1614353400@skowheganoutdoors.com
SUMMARY:Snowshoe Headlamp Hike
DESCRIPTION:Register!\n\n\n			Basics of SUPing\nJune 23 | 2:00pm – 4:00pm\nLake George Regional Park East\nTry stand-up paddleboarding in a beginner-friendly session designed to help participants get comfortable on the water. This program focuses on foundational skills\, balance\, and fun while offering a supportive introduction to SUP.
URL:https://skowheganoutdoors.com/event/snowshoe-headlamp-hike-2/
LOCATION:Lake George Regional Park (East)\, Lake George Dr E\, Canaan\, ME\, 04976\, United States
CATEGORIES:Hike
ATTACH;FMTTYPE=image/jpeg:https://skowheganoutdoors.com/wp-content/uploads/2021/01/snowfest-snowshoe-headlamp-hike.jpg
ORGANIZER;CN="Skowhegan Outdoors AmeriCorps Program":MAILTO:americorps@mainstreetskowhegan.org
END:VEVENT
BEGIN:VEVENT
DTSTART;TZID=America/New_York:20210226T043000
DTEND;TZID=America/New_York:20210226T063000
DTSTAMP:20260425T120245
CREATED:20210128T001306Z
LAST-MODIFIED:20210129T002320Z
UID:790-1614313800-1614321000@skowheganoutdoors.com
SUMMARY:The Nature of Winter Birding
DESCRIPTION:Register!\n\n\n			Basics of SUPing\nJune 23 | 2:00pm – 4:00pm\nLake George Regional Park East\nTry stand-up paddleboarding in a beginner-friendly session designed to help participants get comfortable on the water. This program focuses on foundational skills\, balance\, and fun while offering a supportive introduction to SUP.
URL:https://skowheganoutdoors.com/event/the-nature-of-winter-birding/
LOCATION:Lake George Regional Park (West)\, W Lake George Park Rd\, Skowhegan\, ME\, 04976\, United States
ATTACH;FMTTYPE=image/jpeg:https://skowheganoutdoors.com/wp-content/uploads/2021/01/winterbirding-1.jpg
ORGANIZER;CN="Skowhegan Outdoors AmeriCorps Program":MAILTO:americorps@mainstreetskowhegan.org
END:VEVENT
BEGIN:VEVENT
DTSTART;TZID=America/New_York:20210225T110000
DTEND;TZID=America/New_York:20210225T120000
DTSTAMP:20260425T120245
CREATED:20210128T000836Z
LAST-MODIFIED:20210128T225934Z
UID:788-1614250800-1614254400@skowheganoutdoors.com
SUMMARY:Campfire Cooking Clinic II: Pancakes
DESCRIPTION:Register!\n\n\n			Basics of SUPing\nJune 23 | 2:00pm – 4:00pm\nLake George Regional Park East\nTry stand-up paddleboarding in a beginner-friendly session designed to help participants get comfortable on the water. This program focuses on foundational skills\, balance\, and fun while offering a supportive introduction to SUP.
URL:https://skowheganoutdoors.com/event/campfire-cooking-clinic-ii-pancakes/
LOCATION:Coburn Park\, Skowhegan\, ME\, United States
CATEGORIES:Camping
ATTACH;FMTTYPE=image/jpeg:https://skowheganoutdoors.com/wp-content/uploads/2021/01/campfirecooking.jpg
ORGANIZER;CN="Skowhegan Outdoors AmeriCorps Program":MAILTO:americorps@mainstreetskowhegan.org
END:VEVENT
BEGIN:VEVENT
DTSTART;TZID=America/New_York:20210225T050000
DTEND;TZID=America/New_York:20210225T060000
DTSTAMP:20260425T120245
CREATED:20210128T000053Z
LAST-MODIFIED:20210128T225903Z
UID:786-1614229200-1614232800@skowheganoutdoors.com
SUMMARY:Campfire Cooking Clinic I: Pancakes
DESCRIPTION:Register!\n\n\n			Basics of SUPing\nJune 23 | 2:00pm – 4:00pm\nLake George Regional Park East\nTry stand-up paddleboarding in a beginner-friendly session designed to help participants get comfortable on the water. This program focuses on foundational skills\, balance\, and fun while offering a supportive introduction to SUP.
URL:https://skowheganoutdoors.com/event/campfire-cooking-clinic-i-pancakes/
LOCATION:Coburn Park\, Skowhegan\, ME\, United States
CATEGORIES:Camping
ATTACH;FMTTYPE=image/jpeg:https://skowheganoutdoors.com/wp-content/uploads/2021/01/campfirecooking.jpg
ORGANIZER;CN="Skowhegan Outdoors AmeriCorps Program":MAILTO:americorps@mainstreetskowhegan.org
END:VEVENT
BEGIN:VEVENT
DTSTART;TZID=America/New_York:20210224T133000
DTEND;TZID=America/New_York:20210224T153000
DTSTAMP:20260425T120245
CREATED:20210127T235553Z
LAST-MODIFIED:20210128T225604Z
UID:784-1614173400-1614180600@skowheganoutdoors.com
SUMMARY:Snowshoe Headlamp Hike
DESCRIPTION:Register!\n\n\n			Basics of SUPing\nJune 23 | 2:00pm – 4:00pm\nLake George Regional Park East\nTry stand-up paddleboarding in a beginner-friendly session designed to help participants get comfortable on the water. This program focuses on foundational skills\, balance\, and fun while offering a supportive introduction to SUP.
URL:https://skowheganoutdoors.com/event/snowshoe-headlamp-hike/
LOCATION:Coburn Woods\, Skowhegan\, United States
CATEGORIES:Hike
ATTACH;FMTTYPE=image/jpeg:https://skowheganoutdoors.com/wp-content/uploads/2021/01/snowfest-snowshoe-headlamp-hike.jpg
ORGANIZER;CN="Skowhegan Outdoors AmeriCorps Program":MAILTO:americorps@mainstreetskowhegan.org
END:VEVENT
BEGIN:VEVENT
DTSTART;VALUE=DATE:20210223
DTEND;VALUE=DATE:20210225
DTSTAMP:20260425T120245
CREATED:20210128T004010Z
LAST-MODIFIED:20210128T004010Z
UID:802-1614106800-1614193199@skowheganoutdoors.com
SUMMARY:After School Outdoors Club
DESCRIPTION:Register!\n\n\n			Basics of SUPing\nJune 23 | 2:00pm – 4:00pm\nLake George Regional Park East\nTry stand-up paddleboarding in a beginner-friendly session designed to help participants get comfortable on the water. This program focuses on foundational skills\, balance\, and fun while offering a supportive introduction to SUP.
URL:https://skowheganoutdoors.com/event/after-school-outdoors-club-14/
ORGANIZER;CN="Skowhegan Outdoors AmeriCorps Program":MAILTO:americorps@mainstreetskowhegan.org
END:VEVENT
END:VCALENDAR