BEGIN:VCALENDAR
VERSION:2.0
PRODID:-//Skowhegan Outdoors - ECPv6.15.20//NONSGML v1.0//EN
CALSCALE:GREGORIAN
METHOD:PUBLISH
X-WR-CALNAME:Skowhegan Outdoors
X-ORIGINAL-URL:https://skowheganoutdoors.com
X-WR-CALDESC:Events for Skowhegan Outdoors
REFRESH-INTERVAL;VALUE=DURATION:PT1H
X-Robots-Tag:noindex
X-PUBLISHED-TTL:PT1H
BEGIN:VTIMEZONE
TZID:America/New_York
BEGIN:DAYLIGHT
TZOFFSETFROM:-0500
TZOFFSETTO:-0400
TZNAME:EDT
DTSTART:20240310T070000
END:DAYLIGHT
BEGIN:STANDARD
TZOFFSETFROM:-0400
TZOFFSETTO:-0500
TZNAME:EST
DTSTART:20241103T060000
END:STANDARD
BEGIN:DAYLIGHT
TZOFFSETFROM:-0500
TZOFFSETTO:-0400
TZNAME:EDT
DTSTART:20250309T070000
END:DAYLIGHT
BEGIN:STANDARD
TZOFFSETFROM:-0400
TZOFFSETTO:-0500
TZNAME:EST
DTSTART:20251102T060000
END:STANDARD
BEGIN:DAYLIGHT
TZOFFSETFROM:-0500
TZOFFSETTO:-0400
TZNAME:EDT
DTSTART:20260308T070000
END:DAYLIGHT
BEGIN:STANDARD
TZOFFSETFROM:-0400
TZOFFSETTO:-0500
TZNAME:EST
DTSTART:20261101T060000
END:STANDARD
END:VTIMEZONE
BEGIN:VEVENT
DTSTART;TZID=America/New_York:20251001T130000
DTEND;TZID=America/New_York:20251001T143000
DTSTAMP:20260425T083010
CREATED:20251002T211724Z
LAST-MODIFIED:20251002T213042Z
UID:2773-1759323600-1759329000@skowheganoutdoors.com
SUMMARY:Community Yoga
DESCRIPTION:Register!\n\n\n			Downtown Rucksack Walk with Kay Active Fitness\nMay 4\, 18\, 25 & June 1\, 22 | 5:00pm – 6:00pm\nBasecamp Gear Library\nTake a walk through town with Skowhegan Outdoors and enjoy an easygoing hour focused on movement\, conversation\, and community. These walks are a great option for anyone looking to get outside\, build routine\, and explore Skowhegan on foot.
URL:https://skowheganoutdoors.com/event/community-yoga/
LOCATION:Riverview Yoga Shala\, 27 Parkman Hill Rd.\, Skowhegan\, ME\, 04976\, United States
CATEGORIES:Yoga
END:VEVENT
BEGIN:VEVENT
DTSTART;VALUE=DATE:20251001
DTEND;VALUE=DATE:20251003
DTSTAMP:20260425T083010
CREATED:20251002T214607Z
LAST-MODIFIED:20251002T214607Z
UID:2783-1759348800-1759435199@skowheganoutdoors.com
SUMMARY:Basecamp Gear Library Closed
DESCRIPTION:Register!\n\n\n			Downtown Rucksack Walk with Kay Active Fitness\nMay 4\, 18\, 25 & June 1\, 22 | 5:00pm – 6:00pm\nBasecamp Gear Library\nTake a walk through town with Skowhegan Outdoors and enjoy an easygoing hour focused on movement\, conversation\, and community. These walks are a great option for anyone looking to get outside\, build routine\, and explore Skowhegan on foot.
URL:https://skowheganoutdoors.com/event/basecamp-gear-library-closed/
LOCATION:Basecamp Gear Library\, 65 Water St. (Riverside)\, Skowhegan\, ME\, 04976\, United States
END:VEVENT
BEGIN:VEVENT
DTSTART;TZID=America/New_York:20251002T113000
DTEND;TZID=America/New_York:20251002T130000
DTSTAMP:20260425T083010
CREATED:20251002T212135Z
LAST-MODIFIED:20251002T212135Z
UID:2775-1759404600-1759410000@skowheganoutdoors.com
SUMMARY:REACH After-School Program
DESCRIPTION:Register!\n\n\n			Downtown Rucksack Walk with Kay Active Fitness\nMay 4\, 18\, 25 & June 1\, 22 | 5:00pm – 6:00pm\nBasecamp Gear Library\nTake a walk through town with Skowhegan Outdoors and enjoy an easygoing hour focused on movement\, conversation\, and community. These walks are a great option for anyone looking to get outside\, build routine\, and explore Skowhegan on foot.
URL:https://skowheganoutdoors.com/event/reach-after-school-program/
CATEGORIES:Family Focused
END:VEVENT
BEGIN:VEVENT
DTSTART;TZID=America/New_York:20251008T140000
DTEND;TZID=America/New_York:20251008T150000
DTSTAMP:20260425T083010
CREATED:20251008T182642Z
LAST-MODIFIED:20251008T182642Z
UID:2806-1759932000-1759935600@skowheganoutdoors.com
SUMMARY:Basecamp Sessions: High Peaks Alliance
DESCRIPTION:Register!\n\n\n			Downtown Rucksack Walk with Kay Active Fitness\nMay 4\, 18\, 25 & June 1\, 22 | 5:00pm – 6:00pm\nBasecamp Gear Library\nTake a walk through town with Skowhegan Outdoors and enjoy an easygoing hour focused on movement\, conversation\, and community. These walks are a great option for anyone looking to get outside\, build routine\, and explore Skowhegan on foot.
URL:https://skowheganoutdoors.com/event/basecamp-sessions-high-peaks-alliance/
LOCATION:Basecamp Gear Library\, 65 Water St. (Riverside)\, Skowhegan\, ME\, 04976\, United States
END:VEVENT
BEGIN:VEVENT
DTSTART;TZID=America/New_York:20251008T170000
DTEND;TZID=America/New_York:20251008T183000
DTSTAMP:20260425T083010
CREATED:20251008T195548Z
LAST-MODIFIED:20251008T195559Z
UID:2812-1759942800-1759948200@skowheganoutdoors.com
SUMMARY:Community Yoga
DESCRIPTION:Register!\n\n\n			Downtown Rucksack Walk with Kay Active Fitness\nMay 4\, 18\, 25 & June 1\, 22 | 5:00pm – 6:00pm\nBasecamp Gear Library\nTake a walk through town with Skowhegan Outdoors and enjoy an easygoing hour focused on movement\, conversation\, and community. These walks are a great option for anyone looking to get outside\, build routine\, and explore Skowhegan on foot.
URL:https://skowheganoutdoors.com/event/community-yoga-2/
LOCATION:27 Parkman Hill Rd\, Skowhegan\, ME\, United States
ORGANIZER;CN="autumn@mainstreetskowhegan.org":MAILTO:autumn@mainstreetskowhegan.org
END:VEVENT
BEGIN:VEVENT
DTSTART;TZID=America/New_York:20251008T180000
DTEND;TZID=America/New_York:20251008T190000
DTSTAMP:20260425T083010
CREATED:20251008T195548Z
LAST-MODIFIED:20251008T195559Z
UID:2814-1759946400-1759950000@skowheganoutdoors.com
SUMMARY:Basecamp Sessions: High Peaks Alliance
DESCRIPTION:Register!\n\n\n			Downtown Rucksack Walk with Kay Active Fitness\nMay 4\, 18\, 25 & June 1\, 22 | 5:00pm – 6:00pm\nBasecamp Gear Library\nTake a walk through town with Skowhegan Outdoors and enjoy an easygoing hour focused on movement\, conversation\, and community. These walks are a great option for anyone looking to get outside\, build routine\, and explore Skowhegan on foot.
URL:https://skowheganoutdoors.com/event/basecamp-sessions-high-peaks-alliance-2/
ORGANIZER;CN="autumn@mainstreetskowhegan.org":MAILTO:autumn@mainstreetskowhegan.org
END:VEVENT
BEGIN:VEVENT
DTSTART;TZID=America/New_York:20251010T163000
DTEND;TZID=America/New_York:20251010T183000
DTSTAMP:20260425T083010
CREATED:20251008T195549Z
LAST-MODIFIED:20251008T195559Z
UID:2816-1760113800-1760121000@skowheganoutdoors.com
SUMMARY:Intro to Disc Golf
DESCRIPTION:Register!\n\n\n			Downtown Rucksack Walk with Kay Active Fitness\nMay 4\, 18\, 25 & June 1\, 22 | 5:00pm – 6:00pm\nBasecamp Gear Library\nTake a walk through town with Skowhegan Outdoors and enjoy an easygoing hour focused on movement\, conversation\, and community. These walks are a great option for anyone looking to get outside\, build routine\, and explore Skowhegan on foot.
URL:https://skowheganoutdoors.com/event/intro-to-disc-golf/
LOCATION:Quaker Hill Disc Golf\, 146 Middle Rd\, Skowhegan\, ME\, United States
ORGANIZER;CN="autumn@mainstreetskowhegan.org":MAILTO:autumn@mainstreetskowhegan.org
END:VEVENT
BEGIN:VEVENT
DTSTART;TZID=America/New_York:20251011T080000
DTEND;TZID=America/New_York:20251011T150000
DTSTAMP:20260425T083010
CREATED:20251008T195549Z
LAST-MODIFIED:20251008T195559Z
UID:2820-1760169600-1760194800@skowheganoutdoors.com
SUMMARY:SOC Farm Outing Day
DESCRIPTION:Register!\n\n\n			Downtown Rucksack Walk with Kay Active Fitness\nMay 4\, 18\, 25 & June 1\, 22 | 5:00pm – 6:00pm\nBasecamp Gear Library\nTake a walk through town with Skowhegan Outdoors and enjoy an easygoing hour focused on movement\, conversation\, and community. These walks are a great option for anyone looking to get outside\, build routine\, and explore Skowhegan on foot.
URL:https://skowheganoutdoors.com/event/soc-farm-outing-day/
ORGANIZER;CN="amber@mainstreetskowhegan.org":MAILTO:amber@mainstreetskowhegan.org
END:VEVENT
BEGIN:VEVENT
DTSTART;TZID=America/New_York:20251011T090000
DTEND;TZID=America/New_York:20251011T120000
DTSTAMP:20260425T083010
CREATED:20251008T195550Z
LAST-MODIFIED:20251008T195559Z
UID:2822-1760173200-1760184000@skowheganoutdoors.com
SUMMARY:Firewood Frenzy w/SWT
DESCRIPTION:Register!\n\n\n			Downtown Rucksack Walk with Kay Active Fitness\nMay 4\, 18\, 25 & June 1\, 22 | 5:00pm – 6:00pm\nBasecamp Gear Library\nTake a walk through town with Skowhegan Outdoors and enjoy an easygoing hour focused on movement\, conversation\, and community. These walks are a great option for anyone looking to get outside\, build routine\, and explore Skowhegan on foot.
URL:https://skowheganoutdoors.com/event/firewood-frenzy-w-swt/
LOCATION:Parkman Hill Farm\, 380 Parkman Hill Rd\, Solon\, ME\, United States
ORGANIZER;CN="autumn@mainstreetskowhegan.org":MAILTO:autumn@mainstreetskowhegan.org
END:VEVENT
BEGIN:VEVENT
DTSTART;TZID=America/New_York:20251011T090000
DTEND;TZID=America/New_York:20251011T130000
DTSTAMP:20260425T083010
CREATED:20251008T195549Z
LAST-MODIFIED:20251008T195559Z
UID:2818-1760173200-1760187600@skowheganoutdoors.com
SUMMARY:Skowhegan Farmers Market
DESCRIPTION:Register!\n\n\n			Downtown Rucksack Walk with Kay Active Fitness\nMay 4\, 18\, 25 & June 1\, 22 | 5:00pm – 6:00pm\nBasecamp Gear Library\nTake a walk through town with Skowhegan Outdoors and enjoy an easygoing hour focused on movement\, conversation\, and community. These walks are a great option for anyone looking to get outside\, build routine\, and explore Skowhegan on foot.
URL:https://skowheganoutdoors.com/event/skowhegan-farmers-market/
ORGANIZER;CN="amber@mainstreetskowhegan.org":MAILTO:amber@mainstreetskowhegan.org
END:VEVENT
BEGIN:VEVENT
DTSTART;TZID=America/New_York:20251013T170000
DTEND;TZID=America/New_York:20251013T180000
DTSTAMP:20260425T083010
CREATED:20251008T195551Z
LAST-MODIFIED:20251008T195559Z
UID:2824-1760374800-1760378400@skowheganoutdoors.com
SUMMARY:Rucksack Walk
DESCRIPTION:Register!\n\n\n			Downtown Rucksack Walk with Kay Active Fitness\nMay 4\, 18\, 25 & June 1\, 22 | 5:00pm – 6:00pm\nBasecamp Gear Library\nTake a walk through town with Skowhegan Outdoors and enjoy an easygoing hour focused on movement\, conversation\, and community. These walks are a great option for anyone looking to get outside\, build routine\, and explore Skowhegan on foot.
URL:https://skowheganoutdoors.com/event/rucksack-walk/
LOCATION:Skowhegan Outdoors Basecamp\, 65 Water Street\, Skowhegan\, ME\, United States
ORGANIZER;CN="autumn@mainstreetskowhegan.org":MAILTO:autumn@mainstreetskowhegan.org
END:VEVENT
BEGIN:VEVENT
DTSTART;TZID=America/New_York:20251014T170000
DTEND;TZID=America/New_York:20251014T180000
DTSTAMP:20260425T083010
CREATED:20251008T195551Z
LAST-MODIFIED:20251008T195559Z
UID:2826-1760461200-1760464800@skowheganoutdoors.com
SUMMARY:Sunset Run
DESCRIPTION:Register!\n\n\n			Downtown Rucksack Walk with Kay Active Fitness\nMay 4\, 18\, 25 & June 1\, 22 | 5:00pm – 6:00pm\nBasecamp Gear Library\nTake a walk through town with Skowhegan Outdoors and enjoy an easygoing hour focused on movement\, conversation\, and community. These walks are a great option for anyone looking to get outside\, build routine\, and explore Skowhegan on foot.
URL:https://skowheganoutdoors.com/event/sunset-run/
LOCATION:Skowhegan Outdoors Basecamp\, 65 Water Street\, Skowhegan\, ME\, United States
ORGANIZER;CN="autumn@mainstreetskowhegan.org":MAILTO:autumn@mainstreetskowhegan.org
END:VEVENT
BEGIN:VEVENT
DTSTART;TZID=America/New_York:20251015T170000
DTEND;TZID=America/New_York:20251015T183000
DTSTAMP:20260425T083010
CREATED:20251008T195552Z
LAST-MODIFIED:20251008T195600Z
UID:2828-1760547600-1760553000@skowheganoutdoors.com
SUMMARY:Community Yoga
DESCRIPTION:Register!\n\n\n			Downtown Rucksack Walk with Kay Active Fitness\nMay 4\, 18\, 25 & June 1\, 22 | 5:00pm – 6:00pm\nBasecamp Gear Library\nTake a walk through town with Skowhegan Outdoors and enjoy an easygoing hour focused on movement\, conversation\, and community. These walks are a great option for anyone looking to get outside\, build routine\, and explore Skowhegan on foot.
URL:https://skowheganoutdoors.com/event/community-yoga-3/
LOCATION:27 Parkman Hill Rd\, Skowhegan\, ME\, United States
ORGANIZER;CN="autumn@mainstreetskowhegan.org":MAILTO:autumn@mainstreetskowhegan.org
END:VEVENT
BEGIN:VEVENT
DTSTART;TZID=America/New_York:20251017T193000
DTEND;TZID=America/New_York:20251017T210000
DTSTAMP:20260425T083010
CREATED:20251008T195552Z
LAST-MODIFIED:20251014T220958Z
UID:2830-1760729400-1760734800@skowheganoutdoors.com
SUMMARY:Outdoor Movie Night: Lost on a Mountain in Maine
DESCRIPTION:Register!\n\n\n			Downtown Rucksack Walk with Kay Active Fitness\nMay 4\, 18\, 25 & June 1\, 22 | 5:00pm – 6:00pm\nBasecamp Gear Library\nTake a walk through town with Skowhegan Outdoors and enjoy an easygoing hour focused on movement\, conversation\, and community. These walks are a great option for anyone looking to get outside\, build routine\, and explore Skowhegan on foot.
URL:https://skowheganoutdoors.com/event/outdoor-movie-night-lost-on-a-mountain-in-maine/
LOCATION:Greenspace\, 151 Water Street\, Skowhegan\, ME\, 04976\, United States
CATEGORIES:Family Focused
ATTACH;FMTTYPE=image/png:https://skowheganoutdoors.com/wp-content/uploads/2025/10/MovieLostOnaMountain.png
ORGANIZER;CN="autumn@mainstreetskowhegan.org":MAILTO:autumn@mainstreetskowhegan.org
END:VEVENT
BEGIN:VEVENT
DTSTART;TZID=America/New_York:20251019T110000
DTEND;TZID=America/New_York:20251019T150000
DTSTAMP:20260425T083010
CREATED:20251008T195552Z
LAST-MODIFIED:20251014T182502Z
UID:2831-1760871600-1760886000@skowheganoutdoors.com
SUMMARY:Mountain Biking: Carrabassett Valley
DESCRIPTION:Register!\n\n\n			Downtown Rucksack Walk with Kay Active Fitness\nMay 4\, 18\, 25 & June 1\, 22 | 5:00pm – 6:00pm\nBasecamp Gear Library\nTake a walk through town with Skowhegan Outdoors and enjoy an easygoing hour focused on movement\, conversation\, and community. These walks are a great option for anyone looking to get outside\, build routine\, and explore Skowhegan on foot.
URL:https://skowheganoutdoors.com/event/mountain-biking-carrabassett-valley/
LOCATION:Carrabassett Valley Mountain Biking\, 3156 Carrabassett Drive\, Carrabassett Valley\, ME\, 04947\, United States
CATEGORIES:Mountain biking
ATTACH;FMTTYPE=image/png:https://skowheganoutdoors.com/wp-content/uploads/2025/10/CarrabassettBikeoct.png
ORGANIZER;CN="autumn@mainstreetskowhegan.org":MAILTO:autumn@mainstreetskowhegan.org
END:VEVENT
BEGIN:VEVENT
DTSTART;TZID=America/New_York:20251020T170000
DTEND;TZID=America/New_York:20251020T180000
DTSTAMP:20260425T083010
CREATED:20251008T195552Z
LAST-MODIFIED:20251014T182743Z
UID:2832-1760979600-1760983200@skowheganoutdoors.com
SUMMARY:Rucksack Walk
DESCRIPTION:Register!\n\n\n			Downtown Rucksack Walk with Kay Active Fitness\nMay 4\, 18\, 25 & June 1\, 22 | 5:00pm – 6:00pm\nBasecamp Gear Library\nTake a walk through town with Skowhegan Outdoors and enjoy an easygoing hour focused on movement\, conversation\, and community. These walks are a great option for anyone looking to get outside\, build routine\, and explore Skowhegan on foot.
URL:https://skowheganoutdoors.com/event/rucksack-walk-2/
LOCATION:Skowhegan Outdoors Basecamp\, 65 Water Street\, Skowhegan\, ME\, United States
CATEGORIES:Hike
ATTACH;FMTTYPE=image/png:https://skowheganoutdoors.com/wp-content/uploads/2025/10/RucksackeOct.png
ORGANIZER;CN="autumn@mainstreetskowhegan.org":MAILTO:autumn@mainstreetskowhegan.org
END:VEVENT
BEGIN:VEVENT
DTSTART;TZID=America/New_York:20251021T170000
DTEND;TZID=America/New_York:20251021T180000
DTSTAMP:20260425T083010
CREATED:20251008T195552Z
LAST-MODIFIED:20251008T195600Z
UID:2833-1761066000-1761069600@skowheganoutdoors.com
SUMMARY:Sunset Run
DESCRIPTION:Register!\n\n\n			Downtown Rucksack Walk with Kay Active Fitness\nMay 4\, 18\, 25 & June 1\, 22 | 5:00pm – 6:00pm\nBasecamp Gear Library\nTake a walk through town with Skowhegan Outdoors and enjoy an easygoing hour focused on movement\, conversation\, and community. These walks are a great option for anyone looking to get outside\, build routine\, and explore Skowhegan on foot.
URL:https://skowheganoutdoors.com/event/sunset-run-2/
LOCATION:Skowhegan Outdoors Basecamp\, 65 Water Street\, Skowhegan\, ME\, United States
ORGANIZER;CN="autumn@mainstreetskowhegan.org":MAILTO:autumn@mainstreetskowhegan.org
END:VEVENT
BEGIN:VEVENT
DTSTART;TZID=America/New_York:20251022T170000
DTEND;TZID=America/New_York:20251022T183000
DTSTAMP:20260425T083010
CREATED:20251008T195553Z
LAST-MODIFIED:20251008T195600Z
UID:2834-1761152400-1761157800@skowheganoutdoors.com
SUMMARY:Community Yoga
DESCRIPTION:Register!\n\n\n			Downtown Rucksack Walk with Kay Active Fitness\nMay 4\, 18\, 25 & June 1\, 22 | 5:00pm – 6:00pm\nBasecamp Gear Library\nTake a walk through town with Skowhegan Outdoors and enjoy an easygoing hour focused on movement\, conversation\, and community. These walks are a great option for anyone looking to get outside\, build routine\, and explore Skowhegan on foot.
URL:https://skowheganoutdoors.com/event/community-yoga-4/
LOCATION:27 Parkman Hill Rd\, Skowhegan\, ME\, United States
ORGANIZER;CN="autumn@mainstreetskowhegan.org":MAILTO:autumn@mainstreetskowhegan.org
END:VEVENT
BEGIN:VEVENT
DTSTART;TZID=America/New_York:20251022T173000
DTEND;TZID=America/New_York:20251022T193000
DTSTAMP:20260425T083010
CREATED:20251008T195553Z
LAST-MODIFIED:20251014T203306Z
UID:2835-1761154200-1761161400@skowheganoutdoors.com
SUMMARY:Skowhegan Center for Entrepreneurship: Open House
DESCRIPTION:Register!\n\n\n			Downtown Rucksack Walk with Kay Active Fitness\nMay 4\, 18\, 25 & June 1\, 22 | 5:00pm – 6:00pm\nBasecamp Gear Library\nTake a walk through town with Skowhegan Outdoors and enjoy an easygoing hour focused on movement\, conversation\, and community. These walks are a great option for anyone looking to get outside\, build routine\, and explore Skowhegan on foot.
URL:https://skowheganoutdoors.com/event/se-open-house/
LOCATION:Skowhegan Center for Entrepreneurship\, 181 Water Street\, Skowhegan\, ME\, 04976\, United States
ATTACH;FMTTYPE=image/jpeg:https://skowheganoutdoors.com/wp-content/uploads/2025/10/Pathway-FB.jpg
ORGANIZER;CN="autumn@mainstreetskowhegan.org":MAILTO:autumn@mainstreetskowhegan.org
END:VEVENT
BEGIN:VEVENT
DTSTART;TZID=America/New_York:20251023T163000
DTEND;TZID=America/New_York:20251023T183000
DTSTAMP:20260425T083010
CREATED:20251008T195553Z
LAST-MODIFIED:20251014T195004Z
UID:2837-1761237000-1761244200@skowheganoutdoors.com
SUMMARY:Intro to Disc Golf
DESCRIPTION:Register!\n\n\n			Downtown Rucksack Walk with Kay Active Fitness\nMay 4\, 18\, 25 & June 1\, 22 | 5:00pm – 6:00pm\nBasecamp Gear Library\nTake a walk through town with Skowhegan Outdoors and enjoy an easygoing hour focused on movement\, conversation\, and community. These walks are a great option for anyone looking to get outside\, build routine\, and explore Skowhegan on foot.
URL:https://skowheganoutdoors.com/event/intro-to-disc-golf-2/
LOCATION:Quaker Hill Disc Golf\, 146 Middle Rd\, Skowhegan\, ME\, United States
ATTACH;FMTTYPE=image/png:https://skowheganoutdoors.com/wp-content/uploads/2025/10/DiscGolf.png
ORGANIZER;CN="autumn@mainstreetskowhegan.org":MAILTO:autumn@mainstreetskowhegan.org
END:VEVENT
BEGIN:VEVENT
DTSTART;VALUE=DATE:20251024
DTEND;VALUE=DATE:20251027
DTSTAMP:20260425T083010
CREATED:20251029T175032Z
LAST-MODIFIED:20251029T175032Z
UID:3065-1761264000-1761523199@skowheganoutdoors.com
SUMMARY:Thanksgiving Food Drive Drop-Off
DESCRIPTION:Register!\n\n\n			Downtown Rucksack Walk with Kay Active Fitness\nMay 4\, 18\, 25 & June 1\, 22 | 5:00pm – 6:00pm\nBasecamp Gear Library\nTake a walk through town with Skowhegan Outdoors and enjoy an easygoing hour focused on movement\, conversation\, and community. These walks are a great option for anyone looking to get outside\, build routine\, and explore Skowhegan on foot.
URL:https://skowheganoutdoors.com/event/thanksgiving-food-drive-drop-off/
LOCATION:Skowhegan Outdoors Basecamp\, 65 Water Street\, Skowhegan\, ME\, United States
CATEGORIES:Gather
ATTACH;FMTTYPE=image/png:https://skowheganoutdoors.com/wp-content/uploads/2025/10/12.png
END:VEVENT
BEGIN:VEVENT
DTSTART;TZID=America/New_York:20251024T193000
DTEND;TZID=America/New_York:20251024T210000
DTSTAMP:20260425T083010
CREATED:20251008T195553Z
LAST-MODIFIED:20251014T194324Z
UID:2839-1761334200-1761339600@skowheganoutdoors.com
SUMMARY:Outdoor Movie Night: Casper
DESCRIPTION:Register!\n\n\n			Downtown Rucksack Walk with Kay Active Fitness\nMay 4\, 18\, 25 & June 1\, 22 | 5:00pm – 6:00pm\nBasecamp Gear Library\nTake a walk through town with Skowhegan Outdoors and enjoy an easygoing hour focused on movement\, conversation\, and community. These walks are a great option for anyone looking to get outside\, build routine\, and explore Skowhegan on foot.
URL:https://skowheganoutdoors.com/event/outdoor-movie-night-casper/
LOCATION:Greenspace\, 151 Water Street\, Skowhegan\, ME\, 04976\, United States
ATTACH;FMTTYPE=image/png:https://skowheganoutdoors.com/wp-content/uploads/2025/10/Casper.png
ORGANIZER;CN="autumn@mainstreetskowhegan.org":MAILTO:autumn@mainstreetskowhegan.org
END:VEVENT
BEGIN:VEVENT
DTSTART;TZID=America/New_York:20251025T090000
DTEND;TZID=America/New_York:20251025T120000
DTSTAMP:20260425T083010
CREATED:20251008T195554Z
LAST-MODIFIED:20251014T194109Z
UID:2841-1761382800-1761393600@skowheganoutdoors.com
SUMMARY:Firewood Frenzy w/SWT
DESCRIPTION:Register!\n\n\n			Downtown Rucksack Walk with Kay Active Fitness\nMay 4\, 18\, 25 & June 1\, 22 | 5:00pm – 6:00pm\nBasecamp Gear Library\nTake a walk through town with Skowhegan Outdoors and enjoy an easygoing hour focused on movement\, conversation\, and community. These walks are a great option for anyone looking to get outside\, build routine\, and explore Skowhegan on foot.
URL:https://skowheganoutdoors.com/event/firewood-frenzy-w-swt-2/
LOCATION:Parkman Hill Farm\, 380 Parkman Hill Rd\, Solon\, ME\, United States
ATTACH;FMTTYPE=image/png:https://skowheganoutdoors.com/wp-content/uploads/2025/10/FireFrenzy.png
ORGANIZER;CN="autumn@mainstreetskowhegan.org":MAILTO:autumn@mainstreetskowhegan.org
END:VEVENT
BEGIN:VEVENT
DTSTART;TZID=America/New_York:20251025T090000
DTEND;TZID=America/New_York:20251025T130000
DTSTAMP:20260425T083010
CREATED:20251008T195554Z
LAST-MODIFIED:20251008T195600Z
UID:2842-1761382800-1761397200@skowheganoutdoors.com
SUMMARY:Skowhegan Farmers Market
DESCRIPTION:Register!\n\n\n			Downtown Rucksack Walk with Kay Active Fitness\nMay 4\, 18\, 25 & June 1\, 22 | 5:00pm – 6:00pm\nBasecamp Gear Library\nTake a walk through town with Skowhegan Outdoors and enjoy an easygoing hour focused on movement\, conversation\, and community. These walks are a great option for anyone looking to get outside\, build routine\, and explore Skowhegan on foot.
URL:https://skowheganoutdoors.com/event/skowhegan-farmers-market-2/
ORGANIZER;CN="amber@mainstreetskowhegan.org":MAILTO:amber@mainstreetskowhegan.org
END:VEVENT
BEGIN:VEVENT
DTSTART;TZID=America/New_York:20251026T080000
DTEND;TZID=America/New_York:20251026T170000
DTSTAMP:20260425T083010
CREATED:20251008T195554Z
LAST-MODIFIED:20251014T183109Z
UID:2843-1761465600-1761498000@skowheganoutdoors.com
SUMMARY:Saddleback Mountain Hike
DESCRIPTION:Register!\n\n\n			Downtown Rucksack Walk with Kay Active Fitness\nMay 4\, 18\, 25 & June 1\, 22 | 5:00pm – 6:00pm\nBasecamp Gear Library\nTake a walk through town with Skowhegan Outdoors and enjoy an easygoing hour focused on movement\, conversation\, and community. These walks are a great option for anyone looking to get outside\, build routine\, and explore Skowhegan on foot.
URL:https://skowheganoutdoors.com/event/saddleback-mountain-hike/
LOCATION:Skowhegan Outdoors Basecamp\, 65 Water Street\, Skowhegan\, ME\, United States
CATEGORIES:Hike
ATTACH;FMTTYPE=image/png:https://skowheganoutdoors.com/wp-content/uploads/2025/10/saddlebackHike.png
ORGANIZER;CN="autumn@mainstreetskowhegan.org":MAILTO:autumn@mainstreetskowhegan.org
END:VEVENT
BEGIN:VEVENT
DTSTART;TZID=America/New_York:20251027T090000
DTEND;TZID=America/New_York:20251027T120000
DTSTAMP:20260425T083010
CREATED:20251008T195554Z
LAST-MODIFIED:20251008T195601Z
UID:2844-1761555600-1761566400@skowheganoutdoors.com
SUMMARY:Greenspace Clean Up
DESCRIPTION:Register!\n\n\n			Downtown Rucksack Walk with Kay Active Fitness\nMay 4\, 18\, 25 & June 1\, 22 | 5:00pm – 6:00pm\nBasecamp Gear Library\nTake a walk through town with Skowhegan Outdoors and enjoy an easygoing hour focused on movement\, conversation\, and community. These walks are a great option for anyone looking to get outside\, build routine\, and explore Skowhegan on foot.
URL:https://skowheganoutdoors.com/event/greenspace-clean-up/
ORGANIZER;CN="amber@mainstreetskowhegan.org":MAILTO:amber@mainstreetskowhegan.org
END:VEVENT
BEGIN:VEVENT
DTSTART;TZID=America/New_York:20251027T170000
DTEND;TZID=America/New_York:20251027T180000
DTSTAMP:20260425T083010
CREATED:20251008T195554Z
LAST-MODIFIED:20251014T182918Z
UID:2845-1761584400-1761588000@skowheganoutdoors.com
SUMMARY:Rucksack Walk
DESCRIPTION:Register!\n\n\n			Downtown Rucksack Walk with Kay Active Fitness\nMay 4\, 18\, 25 & June 1\, 22 | 5:00pm – 6:00pm\nBasecamp Gear Library\nTake a walk through town with Skowhegan Outdoors and enjoy an easygoing hour focused on movement\, conversation\, and community. These walks are a great option for anyone looking to get outside\, build routine\, and explore Skowhegan on foot.
URL:https://skowheganoutdoors.com/event/rucksack-walk-3/
LOCATION:Skowhegan Outdoors Basecamp\, 65 Water Street\, Skowhegan\, ME\, United States
CATEGORIES:Hike
ATTACH;FMTTYPE=image/png:https://skowheganoutdoors.com/wp-content/uploads/2025/10/RucksackeOct.png
ORGANIZER;CN="autumn@mainstreetskowhegan.org":MAILTO:autumn@mainstreetskowhegan.org
END:VEVENT
BEGIN:VEVENT
DTSTART;TZID=America/New_York:20251028T170000
DTEND;TZID=America/New_York:20251028T180000
DTSTAMP:20260425T083010
CREATED:20251008T195555Z
LAST-MODIFIED:20251014T182246Z
UID:2846-1761670800-1761674400@skowheganoutdoors.com
SUMMARY:Sunset Run
DESCRIPTION:Register!\n\n\n			Downtown Rucksack Walk with Kay Active Fitness\nMay 4\, 18\, 25 & June 1\, 22 | 5:00pm – 6:00pm\nBasecamp Gear Library\nTake a walk through town with Skowhegan Outdoors and enjoy an easygoing hour focused on movement\, conversation\, and community. These walks are a great option for anyone looking to get outside\, build routine\, and explore Skowhegan on foot.
URL:https://skowheganoutdoors.com/event/sunset-run-3/
LOCATION:Skowhegan Outdoors Basecamp\, 65 Water Street\, Skowhegan\, ME\, United States
CATEGORIES:Running
ATTACH;FMTTYPE=image/png:https://skowheganoutdoors.com/wp-content/uploads/2025/10/SunsetRun.png
ORGANIZER;CN="autumn@mainstreetskowhegan.org":MAILTO:autumn@mainstreetskowhegan.org
END:VEVENT
BEGIN:VEVENT
DTSTART;TZID=America/New_York:20251029T170000
DTEND;TZID=America/New_York:20251029T183000
DTSTAMP:20260425T083010
CREATED:20251008T195555Z
LAST-MODIFIED:20251008T195601Z
UID:2848-1761757200-1761762600@skowheganoutdoors.com
SUMMARY:Community Yoga
DESCRIPTION:Register!\n\n\n			Downtown Rucksack Walk with Kay Active Fitness\nMay 4\, 18\, 25 & June 1\, 22 | 5:00pm – 6:00pm\nBasecamp Gear Library\nTake a walk through town with Skowhegan Outdoors and enjoy an easygoing hour focused on movement\, conversation\, and community. These walks are a great option for anyone looking to get outside\, build routine\, and explore Skowhegan on foot.
URL:https://skowheganoutdoors.com/event/community-yoga-5/
LOCATION:27 Parkman Hill Rd\, Skowhegan\, ME\, United States
ORGANIZER;CN="autumn@mainstreetskowhegan.org":MAILTO:autumn@mainstreetskowhegan.org
END:VEVENT
BEGIN:VEVENT
DTSTART;TZID=America/New_York:20251030T170000
DTEND;TZID=America/New_York:20251030T180000
DTSTAMP:20260425T083010
CREATED:20251008T195555Z
LAST-MODIFIED:20251014T193048Z
UID:2849-1761843600-1761847200@skowheganoutdoors.com
SUMMARY:Spooky Geocaching
DESCRIPTION:Register!\n\n\n			Downtown Rucksack Walk with Kay Active Fitness\nMay 4\, 18\, 25 & June 1\, 22 | 5:00pm – 6:00pm\nBasecamp Gear Library\nTake a walk through town with Skowhegan Outdoors and enjoy an easygoing hour focused on movement\, conversation\, and community. These walks are a great option for anyone looking to get outside\, build routine\, and explore Skowhegan on foot.
URL:https://skowheganoutdoors.com/event/spooky-geocaching/
LOCATION:Skowhegan Outdoors Basecamp\, 65 Water Street\, Skowhegan\, ME\, United States
CATEGORIES:Family Focused
ATTACH;FMTTYPE=image/png:https://skowheganoutdoors.com/wp-content/uploads/2025/10/SpookyGeo.png
ORGANIZER;CN="autumn@mainstreetskowhegan.org":MAILTO:autumn@mainstreetskowhegan.org
END:VEVENT
END:VCALENDAR