BEGIN:VCALENDAR
VERSION:2.0
PRODID:-//Skowhegan Outdoors - ECPv6.15.20//NONSGML v1.0//EN
CALSCALE:GREGORIAN
METHOD:PUBLISH
X-ORIGINAL-URL:https://skowheganoutdoors.com
X-WR-CALDESC:Events for Skowhegan Outdoors
REFRESH-INTERVAL;VALUE=DURATION:PT1H
X-Robots-Tag:noindex
X-PUBLISHED-TTL:PT1H
BEGIN:VTIMEZONE
TZID:America/New_York
BEGIN:DAYLIGHT
TZOFFSETFROM:-0500
TZOFFSETTO:-0400
TZNAME:EDT
DTSTART:20250309T070000
END:DAYLIGHT
BEGIN:STANDARD
TZOFFSETFROM:-0400
TZOFFSETTO:-0500
TZNAME:EST
DTSTART:20251102T060000
END:STANDARD
BEGIN:DAYLIGHT
TZOFFSETFROM:-0500
TZOFFSETTO:-0400
TZNAME:EDT
DTSTART:20260308T070000
END:DAYLIGHT
BEGIN:STANDARD
TZOFFSETFROM:-0400
TZOFFSETTO:-0500
TZNAME:EST
DTSTART:20261101T060000
END:STANDARD
BEGIN:DAYLIGHT
TZOFFSETFROM:-0500
TZOFFSETTO:-0400
TZNAME:EDT
DTSTART:20270314T070000
END:DAYLIGHT
BEGIN:STANDARD
TZOFFSETFROM:-0400
TZOFFSETTO:-0500
TZNAME:EST
DTSTART:20271107T060000
END:STANDARD
END:VTIMEZONE
BEGIN:VEVENT
DTSTART;TZID=America/New_York:20260324T160000
DTEND;TZID=America/New_York:20260324T173000
DTSTAMP:20260420T162056
CREATED:20260217T174117Z
LAST-MODIFIED:20260217T174117Z
UID:3769-1774368000-1774373400@skowheganoutdoors.com
SUMMARY:Fly-Tyin' Tuesdays | March 24\, 2026
DESCRIPTION:Learn the basics of fly tying in this relaxed\, social workshop. Participants will be guided through materials\, tools\, and simple patterns. All materials included. \nMarch 10\, 24 & April 7\, 21 are at the Skowhegan Free Public Library\nMarch 17 is at the Bingham Union Library \n\n\n\nPlease register in advance to attend these programs: https://www.giveffect.com/campaigns/44072-fly-tyin-tuesday-march-april-2026/join
URL:https://skowheganoutdoors.com/event/fly-tyin-tuesdays-march-24-2026/
CATEGORIES:Fly Fishing,Free,Learn,March
ATTACH;FMTTYPE=image/png:https://skowheganoutdoors.com/wp-content/uploads/2026/02/4.png
END:VEVENT
BEGIN:VEVENT
DTSTART;TZID=America/New_York:20260329T090000
DTEND;TZID=America/New_York:20260329T100000
DTSTAMP:20260420T162056
CREATED:20260217T170754Z
LAST-MODIFIED:20260217T170933Z
UID:3732-1774774800-1774778400@skowheganoutdoors.com
SUMMARY:Yoga with Jill | March 29\, 2026
DESCRIPTION:Join Jill from Wood & Water Yoga for a welcoming\, all-levels yoga class focused on movement\, breath\, and mindful connection. This weekly practice is a great way to stay grounded and active through the winter season. Held at the Skowhegan Center for Entrepreneurship at 181 Water Street\, Skowhegan\, ME.\n\n\n\nPlease register in advance to attend this program: https://www.giveffect.com/campaigns/44068-yoga-with-jill-march-april-2026/join
URL:https://skowheganoutdoors.com/event/yoga-with-jill-march-29-2026/
CATEGORIES:Free,Gather,March,Yoga
ATTACH;FMTTYPE=image/png:https://skowheganoutdoors.com/wp-content/uploads/2026/02/1.png
END:VEVENT
BEGIN:VEVENT
DTSTART;TZID=America/New_York:20260330T170000
DTEND;TZID=America/New_York:20260330T180000
DTSTAMP:20260420T162056
CREATED:20260217T171941Z
LAST-MODIFIED:20260217T171941Z
UID:3747-1774890000-1774893600@skowheganoutdoors.com
SUMMARY:Downtown Rucksack Walk with Kay Active Fitness | March 30\, 2026
DESCRIPTION:Join Kay Active Fitness and Skowhegan Outdoors for a walk wearing weighted backpacks around downtown Skowhegan\, the Debe Trail\, and Philbrick Woods. This is a great way to stay active\, build strength\, and get outside—walks are social\, steady-paced\, and beginner friendly.\n\n\n\nPlease register in advance to attend this program: https://www.giveffect.com/campaigns/44069-downtown-rucksack-walk-with-kay-active-fitness-march-april-2026/join
URL:https://skowheganoutdoors.com/event/downtown-rucksack-walk-with-kay-active-fitness-march-30-2026/
CATEGORIES:Fitness,Free,Gather,March
ATTACH;FMTTYPE=image/png:https://skowheganoutdoors.com/wp-content/uploads/2026/02/2.png
END:VEVENT
END:VCALENDAR