BEGIN:VCALENDAR
VERSION:2.0
PRODID:-//Skowhegan Outdoors - ECPv6.15.20//NONSGML v1.0//EN
CALSCALE:GREGORIAN
METHOD:PUBLISH
X-WR-CALNAME:Skowhegan Outdoors
X-ORIGINAL-URL:https://skowheganoutdoors.com
X-WR-CALDESC:Events for Skowhegan Outdoors
REFRESH-INTERVAL;VALUE=DURATION:PT1H
X-Robots-Tag:noindex
X-PUBLISHED-TTL:PT1H
BEGIN:VTIMEZONE
TZID:America/New_York
BEGIN:DAYLIGHT
TZOFFSETFROM:-0500
TZOFFSETTO:-0400
TZNAME:EDT
DTSTART:20250309T070000
END:DAYLIGHT
BEGIN:STANDARD
TZOFFSETFROM:-0400
TZOFFSETTO:-0500
TZNAME:EST
DTSTART:20251102T060000
END:STANDARD
BEGIN:DAYLIGHT
TZOFFSETFROM:-0500
TZOFFSETTO:-0400
TZNAME:EDT
DTSTART:20260308T070000
END:DAYLIGHT
BEGIN:STANDARD
TZOFFSETFROM:-0400
TZOFFSETTO:-0500
TZNAME:EST
DTSTART:20261101T060000
END:STANDARD
BEGIN:DAYLIGHT
TZOFFSETFROM:-0500
TZOFFSETTO:-0400
TZNAME:EDT
DTSTART:20270314T070000
END:DAYLIGHT
BEGIN:STANDARD
TZOFFSETFROM:-0400
TZOFFSETTO:-0500
TZNAME:EST
DTSTART:20271107T060000
END:STANDARD
END:VTIMEZONE
BEGIN:VEVENT
DTSTART;TZID=America/New_York:20260406T170000
DTEND;TZID=America/New_York:20260406T180000
DTSTAMP:20260422T181911
CREATED:20260217T172100Z
LAST-MODIFIED:20260217T172100Z
UID:3749-1775494800-1775498400@skowheganoutdoors.com
SUMMARY:Downtown Rucksack Walk with Kay Active Fitness | April 6\, 2026
DESCRIPTION:Join Kay Active Fitness and Skowhegan Outdoors for a walk wearing weighted backpacks around downtown Skowhegan\, the Debe Trail\, and Philbrick Woods. This is a great way to stay active\, build strength\, and get outside—walks are social\, steady-paced\, and beginner friendly.\n\n\n\nPlease register in advance to attend this program: https://www.giveffect.com/campaigns/44069-downtown-rucksack-walk-with-kay-active-fitness-march-april-2026/join
URL:https://skowheganoutdoors.com/event/downtown-rucksack-walk-with-kay-active-fitness-april-6-2026/
CATEGORIES:April,Fitness,Free,Gather
ATTACH;FMTTYPE=image/png:https://skowheganoutdoors.com/wp-content/uploads/2026/02/2.png
END:VEVENT
BEGIN:VEVENT
DTSTART;TZID=America/New_York:20260409T173000
DTEND;TZID=America/New_York:20260409T183000
DTSTAMP:20260422T181911
CREATED:20260217T194142Z
LAST-MODIFIED:20260217T194142Z
UID:3787-1775755800-1775759400@skowheganoutdoors.com
SUMMARY:"Spring Forward" Run Club with Kay Active Fitness | April 9\, 2026
DESCRIPTION:Join Kay Active Fitness and Skowhegan Outdoors for a run from Basecamp Gear Library. This includes areas of Downtown Skowhegan\, the Debe Trail\, and the Philbrick Woods. Beginners\, walkers\, marathoners welcomed to this social hour of exercise. \nPlease register to participate in this program: https://www.giveffect.com/campaigns/44076-spring-forward-run-club-with-kay-active-fitness-april-2026/join
URL:https://skowheganoutdoors.com/event/spring-forward-run-club-with-kay-active-fitness-april-9-2026/
CATEGORIES:April,Explore,Family Focused,Fitness,Free,Running
ATTACH;FMTTYPE=image/png:https://skowheganoutdoors.com/wp-content/uploads/2026/02/9.png
END:VEVENT
BEGIN:VEVENT
DTSTART;TZID=America/New_York:20260413T170000
DTEND;TZID=America/New_York:20260413T180000
DTSTAMP:20260422T181911
CREATED:20260217T172214Z
LAST-MODIFIED:20260217T172214Z
UID:3751-1776099600-1776103200@skowheganoutdoors.com
SUMMARY:Downtown Rucksack Walk with Kay Active Fitness | April 13\, 2026
DESCRIPTION:Join Kay Active Fitness and Skowhegan Outdoors for a walk wearing weighted backpacks around downtown Skowhegan\, the Debe Trail\, and Philbrick Woods. This is a great way to stay active\, build strength\, and get outside—walks are social\, steady-paced\, and beginner friendly.\n\n\n\nPlease register in advance to attend this program: https://www.giveffect.com/campaigns/44069-downtown-rucksack-walk-with-kay-active-fitness-march-april-2026/join
URL:https://skowheganoutdoors.com/event/downtown-rucksack-walk-with-kay-active-fitness-april-13-2026/
CATEGORIES:April,Fitness,Free,Gather
ATTACH;FMTTYPE=image/png:https://skowheganoutdoors.com/wp-content/uploads/2026/02/2.png
END:VEVENT
BEGIN:VEVENT
DTSTART;TZID=America/New_York:20260420T170000
DTEND;TZID=America/New_York:20260420T180000
DTSTAMP:20260422T181911
CREATED:20260217T172320Z
LAST-MODIFIED:20260217T172320Z
UID:3753-1776704400-1776708000@skowheganoutdoors.com
SUMMARY:Downtown Rucksack Walk with Kay Active Fitness | April 20\, 2026
DESCRIPTION:Join Kay Active Fitness and Skowhegan Outdoors for a walk wearing weighted backpacks around downtown Skowhegan\, the Debe Trail\, and Philbrick Woods. This is a great way to stay active\, build strength\, and get outside—walks are social\, steady-paced\, and beginner friendly.\n\n\n\nPlease register in advance to attend this program: https://www.giveffect.com/campaigns/44069-downtown-rucksack-walk-with-kay-active-fitness-march-april-2026/join
URL:https://skowheganoutdoors.com/event/downtown-rucksack-walk-with-kay-active-fitness-april-20-2026/
CATEGORIES:April,Fitness,Free,Gather
ATTACH;FMTTYPE=image/png:https://skowheganoutdoors.com/wp-content/uploads/2026/02/2.png
END:VEVENT
BEGIN:VEVENT
DTSTART;TZID=America/New_York:20260423T173000
DTEND;TZID=America/New_York:20260423T183000
DTSTAMP:20260422T181911
CREATED:20260217T194934Z
LAST-MODIFIED:20260217T194934Z
UID:3792-1776965400-1776969000@skowheganoutdoors.com
SUMMARY:"Spring Forward" Run Club with Kay Active Fitness | April 23\, 2026
DESCRIPTION:Join Kay Active Fitness and Skowhegan Outdoors for a run from Basecamp Gear Library. This includes areas of Downtown Skowhegan\, the Debe Trail\, and the Philbrick Woods. Beginners\, walkers\, marathoners welcomed to this social hour of exercise. \nPlease register here to participate in this program: https://www.giveffect.com/campaigns/44076-spring-forward-run-club-with-kay-active-fitness-april-2026/join
URL:https://skowheganoutdoors.com/event/spring-forward-run-club-with-kay-active-fitness-april-23-2026/
CATEGORIES:April,Explore,Fitness,Free,Running
ATTACH;FMTTYPE=image/png:https://skowheganoutdoors.com/wp-content/uploads/2026/02/9.png
END:VEVENT
BEGIN:VEVENT
DTSTART;TZID=America/New_York:20260427T170000
DTEND;TZID=America/New_York:20260427T180000
DTSTAMP:20260422T181911
CREATED:20260217T172353Z
LAST-MODIFIED:20260217T172353Z
UID:3754-1777309200-1777312800@skowheganoutdoors.com
SUMMARY:Downtown Rucksack Walk with Kay Active Fitness | April 27\, 2026
DESCRIPTION:Join Kay Active Fitness and Skowhegan Outdoors for a walk wearing weighted backpacks around downtown Skowhegan\, the Debe Trail\, and Philbrick Woods. This is a great way to stay active\, build strength\, and get outside—walks are social\, steady-paced\, and beginner friendly.\n\n\n\nPlease register in advance to attend this program: https://www.giveffect.com/campaigns/44069-downtown-rucksack-walk-with-kay-active-fitness-march-april-2026/join
URL:https://skowheganoutdoors.com/event/downtown-rucksack-walk-with-kay-active-fitness-april-27-2026/
CATEGORIES:April,Fitness,Free,Gather
ATTACH;FMTTYPE=image/png:https://skowheganoutdoors.com/wp-content/uploads/2026/02/2.png
END:VEVENT
BEGIN:VEVENT
DTSTART;TZID=America/New_York:20260430T173000
DTEND;TZID=America/New_York:20260430T183000
DTSTAMP:20260422T181911
CREATED:20260217T195036Z
LAST-MODIFIED:20260217T195036Z
UID:3794-1777570200-1777573800@skowheganoutdoors.com
SUMMARY:"Spring Forward" Run Club with Kay Active Fitness | April 30\, 2026
DESCRIPTION:Join Kay Active Fitness and Skowhegan Outdoors for a run from Basecamp Gear Library. This includes areas of Downtown Skowhegan\, the Debe Trail\, and the Philbrick Woods. Beginners\, walkers\, marathoners welcomed to this social hour of exercise. \nPlease register here to participate in this program: https://www.giveffect.com/campaigns/44076-spring-forward-run-club-with-kay-active-fitness-april-2026/join
URL:https://skowheganoutdoors.com/event/spring-forward-run-club-with-kay-active-fitness-april-30-2026/
CATEGORIES:April,Explore,Fitness,Free,Running
ATTACH;FMTTYPE=image/png:https://skowheganoutdoors.com/wp-content/uploads/2026/02/9.png
END:VEVENT
BEGIN:VEVENT
DTSTART;TZID=America/New_York:20260503T090000
DTEND;TZID=America/New_York:20260503T100000
DTSTAMP:20260422T181911
CREATED:20260421T232830Z
LAST-MODIFIED:20260422T001322Z
UID:4019-1777798800-1777802400@skowheganoutdoors.com
SUMMARY:Yoga with Jill | May 3\, 2026
DESCRIPTION:Yoga with Jill\nMay 3 & 10 | 9:00am – 10:00am\n181 Water Street\, Skowhegan\nStart your morning with movement\, breath\, and a little time to reset. Yoga with Jill offers an accessible class environment for participants looking to build strength\, flexibility\, and connection in a welcoming community setting.
URL:https://skowheganoutdoors.com/event/yoga-with-jill-may-3-2026/
LOCATION:181 Water Street\, Skowhegan\, 181 Water Street\, Skowhegan\, United States
CATEGORIES:Fitness,Free,Gather,May,Yoga
ATTACH;FMTTYPE=image/png:https://skowheganoutdoors.com/wp-content/uploads/2026/04/2.png
END:VEVENT
BEGIN:VEVENT
DTSTART;TZID=America/New_York:20260504T170000
DTEND;TZID=America/New_York:20260504T180000
DTSTAMP:20260422T181911
CREATED:20260421T232830Z
LAST-MODIFIED:20260422T002204Z
UID:4021-1777914000-1777917600@skowheganoutdoors.com
SUMMARY:Downtown Rucksack Walk | May 4\, 2026
DESCRIPTION:Downtown Rucksack Walk with Kay Active Fitness\nMay 4\, 18\, 25 & June 1\, 22 | 5:00pm – 6:00pm\nBasecamp Gear Library\nTake a walk through town with Skowhegan Outdoors and enjoy an easygoing hour focused on movement\, conversation\, and community. These walks are a great option for anyone looking to get outside\, build routine\, and explore Skowhegan on foot.
URL:https://skowheganoutdoors.com/event/downtown-rucksack-walk-may-4-2026/
LOCATION:Basecamp Gear Library\, 65 Water St. (Riverside)\, Skowhegan\, ME\, 04976\, United States
CATEGORIES:Explore,Family Focused,Fitness,Free,May
ATTACH;FMTTYPE=image/png:https://skowheganoutdoors.com/wp-content/uploads/2026/04/3.png
END:VEVENT
BEGIN:VEVENT
DTSTART;TZID=America/New_York:20260507T173000
DTEND;TZID=America/New_York:20260507T183000
DTSTAMP:20260422T181911
CREATED:20260421T232832Z
LAST-MODIFIED:20260422T005733Z
UID:4023-1778175000-1778178600@skowheganoutdoors.com
SUMMARY:Run Club with Kay Active Fitness | May 7\, 2026
DESCRIPTION:Run Club with Kay Active Fitness\nMay 7\, 14\, 21\, 28 & June 4\, 11\, 25 | 5:30pm – 6:30pm\nBasecamp Gear Library\nJoin Run Club for a supportive weekly group run that welcomes a range of paces and experience levels. Whether you are building consistency\, getting back into movement\, or just want company on the road\, this is a great way to stay active in community.
URL:https://skowheganoutdoors.com/event/run-club-with-kay-active-fitness-may-7-2026/
LOCATION:Basecamp Gear Library\, 65 Water St. (Riverside)\, Skowhegan\, ME\, 04976\, United States
CATEGORIES:Explore,Fitness,Free,May,Running
ATTACH;FMTTYPE=image/png:https://skowheganoutdoors.com/wp-content/uploads/2026/04/5.png
END:VEVENT
BEGIN:VEVENT
DTSTART;TZID=America/New_York:20260510T090000
DTEND;TZID=America/New_York:20260510T100000
DTSTAMP:20260422T181911
CREATED:20260421T232832Z
LAST-MODIFIED:20260422T001515Z
UID:4026-1778403600-1778407200@skowheganoutdoors.com
SUMMARY:Yoga with Jill | May 10\, 2026
DESCRIPTION:Yoga with Jill\nMay 3 & 10 | 9:00am – 10:00am\n181 Water Street\, Skowhegan\nStart your morning with movement\, breath\, and a little time to reset. Yoga with Jill offers an accessible class environment for participants looking to build strength\, flexibility\, and connection in a welcoming community setting.
URL:https://skowheganoutdoors.com/event/yoga-with-jill-may-10-2026/
LOCATION:181 Water Street\, Skowhegan\, 181 Water Street\, Skowhegan\, United States
CATEGORIES:Fitness,Gather,May,Yoga
ATTACH;FMTTYPE=image/png:https://skowheganoutdoors.com/wp-content/uploads/2026/04/2.png
END:VEVENT
BEGIN:VEVENT
DTSTART;TZID=America/New_York:20260511T170000
DTEND;TZID=America/New_York:20260511T183000
DTSTAMP:20260422T181911
CREATED:20260421T232848Z
LAST-MODIFIED:20260422T013503Z
UID:4028-1778518800-1778524200@skowheganoutdoors.com
SUMMARY:Backcountry Burn Workout with Kay Active Fitness | May 11\, 2026
DESCRIPTION:Backcountry Burn Workout with Kay Active Fitness\nMay 11 & June 8\, 29 | 5:00pm – 6:30pm\nBasecamp Gear Library\nBackcountry Burn is an outdoor workout built to get your heart rate up and leave you feeling strong. Expect an energizing group session that blends fitness\, fresh air\, and a supportive atmosphere.
URL:https://skowheganoutdoors.com/event/backcountry-burn-workout-with-kay-active-fitness-may-11-2026/
LOCATION:Basecamp Gear Library\, 65 Water St. (Riverside)\, Skowhegan\, ME\, 04976\, United States
CATEGORIES:Explore,Fitness,Free,May
ATTACH;FMTTYPE=image/png:https://skowheganoutdoors.com/wp-content/uploads/2026/04/9.png
END:VEVENT
BEGIN:VEVENT
DTSTART;TZID=America/New_York:20260514T173000
DTEND;TZID=America/New_York:20260514T183000
DTSTAMP:20260422T181911
CREATED:20260421T232848Z
LAST-MODIFIED:20260422T005903Z
UID:4030-1778779800-1778783400@skowheganoutdoors.com
SUMMARY:Run Club with Kay Active Fitness | May 14\, 2026
DESCRIPTION:Run Club with Kay Active Fitness\nMay 7\, 14\, 21\, 28 & June 4\, 11\, 25 | 5:30pm – 6:30pm\nBasecamp Gear Library\nJoin Run Club for a supportive weekly group run that welcomes a range of paces and experience levels. Whether you are building consistency\, getting back into movement\, or just want company on the road\, this is a great way to stay active in community.
URL:https://skowheganoutdoors.com/event/run-club-with-kay-active-fitness-may-14-2026/
LOCATION:Basecamp Gear Library\, 65 Water St. (Riverside)\, Skowhegan\, ME\, 04976\, United States
CATEGORIES:Explore,Fitness,May,Running
ATTACH;FMTTYPE=image/png:https://skowheganoutdoors.com/wp-content/uploads/2026/04/5.png
END:VEVENT
BEGIN:VEVENT
DTSTART;TZID=America/New_York:20260518T170000
DTEND;TZID=America/New_York:20260518T180000
DTSTAMP:20260422T181911
CREATED:20260421T232904Z
LAST-MODIFIED:20260422T002447Z
UID:4036-1779123600-1779127200@skowheganoutdoors.com
SUMMARY:Downtown Rucksack Walk | May 18\, 2026
DESCRIPTION:Downtown Rucksack Walk with Kay Active Fitness\nMay 4\, 18\, 25 & June 1\, 22 | 5:00pm – 6:00pm\nBasecamp Gear Library\nTake a walk through town with Skowhegan Outdoors and enjoy an easygoing hour focused on movement\, conversation\, and community. These walks are a great option for anyone looking to get outside\, build routine\, and explore Skowhegan on foot.
URL:https://skowheganoutdoors.com/event/downtown-rucksack-walk-may-18-2026/
LOCATION:Basecamp Gear Library\, 65 Water St. (Riverside)\, Skowhegan\, ME\, 04976\, United States
CATEGORIES:Explore,Fitness,Free,May
ATTACH;FMTTYPE=image/png:https://skowheganoutdoors.com/wp-content/uploads/2026/04/3.png
END:VEVENT
BEGIN:VEVENT
DTSTART;TZID=America/New_York:20260521T173000
DTEND;TZID=America/New_York:20260521T183000
DTSTAMP:20260422T181911
CREATED:20260421T232919Z
LAST-MODIFIED:20260422T010025Z
UID:4039-1779384600-1779388200@skowheganoutdoors.com
SUMMARY:Run Club with Kay Active Fitness | May 21\, 2026
DESCRIPTION:Run Club with Kay Active Fitness\nMay 7\, 14\, 21\, 28 & June 4\, 11\, 25 | 5:30pm – 6:30pm\nBasecamp Gear Library\nJoin Run Club for a supportive weekly group run that welcomes a range of paces and experience levels. Whether you are building consistency\, getting back into movement\, or just want company on the road\, this is a great way to stay active in community.
URL:https://skowheganoutdoors.com/event/run-club-with-kay-active-fitness-may-21-2026/
LOCATION:Basecamp Gear Library\, 65 Water St. (Riverside)\, Skowhegan\, ME\, 04976\, United States
CATEGORIES:Explore,Fitness,May,Running
ATTACH;FMTTYPE=image/png:https://skowheganoutdoors.com/wp-content/uploads/2026/04/5.png
END:VEVENT
BEGIN:VEVENT
DTSTART;TZID=America/New_York:20260528T173000
DTEND;TZID=America/New_York:20260528T183000
DTSTAMP:20260422T181911
CREATED:20260421T232949Z
LAST-MODIFIED:20260422T010617Z
UID:4047-1779989400-1779993000@skowheganoutdoors.com
SUMMARY:Run Club with Kay Active Fitness | May 28\, 2026
DESCRIPTION:Run Club with Kay Active Fitness\nMay 7\, 14\, 21\, 28 & June 4\, 11\, 25 | 5:30pm – 6:30pm\nBasecamp Gear Library\nJoin Run Club for a supportive weekly group run that welcomes a range of paces and experience levels. Whether you are building consistency\, getting back into movement\, or just want company on the road\, this is a great way to stay active in community.
URL:https://skowheganoutdoors.com/event/run-club-with-kay-active-fitness-may-28-2026/
LOCATION:Basecamp Gear Library\, 65 Water St. (Riverside)\, Skowhegan\, ME\, 04976\, United States
CATEGORIES:Explore,Fitness,Free,May,Running
ATTACH;FMTTYPE=image/png:https://skowheganoutdoors.com/wp-content/uploads/2026/04/Spring-2-Covers-1.png
END:VEVENT
BEGIN:VEVENT
DTSTART;TZID=America/New_York:20260601T170000
DTEND;TZID=America/New_York:20260601T180000
DTSTAMP:20260422T181911
CREATED:20260421T232949Z
LAST-MODIFIED:20260422T002937Z
UID:4050-1780333200-1780336800@skowheganoutdoors.com
SUMMARY:Memorial Day Rucksack Walk | May 25\, 2026
DESCRIPTION:Downtown Rucksack Walk with Kay Active Fitness\nMay 4\, 18\, 25 & June 1\, 22 | 5:00pm – 6:00pm\nBasecamp Gear Library\nTake a walk through town with Skowhegan Outdoors and enjoy an easygoing hour focused on movement\, conversation\, and community. These walks are a great option for anyone looking to get outside\, build routine\, and explore Skowhegan on foot.
URL:https://skowheganoutdoors.com/event/rucksack-walk-may-25-2026/
LOCATION:Basecamp Gear Library\, 65 Water St. (Riverside)\, Skowhegan\, ME\, 04976\, United States
CATEGORIES:Explore,Family Focused,Fitness,Free,May
ATTACH;FMTTYPE=image/png:https://skowheganoutdoors.com/wp-content/uploads/2026/04/3.png
END:VEVENT
BEGIN:VEVENT
DTSTART;TZID=America/New_York:20260601T170000
DTEND;TZID=America/New_York:20260601T180000
DTSTAMP:20260422T181911
CREATED:20260422T003323Z
LAST-MODIFIED:20260422T003554Z
UID:4114-1780333200-1780336800@skowheganoutdoors.com
SUMMARY:Downtown Rucksack Walk | June 1\, 2026
DESCRIPTION:Downtown Rucksack Walk with Kay Active Fitness\nMay 4\, 18\, 25 & June 1\, 22 | 5:00pm – 6:00pm\nBasecamp Gear Library\nTake a walk through town with Skowhegan Outdoors and enjoy an easygoing hour focused on movement\, conversation\, and community. These walks are a great option for anyone looking to get outside\, build routine\, and explore Skowhegan on foot.
URL:https://skowheganoutdoors.com/event/downtown-rucksack-walk-june-1-2026/
CATEGORIES:Explore,Fitness,Free,June
ATTACH;FMTTYPE=image/png:https://skowheganoutdoors.com/wp-content/uploads/2026/04/3.png
END:VEVENT
BEGIN:VEVENT
DTSTART;TZID=America/New_York:20260604T173000
DTEND;TZID=America/New_York:20260604T183000
DTSTAMP:20260422T181911
CREATED:20260421T233004Z
LAST-MODIFIED:20260422T010811Z
UID:4053-1780594200-1780597800@skowheganoutdoors.com
SUMMARY:Run Club with Kay Active Fitness | June 4\, 2026
DESCRIPTION:Run Club with Kay Active Fitness\nMay 7\, 14\, 21\, 28 & June 4\, 11\, 25 | 5:30pm – 6:30pm\nBasecamp Gear Library\nJoin Run Club for a supportive weekly group run that welcomes a range of paces and experience levels. Whether you are building consistency\, getting back into movement\, or just want company on the road\, this is a great way to stay active in community.
URL:https://skowheganoutdoors.com/event/run-club-with-kay-active-fitness-june-4-2026/
LOCATION:Basecamp Gear Library\, 65 Water St. (Riverside)\, Skowhegan\, ME\, 04976\, United States
CATEGORIES:Explore,Fitness,Free,June,Running
ATTACH;FMTTYPE=image/png:https://skowheganoutdoors.com/wp-content/uploads/2026/04/Spring-2-Covers-1.png
END:VEVENT
BEGIN:VEVENT
DTSTART;TZID=America/New_York:20260608T170000
DTEND;TZID=America/New_York:20260608T183000
DTSTAMP:20260422T181911
CREATED:20260421T233019Z
LAST-MODIFIED:20260422T013637Z
UID:4058-1780938000-1780943400@skowheganoutdoors.com
SUMMARY:Backcountry Burn Workout with Kay Active Fitness | June 8\, 2026
DESCRIPTION:Backcountry Burn Workout with Kay Active Fitness\nMay 11 & June 8\, 29 | 5:00pm – 6:30pm\nBasecamp Gear Library\nBackcountry Burn is an outdoor workout built to get your heart rate up and leave you feeling strong. Expect an energizing group session that blends fitness\, fresh air\, and a supportive atmosphere.
URL:https://skowheganoutdoors.com/event/backcountry-burn-workout-with-kay-active-fitness-june-8-2026/
LOCATION:Basecamp Gear Library\, 65 Water St. (Riverside)\, Skowhegan\, ME\, 04976\, United States
CATEGORIES:Explore,Fitness,Free,June
ATTACH;FMTTYPE=image/png:https://skowheganoutdoors.com/wp-content/uploads/2026/04/9.png
END:VEVENT
BEGIN:VEVENT
DTSTART;TZID=America/New_York:20260611T173000
DTEND;TZID=America/New_York:20260611T183000
DTSTAMP:20260422T181911
CREATED:20260421T233034Z
LAST-MODIFIED:20260422T010928Z
UID:4062-1781199000-1781202600@skowheganoutdoors.com
SUMMARY:Run Club with Kay Active Fitness | June 11\, 2026
DESCRIPTION:Run Club with Kay Active Fitness\nMay 7\, 14\, 21\, 28 & June 4\, 11\, 25 | 5:30pm – 6:30pm\nBasecamp Gear Library\nJoin Run Club for a supportive weekly group run that welcomes a range of paces and experience levels. Whether you are building consistency\, getting back into movement\, or just want company on the road\, this is a great way to stay active in community.
URL:https://skowheganoutdoors.com/event/run-club-with-kay-active-fitness-june-11-2026/
LOCATION:Basecamp Gear Library\, 65 Water St. (Riverside)\, Skowhegan\, ME\, 04976\, United States
CATEGORIES:Explore,Fitness,Free,June,Running
ATTACH;FMTTYPE=image/png:https://skowheganoutdoors.com/wp-content/uploads/2026/04/Spring-2-Covers-1.png
END:VEVENT
BEGIN:VEVENT
DTSTART;TZID=America/New_York:20260623T140000
DTEND;TZID=America/New_York:20260623T160000
DTSTAMP:20260422T181911
CREATED:20260421T233119Z
LAST-MODIFIED:20260422T144428Z
UID:4078-1782223200-1782230400@skowheganoutdoors.com
SUMMARY:Basics of SUPing | June 23\, 2026
DESCRIPTION:Basics of SUPing\nJune 23 | 2:00pm – 4:00pm\nLake George Regional Park East\nTry stand-up paddleboarding in a beginner-friendly session designed to help participants get comfortable on the water. This program focuses on foundational skills\, balance\, and fun while offering a supportive introduction to SUP.
URL:https://skowheganoutdoors.com/event/basics-of-suping-june-23-2026/
LOCATION:Lake George East\, Canaan\, United States
CATEGORIES:Fitness,Free,Learn,Paddling
ATTACH;FMTTYPE=image/png:https://skowheganoutdoors.com/wp-content/uploads/2026/04/31.png
END:VEVENT
BEGIN:VEVENT
DTSTART;TZID=America/New_York:20260625T173000
DTEND;TZID=America/New_York:20260625T183000
DTSTAMP:20260422T181911
CREATED:20260421T233119Z
LAST-MODIFIED:20260422T011044Z
UID:4081-1782408600-1782412200@skowheganoutdoors.com
SUMMARY:Run Club with Kay Active Fitness | June 25\, 2026
DESCRIPTION:Run Club with Kay Active Fitness\nMay 7\, 14\, 21\, 28 & June 4\, 11\, 25 | 5:30pm – 6:30pm\nBasecamp Gear Library\nJoin Run Club for a supportive weekly group run that welcomes a range of paces and experience levels. Whether you are building consistency\, getting back into movement\, or just want company on the road\, this is a great way to stay active in community.
URL:https://skowheganoutdoors.com/event/run-club-with-kay-active-fitness-june-25-2026/
LOCATION:Basecamp Gear Library\, 65 Water St. (Riverside)\, Skowhegan\, ME\, 04976\, United States
CATEGORIES:Explore,Fitness,Free,June,Running
ATTACH;FMTTYPE=image/png:https://skowheganoutdoors.com/wp-content/uploads/2026/04/Spring-2-Covers-1.png
END:VEVENT
BEGIN:VEVENT
DTSTART;TZID=America/New_York:20260629T170000
DTEND;TZID=America/New_York:20260629T183000
DTSTAMP:20260422T181911
CREATED:20260421T233149Z
LAST-MODIFIED:20260422T013747Z
UID:4088-1782752400-1782757800@skowheganoutdoors.com
SUMMARY:Backcountry Burn Workout with Kay Active Fitness | June 29\, 2026
DESCRIPTION:Backcountry Burn Workout with Kay Active Fitness\nMay 11 & June 8\, 29 | 5:00pm – 6:30pm\nBasecamp Gear Library\nBackcountry Burn is an outdoor workout built to get your heart rate up and leave you feeling strong. Expect an energizing group session that blends fitness\, fresh air\, and a supportive atmosphere.
URL:https://skowheganoutdoors.com/event/backcountry-burn-workout-with-kay-active-fitness-june-29-2026/
LOCATION:Basecamp Gear Library\, 65 Water St. (Riverside)\, Skowhegan\, ME\, 04976\, United States
CATEGORIES:Explore,Fitness,Free,June
ATTACH;FMTTYPE=image/png:https://skowheganoutdoors.com/wp-content/uploads/2026/04/9.png
END:VEVENT
END:VCALENDAR