BEGIN:VCALENDAR
VERSION:2.0
PRODID:-//Skowhegan Outdoors - ECPv6.15.20//NONSGML v1.0//EN
CALSCALE:GREGORIAN
METHOD:PUBLISH
X-ORIGINAL-URL:https://skowheganoutdoors.com
X-WR-CALDESC:Events for Skowhegan Outdoors
REFRESH-INTERVAL;VALUE=DURATION:PT1H
X-Robots-Tag:noindex
X-PUBLISHED-TTL:PT1H
BEGIN:VTIMEZONE
TZID:America/New_York
BEGIN:DAYLIGHT
TZOFFSETFROM:-0500
TZOFFSETTO:-0400
TZNAME:EDT
DTSTART:20250309T070000
END:DAYLIGHT
BEGIN:STANDARD
TZOFFSETFROM:-0400
TZOFFSETTO:-0500
TZNAME:EST
DTSTART:20251102T060000
END:STANDARD
BEGIN:DAYLIGHT
TZOFFSETFROM:-0500
TZOFFSETTO:-0400
TZNAME:EDT
DTSTART:20260308T070000
END:DAYLIGHT
BEGIN:STANDARD
TZOFFSETFROM:-0400
TZOFFSETTO:-0500
TZNAME:EST
DTSTART:20261101T060000
END:STANDARD
BEGIN:DAYLIGHT
TZOFFSETFROM:-0500
TZOFFSETTO:-0400
TZNAME:EDT
DTSTART:20270314T070000
END:DAYLIGHT
BEGIN:STANDARD
TZOFFSETFROM:-0400
TZOFFSETTO:-0500
TZNAME:EST
DTSTART:20271107T060000
END:STANDARD
END:VTIMEZONE
BEGIN:VEVENT
DTSTART;TZID=America/New_York:20260115T150000
DTEND;TZID=America/New_York:20260115T160000
DTSTAMP:20260421T224251
CREATED:20251218T214824Z
LAST-MODIFIED:20251218T214824Z
UID:3426-1768489200-1768492800@skowheganoutdoors.com
SUMMARY:Dog-Friendly Snowshoe Walk
DESCRIPTION:Register!\n\n\n			Fresh Air Fridays\n12:00pm – 1:00pm @ Coburn Park\, Skowhegan\nMay 1\, 8\, 15 & June 12\, 19\, 26\nCost: Free\nFresh Air Fridays are a simple way to get outside\, move your body\, and enjoy a midday break in community. Join Skowhegan Outdoors for a relaxed hour outdoors that is open to all experience levels and designed to make getting outside feel easy and approachable!
URL:https://skowheganoutdoors.com/event/dog-friendly-snowshoe-walk/
LOCATION:Robbins Hill Scenic Overlook\, Solon\, United States
CATEGORIES:Explore,Family Focused,Free,January,Snowshoe
ATTACH;FMTTYPE=image/png:https://skowheganoutdoors.com/wp-content/uploads/2025/12/10.png
ORGANIZER;CN="amber@mainstreetskowhegan.org":MAILTO:amber@mainstreetskowhegan.org
END:VEVENT
BEGIN:VEVENT
DTSTART;TZID=America/New_York:20260120T170000
DTEND;TZID=America/New_York:20260120T183000
DTSTAMP:20260421T224251
CREATED:20251218T214640Z
LAST-MODIFIED:20251218T215923Z
UID:3424-1768928400-1768933800@skowheganoutdoors.com
SUMMARY:DIY Beanie Embroidery with Skowhegan Free Public Library
DESCRIPTION:Register!\n\n\n			Fresh Air Fridays\n12:00pm – 1:00pm @ Coburn Park\, Skowhegan\nMay 1\, 8\, 15 & June 12\, 19\, 26\nCost: Free\nFresh Air Fridays are a simple way to get outside\, move your body\, and enjoy a midday break in community. Join Skowhegan Outdoors for a relaxed hour outdoors that is open to all experience levels and designed to make getting outside feel easy and approachable!
URL:https://skowheganoutdoors.com/event/diy-beanie-embroidery/
LOCATION:Skowhegan Free Public Library\, 9 Elm Street\, Skowhegan\, Maine
CATEGORIES:Family Focused,Free,Gather,January,Seminar
ATTACH;FMTTYPE=image/png:https://skowheganoutdoors.com/wp-content/uploads/2025/12/Jan-Feb-Event-Covers-2026-1.png
ORGANIZER;CN="amber@mainstreetskowhegan.org":MAILTO:amber@mainstreetskowhegan.org
END:VEVENT
BEGIN:VEVENT
DTSTART;TZID=America/New_York:20260130T170000
DTEND;TZID=America/New_York:20260130T190000
DTSTAMP:20260421T224251
CREATED:20251218T215345Z
LAST-MODIFIED:20251218T215345Z
UID:3432-1769792400-1769799600@skowheganoutdoors.com
SUMMARY:Bugs & Brews: Learn Fly-Tying
DESCRIPTION:Register!\n\n\n			Fresh Air Fridays\n12:00pm – 1:00pm @ Coburn Park\, Skowhegan\nMay 1\, 8\, 15 & June 12\, 19\, 26\nCost: Free\nFresh Air Fridays are a simple way to get outside\, move your body\, and enjoy a midday break in community. Join Skowhegan Outdoors for a relaxed hour outdoors that is open to all experience levels and designed to make getting outside feel easy and approachable!
URL:https://skowheganoutdoors.com/event/bugs-brews-learn-fly-tying/
LOCATION:Skowhegan Outdoors Basecamp Gear Library\, 65 Water Street\, Skowhegan\, ME\, 04976\, United States
CATEGORIES:Family Focused,Fishing,Free,January,Learn,Seminar
ATTACH;FMTTYPE=image/png:https://skowheganoutdoors.com/wp-content/uploads/2025/12/13.png
ORGANIZER;CN="amber@mainstreetskowhegan.org":MAILTO:amber@mainstreetskowhegan.org
END:VEVENT
BEGIN:VEVENT
DTSTART;TZID=America/New_York:20260206T110000
DTEND;TZID=America/New_York:20260206T140000
DTSTAMP:20260421T224251
CREATED:20251218T222210Z
LAST-MODIFIED:20251218T222404Z
UID:3458-1770375600-1770386400@skowheganoutdoors.com
SUMMARY:Cross-Country Ski Clinic @ Quarry Road Trails
DESCRIPTION:Register!\n\n\n			Fresh Air Fridays\n12:00pm – 1:00pm @ Coburn Park\, Skowhegan\nMay 1\, 8\, 15 & June 12\, 19\, 26\nCost: Free\nFresh Air Fridays are a simple way to get outside\, move your body\, and enjoy a midday break in community. Join Skowhegan Outdoors for a relaxed hour outdoors that is open to all experience levels and designed to make getting outside feel easy and approachable!
URL:https://skowheganoutdoors.com/event/cross-country-ski-clinic-quarry-road-trails/
LOCATION:Quarry Road Trails\, 300 Quarry Road\, Waterville\, Maine
CATEGORIES:Cross-Country Skiing,Elevate,Family Focused,February
ATTACH;FMTTYPE=image/png:https://skowheganoutdoors.com/wp-content/uploads/2025/12/9.png
ORGANIZER;CN="amber@mainstreetskowhegan.org":MAILTO:amber@mainstreetskowhegan.org
END:VEVENT
BEGIN:VEVENT
DTSTART;TZID=America/New_York:20260207T110000
DTEND;TZID=America/New_York:20260207T140000
DTSTAMP:20260421T224251
CREATED:20251218T215114Z
LAST-MODIFIED:20251218T215114Z
UID:3430-1770462000-1770472800@skowheganoutdoors.com
SUMMARY:Ice Skating on Lake George
DESCRIPTION:Register!\n\n\n			Fresh Air Fridays\n12:00pm – 1:00pm @ Coburn Park\, Skowhegan\nMay 1\, 8\, 15 & June 12\, 19\, 26\nCost: Free\nFresh Air Fridays are a simple way to get outside\, move your body\, and enjoy a midday break in community. Join Skowhegan Outdoors for a relaxed hour outdoors that is open to all experience levels and designed to make getting outside feel easy and approachable!
URL:https://skowheganoutdoors.com/event/ice-skating-on-lake-george-2/
LOCATION:Lake George Regional Park (West)\, W Lake George Park Rd\, Skowhegan\, ME\, 04976\, United States
CATEGORIES:Explore,Family Focused,February,Free
ATTACH;FMTTYPE=image/png:https://skowheganoutdoors.com/wp-content/uploads/2025/12/12.png
ORGANIZER;CN="amber@mainstreetskowhegan.org":MAILTO:amber@mainstreetskowhegan.org
END:VEVENT
BEGIN:VEVENT
DTSTART;TZID=America/New_York:20260210T170000
DTEND;TZID=America/New_York:20260210T183000
DTSTAMP:20260421T224251
CREATED:20251218T220501Z
LAST-MODIFIED:20251218T220501Z
UID:3439-1770742800-1770748200@skowheganoutdoors.com
SUMMARY:Learn Fly-Tying with Skowhegan Free Public Library
DESCRIPTION:Register!\n\n\n			Fresh Air Fridays\n12:00pm – 1:00pm @ Coburn Park\, Skowhegan\nMay 1\, 8\, 15 & June 12\, 19\, 26\nCost: Free\nFresh Air Fridays are a simple way to get outside\, move your body\, and enjoy a midday break in community. Join Skowhegan Outdoors for a relaxed hour outdoors that is open to all experience levels and designed to make getting outside feel easy and approachable!
URL:https://skowheganoutdoors.com/event/learn-fly-tying-with-skowhegan-free-public-library/
LOCATION:Skowhegan Free Public Library\, 9 Elm Street\, Skowhegan\, Maine
CATEGORIES:Family Focused,February,Fishing,Free,Gather,Seminar
ATTACH;FMTTYPE=image/png:https://skowheganoutdoors.com/wp-content/uploads/2025/12/Jan-Feb-Event-Covers-2026-3.png
ORGANIZER;CN="amber@mainstreetskowhegan.org":MAILTO:amber@mainstreetskowhegan.org
END:VEVENT
BEGIN:VEVENT
DTSTART;TZID=America/New_York:20260214T090000
DTEND;TZID=America/New_York:20260214T130000
DTSTAMP:20260421T224251
CREATED:20251218T220712Z
LAST-MODIFIED:20260210T152752Z
UID:3442-1771059600-1771074000@skowheganoutdoors.com
SUMMARY:SnowFest Fun at Lake George
DESCRIPTION:Register!\n\n\n			Fresh Air Fridays\n12:00pm – 1:00pm @ Coburn Park\, Skowhegan\nMay 1\, 8\, 15 & June 12\, 19\, 26\nCost: Free\nFresh Air Fridays are a simple way to get outside\, move your body\, and enjoy a midday break in community. Join Skowhegan Outdoors for a relaxed hour outdoors that is open to all experience levels and designed to make getting outside feel easy and approachable!
URL:https://skowheganoutdoors.com/event/snowfest-fun-at-lake-george/
LOCATION:Lake George Regional Park (West)\, W Lake George Park Rd\, Skowhegan\, ME\, 04976\, United States
CATEGORIES:Family Focused,February,Gather
ATTACH;FMTTYPE=image/png:https://skowheganoutdoors.com/wp-content/uploads/2025/12/16.png
ORGANIZER;CN="amber@mainstreetskowhegan.org":MAILTO:amber@mainstreetskowhegan.org
END:VEVENT
BEGIN:VEVENT
DTSTART;TZID=America/New_York:20260217T090000
DTEND;TZID=America/New_York:20260217T100000
DTSTAMP:20260421T224251
CREATED:20260217T173319Z
LAST-MODIFIED:20260217T173319Z
UID:3760-1771318800-1771322400@skowheganoutdoors.com
SUMMARY:Morning Cross-Country Ski @ Lakewood Golf Course | March 17\, 2026
DESCRIPTION:Register!\n\n\n			Fresh Air Fridays\n12:00pm – 1:00pm @ Coburn Park\, Skowhegan\nMay 1\, 8\, 15 & June 12\, 19\, 26\nCost: Free\nFresh Air Fridays are a simple way to get outside\, move your body\, and enjoy a midday break in community. Join Skowhegan Outdoors for a relaxed hour outdoors that is open to all experience levels and designed to make getting outside feel easy and approachable!
URL:https://skowheganoutdoors.com/event/morning-cross-country-ski-lakewood-golf-course-march-17-2026/
CATEGORIES:Cross-Country Skiing,Explore,Family Focused,Free,March
ATTACH;FMTTYPE=image/png:https://skowheganoutdoors.com/wp-content/uploads/2026/02/3.png
END:VEVENT
BEGIN:VEVENT
DTSTART;VALUE=DATE:20260218
DTEND;VALUE=DATE:20260219
DTSTAMP:20260421T224251
CREATED:20251218T221414Z
LAST-MODIFIED:20260109T164454Z
UID:3450-1771372800-1771459199@skowheganoutdoors.com
SUMMARY:Horse-Drawn Carriage Rides with Seavey Farm & Winter Field Day with REACH
DESCRIPTION:Register!\n\n\n			Fresh Air Fridays\n12:00pm – 1:00pm @ Coburn Park\, Skowhegan\nMay 1\, 8\, 15 & June 12\, 19\, 26\nCost: Free\nFresh Air Fridays are a simple way to get outside\, move your body\, and enjoy a midday break in community. Join Skowhegan Outdoors for a relaxed hour outdoors that is open to all experience levels and designed to make getting outside feel easy and approachable!
URL:https://skowheganoutdoors.com/event/winter-field-day-with-reach/
CATEGORIES:Explore,Family Focused,February
ATTACH;FMTTYPE=image/png:https://skowheganoutdoors.com/wp-content/uploads/2025/12/19.png
END:VEVENT
BEGIN:VEVENT
DTSTART;TZID=America/New_York:20260221T100000
DTEND;TZID=America/New_York:20260221T150000
DTSTAMP:20260421T224251
CREATED:20251218T221650Z
LAST-MODIFIED:20251218T221905Z
UID:3454-1771668000-1771686000@skowheganoutdoors.com
SUMMARY:Skijor Skowhegan
DESCRIPTION:Register!\n\n\n			Fresh Air Fridays\n12:00pm – 1:00pm @ Coburn Park\, Skowhegan\nMay 1\, 8\, 15 & June 12\, 19\, 26\nCost: Free\nFresh Air Fridays are a simple way to get outside\, move your body\, and enjoy a midday break in community. Join Skowhegan Outdoors for a relaxed hour outdoors that is open to all experience levels and designed to make getting outside feel easy and approachable!
URL:https://skowheganoutdoors.com/event/skijor-skowhegan/
CATEGORIES:Family Focused,February
ATTACH;FMTTYPE=image/png:https://skowheganoutdoors.com/wp-content/uploads/2025/12/21.png
END:VEVENT
BEGIN:VEVENT
DTSTART;TZID=America/New_York:20260227T110000
DTEND;TZID=America/New_York:20260227T140000
DTSTAMP:20260421T224251
CREATED:20251218T222323Z
LAST-MODIFIED:20251218T222323Z
UID:3462-1772190000-1772200800@skowheganoutdoors.com
SUMMARY:Cross-Country Ski Clinic @ Quarry Road Trails
DESCRIPTION:Register!\n\n\n			Fresh Air Fridays\n12:00pm – 1:00pm @ Coburn Park\, Skowhegan\nMay 1\, 8\, 15 & June 12\, 19\, 26\nCost: Free\nFresh Air Fridays are a simple way to get outside\, move your body\, and enjoy a midday break in community. Join Skowhegan Outdoors for a relaxed hour outdoors that is open to all experience levels and designed to make getting outside feel easy and approachable!
URL:https://skowheganoutdoors.com/event/cross-country-ski-clinic-quarry-road-trails-2/
LOCATION:Quarry Road Trails\, 300 Quarry Road\, Waterville\, Maine
CATEGORIES:Cross-Country Skiing,Elevate,Family Focused,February
ATTACH;FMTTYPE=image/png:https://skowheganoutdoors.com/wp-content/uploads/2025/12/9.png
ORGANIZER;CN="amber@mainstreetskowhegan.org":MAILTO:amber@mainstreetskowhegan.org
END:VEVENT
BEGIN:VEVENT
DTSTART;TZID=America/New_York:20260303T090000
DTEND;TZID=America/New_York:20260303T100000
DTSTAMP:20260421T224251
CREATED:20260217T173147Z
LAST-MODIFIED:20260217T173147Z
UID:3757-1772528400-1772532000@skowheganoutdoors.com
SUMMARY:Morning Cross-Country Ski @ Lakewood Golf Course | March 3\, 2026
DESCRIPTION:Register!\n\n\n			Fresh Air Fridays\n12:00pm – 1:00pm @ Coburn Park\, Skowhegan\nMay 1\, 8\, 15 & June 12\, 19\, 26\nCost: Free\nFresh Air Fridays are a simple way to get outside\, move your body\, and enjoy a midday break in community. Join Skowhegan Outdoors for a relaxed hour outdoors that is open to all experience levels and designed to make getting outside feel easy and approachable!
URL:https://skowheganoutdoors.com/event/morning-cross-country-ski-lakewood-golf-course-march-3-2026/
CATEGORIES:Cross-Country Skiing,Explore,Family Focused,Free,March
ATTACH;FMTTYPE=image/png:https://skowheganoutdoors.com/wp-content/uploads/2026/02/3.png
END:VEVENT
BEGIN:VEVENT
DTSTART;TZID=America/New_York:20260323T170000
DTEND;TZID=America/New_York:20260323T190000
DTSTAMP:20260421T224251
CREATED:20260217T200022Z
LAST-MODIFIED:20260217T200022Z
UID:3802-1774285200-1774292400@skowheganoutdoors.com
SUMMARY:Spring Open House
DESCRIPTION:Register!\n\n\n			Fresh Air Fridays\n12:00pm – 1:00pm @ Coburn Park\, Skowhegan\nMay 1\, 8\, 15 & June 12\, 19\, 26\nCost: Free\nFresh Air Fridays are a simple way to get outside\, move your body\, and enjoy a midday break in community. Join Skowhegan Outdoors for a relaxed hour outdoors that is open to all experience levels and designed to make getting outside feel easy and approachable!
URL:https://skowheganoutdoors.com/event/spring-open-house/
CATEGORIES:Family Focused,Free,Gather,Learn
ATTACH;FMTTYPE=image/png:https://skowheganoutdoors.com/wp-content/uploads/2026/02/8.png
END:VEVENT
BEGIN:VEVENT
DTSTART;TZID=America/New_York:20260402T173000
DTEND;TZID=America/New_York:20260402T183000
DTSTAMP:20260421T224252
CREATED:20260217T194038Z
LAST-MODIFIED:20260217T194038Z
UID:3784-1775151000-1775154600@skowheganoutdoors.com
SUMMARY:"Spring Forward" Run Club with Kay Active Fitness | April 2\, 2026
DESCRIPTION:Register!\n\n\n			Fresh Air Fridays\n12:00pm – 1:00pm @ Coburn Park\, Skowhegan\nMay 1\, 8\, 15 & June 12\, 19\, 26\nCost: Free\nFresh Air Fridays are a simple way to get outside\, move your body\, and enjoy a midday break in community. Join Skowhegan Outdoors for a relaxed hour outdoors that is open to all experience levels and designed to make getting outside feel easy and approachable!
URL:https://skowheganoutdoors.com/event/spring-forward-run-club-with-kay-active-fitness-april-2-2026/
CATEGORIES:April,Explore,Family Focused,Fitness,Free
ATTACH;FMTTYPE=image/png:https://skowheganoutdoors.com/wp-content/uploads/2026/02/9.png
END:VEVENT
BEGIN:VEVENT
DTSTART;TZID=America/New_York:20260409T173000
DTEND;TZID=America/New_York:20260409T183000
DTSTAMP:20260421T224252
CREATED:20260217T194142Z
LAST-MODIFIED:20260217T194142Z
UID:3787-1775755800-1775759400@skowheganoutdoors.com
SUMMARY:"Spring Forward" Run Club with Kay Active Fitness | April 9\, 2026
DESCRIPTION:Register!\n\n\n			Fresh Air Fridays\n12:00pm – 1:00pm @ Coburn Park\, Skowhegan\nMay 1\, 8\, 15 & June 12\, 19\, 26\nCost: Free\nFresh Air Fridays are a simple way to get outside\, move your body\, and enjoy a midday break in community. Join Skowhegan Outdoors for a relaxed hour outdoors that is open to all experience levels and designed to make getting outside feel easy and approachable!
URL:https://skowheganoutdoors.com/event/spring-forward-run-club-with-kay-active-fitness-april-9-2026/
CATEGORIES:April,Explore,Family Focused,Fitness,Free,Running
ATTACH;FMTTYPE=image/png:https://skowheganoutdoors.com/wp-content/uploads/2026/02/9.png
END:VEVENT
BEGIN:VEVENT
DTSTART;TZID=America/New_York:20260414T180000
DTEND;TZID=America/New_York:20260414T190000
DTSTAMP:20260421T224252
CREATED:20260217T195430Z
LAST-MODIFIED:20260217T195430Z
UID:3796-1776189600-1776193200@skowheganoutdoors.com
SUMMARY:Basecamp Session: Vernal Pools - More Than a Puddle | April 14\, 2026
DESCRIPTION:Register!\n\n\n			Fresh Air Fridays\n12:00pm – 1:00pm @ Coburn Park\, Skowhegan\nMay 1\, 8\, 15 & June 12\, 19\, 26\nCost: Free\nFresh Air Fridays are a simple way to get outside\, move your body\, and enjoy a midday break in community. Join Skowhegan Outdoors for a relaxed hour outdoors that is open to all experience levels and designed to make getting outside feel easy and approachable!
URL:https://skowheganoutdoors.com/event/basecamp-session-vernal-pools-more-than-a-puddle-april-14-2026/
CATEGORIES:April,Family Focused,Free,Gather,Seminar
ATTACH;FMTTYPE=image/png:https://skowheganoutdoors.com/wp-content/uploads/2026/02/10.png
END:VEVENT
BEGIN:VEVENT
DTSTART;TZID=America/New_York:20260422T170000
DTEND;TZID=America/New_York:20260422T183000
DTSTAMP:20260421T224252
CREATED:20260217T195702Z
LAST-MODIFIED:20260217T195702Z
UID:3799-1776877200-1776882600@skowheganoutdoors.com
SUMMARY:Earth Day Blue & Green Space Clean-Up | April 22\, 2026
DESCRIPTION:Register!\n\n\n			Fresh Air Fridays\n12:00pm – 1:00pm @ Coburn Park\, Skowhegan\nMay 1\, 8\, 15 & June 12\, 19\, 26\nCost: Free\nFresh Air Fridays are a simple way to get outside\, move your body\, and enjoy a midday break in community. Join Skowhegan Outdoors for a relaxed hour outdoors that is open to all experience levels and designed to make getting outside feel easy and approachable!
URL:https://skowheganoutdoors.com/event/earth-day-blue-green-space-clean-up-april-22-2026/
CATEGORIES:April,Explore,Family Focused,Free
ATTACH;FMTTYPE=image/png:https://skowheganoutdoors.com/wp-content/uploads/2026/02/11.png
END:VEVENT
BEGIN:VEVENT
DTSTART;TZID=America/New_York:20260504T170000
DTEND;TZID=America/New_York:20260504T180000
DTSTAMP:20260421T224252
CREATED:20260421T232830Z
LAST-MODIFIED:20260422T002204Z
UID:4021-1777914000-1777917600@skowheganoutdoors.com
SUMMARY:Downtown Rucksack Walk | May 4\, 2026
DESCRIPTION:Register!\n\n\n			Fresh Air Fridays\n12:00pm – 1:00pm @ Coburn Park\, Skowhegan\nMay 1\, 8\, 15 & June 12\, 19\, 26\nCost: Free\nFresh Air Fridays are a simple way to get outside\, move your body\, and enjoy a midday break in community. Join Skowhegan Outdoors for a relaxed hour outdoors that is open to all experience levels and designed to make getting outside feel easy and approachable!
URL:https://skowheganoutdoors.com/event/downtown-rucksack-walk-may-4-2026/
LOCATION:Basecamp Gear Library\, 65 Water St. (Riverside)\, Skowhegan\, ME\, 04976\, United States
CATEGORIES:Explore,Family Focused,Fitness,Free,May
ATTACH;FMTTYPE=image/png:https://skowheganoutdoors.com/wp-content/uploads/2026/04/3.png
END:VEVENT
BEGIN:VEVENT
DTSTART;TZID=America/New_York:20260505T160000
DTEND;TZID=America/New_York:20260505T173000
DTSTAMP:20260421T224252
CREATED:20260421T232830Z
LAST-MODIFIED:20260422T004249Z
UID:4022-1777996800-1778002200@skowheganoutdoors.com
SUMMARY:Rock Painting | May 5\, 2026
DESCRIPTION:Register!\n\n\n			Fresh Air Fridays\n12:00pm – 1:00pm @ Coburn Park\, Skowhegan\nMay 1\, 8\, 15 & June 12\, 19\, 26\nCost: Free\nFresh Air Fridays are a simple way to get outside\, move your body\, and enjoy a midday break in community. Join Skowhegan Outdoors for a relaxed hour outdoors that is open to all experience levels and designed to make getting outside feel easy and approachable!
URL:https://skowheganoutdoors.com/event/rock-painting-may-5-2026/
LOCATION:Skowhegan Public Library\, Skowhegan\, United States
CATEGORIES:Family Focused,Gather,May
ATTACH;FMTTYPE=image/png:https://skowheganoutdoors.com/wp-content/uploads/2026/04/4.png
END:VEVENT
BEGIN:VEVENT
DTSTART;TZID=America/New_York:20260508T120000
DTEND;TZID=America/New_York:20260508T130000
DTSTAMP:20260421T224252
CREATED:20260421T230815Z
LAST-MODIFIED:20260421T231014Z
UID:3988-1778241600-1778245200@skowheganoutdoors.com
SUMMARY:Fresh Air Fridays | May 8\, 2026
DESCRIPTION:Register!\n\n\n			Fresh Air Fridays\n12:00pm – 1:00pm @ Coburn Park\, Skowhegan\nMay 1\, 8\, 15 & June 12\, 19\, 26\nCost: Free\nFresh Air Fridays are a simple way to get outside\, move your body\, and enjoy a midday break in community. Join Skowhegan Outdoors for a relaxed hour outdoors that is open to all experience levels and designed to make getting outside feel easy and approachable!
URL:https://skowheganoutdoors.com/event/fresh-air-friday-may-8/
CATEGORIES:Family Focused,Free,Gather,May
ATTACH;FMTTYPE=image/png:https://skowheganoutdoors.com/wp-content/uploads/2026/04/1.png
END:VEVENT
BEGIN:VEVENT
DTSTART;TZID=America/New_York:20260509T100000
DTEND;TZID=America/New_York:20260509T120000
DTSTAMP:20260421T224252
CREATED:20260421T232832Z
LAST-MODIFIED:20260422T011702Z
UID:4024-1778320800-1778328000@skowheganoutdoors.com
SUMMARY:Outdoor Preparedness Workshop with SCEMA | May 9\, 2026
DESCRIPTION:Register!\n\n\n			Fresh Air Fridays\n12:00pm – 1:00pm @ Coburn Park\, Skowhegan\nMay 1\, 8\, 15 & June 12\, 19\, 26\nCost: Free\nFresh Air Fridays are a simple way to get outside\, move your body\, and enjoy a midday break in community. Join Skowhegan Outdoors for a relaxed hour outdoors that is open to all experience levels and designed to make getting outside feel easy and approachable!
URL:https://skowheganoutdoors.com/event/outdoor-preparedness-workshop-with-scema-may-9-2026/
LOCATION:Lake George East\, Canaan\, United States
CATEGORIES:Family Focused,Learn,May
ATTACH;FMTTYPE=image/png:https://skowheganoutdoors.com/wp-content/uploads/2026/04/6.png
END:VEVENT
BEGIN:VEVENT
DTSTART;TZID=America/New_York:20260509T120000
DTEND;TZID=America/New_York:20260509T150000
DTSTAMP:20260421T224252
CREATED:20260421T232832Z
LAST-MODIFIED:20260422T012140Z
UID:4025-1778328000-1778338800@skowheganoutdoors.com
SUMMARY:Family Picnic and Play | May 9\, 2026
DESCRIPTION:Register!\n\n\n			Fresh Air Fridays\n12:00pm – 1:00pm @ Coburn Park\, Skowhegan\nMay 1\, 8\, 15 & June 12\, 19\, 26\nCost: Free\nFresh Air Fridays are a simple way to get outside\, move your body\, and enjoy a midday break in community. Join Skowhegan Outdoors for a relaxed hour outdoors that is open to all experience levels and designed to make getting outside feel easy and approachable!
URL:https://skowheganoutdoors.com/event/family-picnic-play-may-9-2026/
LOCATION:Lake George East\, Canaan\, United States
CATEGORIES:Family Focused,Free,Gather,May
ATTACH;FMTTYPE=image/png:https://skowheganoutdoors.com/wp-content/uploads/2026/04/7.png
END:VEVENT
BEGIN:VEVENT
DTSTART;TZID=America/New_York:20260510T090000
DTEND;TZID=America/New_York:20260510T150000
DTSTAMP:20260421T224252
CREATED:20260421T232848Z
LAST-MODIFIED:20260422T012759Z
UID:4027-1778403600-1778425200@skowheganoutdoors.com
SUMMARY:Cold Stream Falls Hike | May 10\, 2026
DESCRIPTION:Register!\n\n\n			Fresh Air Fridays\n12:00pm – 1:00pm @ Coburn Park\, Skowhegan\nMay 1\, 8\, 15 & June 12\, 19\, 26\nCost: Free\nFresh Air Fridays are a simple way to get outside\, move your body\, and enjoy a midday break in community. Join Skowhegan Outdoors for a relaxed hour outdoors that is open to all experience levels and designed to make getting outside feel easy and approachable!
URL:https://skowheganoutdoors.com/event/cold-stream-falls-hike-may-10-2026/
LOCATION:Basecamp Gear Library\, 65 Water St. (Riverside)\, Skowhegan\, ME\, 04976\, United States
CATEGORIES:Explore,Family Focused,Hike,May
ATTACH;FMTTYPE=image/png:https://skowheganoutdoors.com/wp-content/uploads/2026/04/8.png
END:VEVENT
BEGIN:VEVENT
DTSTART;TZID=America/New_York:20260516T080000
DTEND;TZID=America/New_York:20260516T160000
DTSTAMP:20260421T224252
CREATED:20260421T232904Z
LAST-MODIFIED:20260422T020503Z
UID:4034-1778918400-1778947200@skowheganoutdoors.com
SUMMARY:Somerset Outing Club Moxie Falls & Family Park Fun | May 16\, 2026
DESCRIPTION:Register!\n\n\n			Fresh Air Fridays\n12:00pm – 1:00pm @ Coburn Park\, Skowhegan\nMay 1\, 8\, 15 & June 12\, 19\, 26\nCost: Free\nFresh Air Fridays are a simple way to get outside\, move your body\, and enjoy a midday break in community. Join Skowhegan Outdoors for a relaxed hour outdoors that is open to all experience levels and designed to make getting outside feel easy and approachable!
URL:https://skowheganoutdoors.com/event/somerset-outing-club-moxie-falls-family-park-fun-may-16-2026/
LOCATION:Basecamp Gear Library\, 65 Water St. (Riverside)\, Skowhegan\, ME\, 04976\, United States
CATEGORIES:Explore,Family Focused,Free,May
ATTACH;FMTTYPE=image/png:https://skowheganoutdoors.com/wp-content/uploads/2026/04/11.png
END:VEVENT
BEGIN:VEVENT
DTSTART;TZID=America/New_York:20260601T170000
DTEND;TZID=America/New_York:20260601T180000
DTSTAMP:20260421T224252
CREATED:20260421T232949Z
LAST-MODIFIED:20260422T002937Z
UID:4050-1780333200-1780336800@skowheganoutdoors.com
SUMMARY:Memorial Day Rucksack Walk | May 25\, 2026
DESCRIPTION:Register!\n\n\n			Fresh Air Fridays\n12:00pm – 1:00pm @ Coburn Park\, Skowhegan\nMay 1\, 8\, 15 & June 12\, 19\, 26\nCost: Free\nFresh Air Fridays are a simple way to get outside\, move your body\, and enjoy a midday break in community. Join Skowhegan Outdoors for a relaxed hour outdoors that is open to all experience levels and designed to make getting outside feel easy and approachable!
URL:https://skowheganoutdoors.com/event/rucksack-walk-may-25-2026/
LOCATION:Basecamp Gear Library\, 65 Water St. (Riverside)\, Skowhegan\, ME\, 04976\, United States
CATEGORIES:Explore,Family Focused,Fitness,Free,May
ATTACH;FMTTYPE=image/png:https://skowheganoutdoors.com/wp-content/uploads/2026/04/3.png
END:VEVENT
BEGIN:VEVENT
DTSTART;TZID=America/New_York:20260612T120000
DTEND;TZID=America/New_York:20260612T130000
DTSTAMP:20260421T224252
CREATED:20260421T233034Z
LAST-MODIFIED:20260421T235901Z
UID:4064-1781265600-1781269200@skowheganoutdoors.com
SUMMARY:Fresh Air Fridays | June 12\, 2026
DESCRIPTION:Register!\n\n\n			Fresh Air Fridays\n12:00pm – 1:00pm @ Coburn Park\, Skowhegan\nMay 1\, 8\, 15 & June 12\, 19\, 26\nCost: Free\nFresh Air Fridays are a simple way to get outside\, move your body\, and enjoy a midday break in community. Join Skowhegan Outdoors for a relaxed hour outdoors that is open to all experience levels and designed to make getting outside feel easy and approachable!
URL:https://skowheganoutdoors.com/event/fresh-air-fridays-june-12-2026/
LOCATION:Coburn Park\, Skowhegan\, ME\, United States
CATEGORIES:Family Focused,Free,Gather,May
ATTACH;FMTTYPE=image/png:https://skowheganoutdoors.com/wp-content/uploads/2026/04/1.png
END:VEVENT
BEGIN:VEVENT
DTSTART;TZID=America/New_York:20260619T120000
DTEND;TZID=America/New_York:20260619T130000
DTSTAMP:20260421T224252
CREATED:20260421T233049Z
LAST-MODIFIED:20260422T000129Z
UID:4069-1781870400-1781874000@skowheganoutdoors.com
SUMMARY:Fresh Air Fridays | June 19\, 2026
DESCRIPTION:Register!\n\n\n			Fresh Air Fridays\n12:00pm – 1:00pm @ Coburn Park\, Skowhegan\nMay 1\, 8\, 15 & June 12\, 19\, 26\nCost: Free\nFresh Air Fridays are a simple way to get outside\, move your body\, and enjoy a midday break in community. Join Skowhegan Outdoors for a relaxed hour outdoors that is open to all experience levels and designed to make getting outside feel easy and approachable!
URL:https://skowheganoutdoors.com/event/fresh-air-fridays-june-19-2026/
LOCATION:Coburn Park\, Skowhegan\, ME\, United States
CATEGORIES:Family Focused,Free,Gather,May
ATTACH;FMTTYPE=image/png:https://skowheganoutdoors.com/wp-content/uploads/2026/04/1.png
END:VEVENT
BEGIN:VEVENT
DTSTART;TZID=America/New_York:20260626T120000
DTEND;TZID=America/New_York:20260626T130000
DTSTAMP:20260421T224252
CREATED:20260421T233134Z
LAST-MODIFIED:20260422T000355Z
UID:4083-1782475200-1782478800@skowheganoutdoors.com
SUMMARY:Fresh Air Fridays | June 26\, 2026
DESCRIPTION:Register!\n\n\n			Fresh Air Fridays\n12:00pm – 1:00pm @ Coburn Park\, Skowhegan\nMay 1\, 8\, 15 & June 12\, 19\, 26\nCost: Free\nFresh Air Fridays are a simple way to get outside\, move your body\, and enjoy a midday break in community. Join Skowhegan Outdoors for a relaxed hour outdoors that is open to all experience levels and designed to make getting outside feel easy and approachable!
URL:https://skowheganoutdoors.com/event/fresh-air-fridays-june-26-2026/
LOCATION:Coburn Park\, Skowhegan\, ME\, United States
CATEGORIES:Family Focused,Free,Gather,May
ATTACH;FMTTYPE=image/png:https://skowheganoutdoors.com/wp-content/uploads/2026/04/1.png
END:VEVENT
END:VCALENDAR