BEGIN:VCALENDAR
VERSION:2.0
PRODID:-//Skowhegan Outdoors - ECPv6.15.20//NONSGML v1.0//EN
CALSCALE:GREGORIAN
METHOD:PUBLISH
X-WR-CALNAME:Skowhegan Outdoors
X-ORIGINAL-URL:https://skowheganoutdoors.com
X-WR-CALDESC:Events for Skowhegan Outdoors
REFRESH-INTERVAL;VALUE=DURATION:PT1H
X-Robots-Tag:noindex
X-PUBLISHED-TTL:PT1H
BEGIN:VTIMEZONE
TZID:America/New_York
BEGIN:DAYLIGHT
TZOFFSETFROM:-0500
TZOFFSETTO:-0400
TZNAME:EDT
DTSTART:20250309T070000
END:DAYLIGHT
BEGIN:STANDARD
TZOFFSETFROM:-0400
TZOFFSETTO:-0500
TZNAME:EST
DTSTART:20251102T060000
END:STANDARD
BEGIN:DAYLIGHT
TZOFFSETFROM:-0500
TZOFFSETTO:-0400
TZNAME:EDT
DTSTART:20260308T070000
END:DAYLIGHT
BEGIN:STANDARD
TZOFFSETFROM:-0400
TZOFFSETTO:-0500
TZNAME:EST
DTSTART:20261101T060000
END:STANDARD
BEGIN:DAYLIGHT
TZOFFSETFROM:-0500
TZOFFSETTO:-0400
TZNAME:EDT
DTSTART:20270314T070000
END:DAYLIGHT
BEGIN:STANDARD
TZOFFSETFROM:-0400
TZOFFSETTO:-0500
TZNAME:EST
DTSTART:20271107T060000
END:STANDARD
END:VTIMEZONE
BEGIN:VEVENT
DTSTART;TZID=America/New_York:20260414T180000
DTEND;TZID=America/New_York:20260414T190000
DTSTAMP:20260419T162411
CREATED:20260217T195430Z
LAST-MODIFIED:20260217T195430Z
UID:3796-1776189600-1776193200@skowheganoutdoors.com
SUMMARY:Basecamp Session: Vernal Pools - More Than a Puddle | April 14\, 2026
DESCRIPTION:Please register to join us for this program: https://www.giveffect.com/campaigns/44077-vernal-pools-more-than-a-puddle-basecamp-session-april-14-2026/join \n\nJoin Naturalist Rachel Cheatham-McFadden for this 1-hour “Basecamp Session” seminar on vernal pools and their importance to a forest ecosystem. Light refreshments available.
URL:https://skowheganoutdoors.com/event/basecamp-session-vernal-pools-more-than-a-puddle-april-14-2026/
CATEGORIES:April,Family Focused,Free,Gather,Seminar
ATTACH;FMTTYPE=image/png:https://skowheganoutdoors.com/wp-content/uploads/2026/02/10.png
END:VEVENT
BEGIN:VEVENT
DTSTART;TZID=America/New_York:20260413T170000
DTEND;TZID=America/New_York:20260413T180000
DTSTAMP:20260419T162411
CREATED:20260217T172214Z
LAST-MODIFIED:20260217T172214Z
UID:3751-1776099600-1776103200@skowheganoutdoors.com
SUMMARY:Downtown Rucksack Walk with Kay Active Fitness | April 13\, 2026
DESCRIPTION:Join Kay Active Fitness and Skowhegan Outdoors for a walk wearing weighted backpacks around downtown Skowhegan\, the Debe Trail\, and Philbrick Woods. This is a great way to stay active\, build strength\, and get outside—walks are social\, steady-paced\, and beginner friendly.\n\n\n\nPlease register in advance to attend this program: https://www.giveffect.com/campaigns/44069-downtown-rucksack-walk-with-kay-active-fitness-march-april-2026/join
URL:https://skowheganoutdoors.com/event/downtown-rucksack-walk-with-kay-active-fitness-april-13-2026/
CATEGORIES:April,Fitness,Free,Gather
ATTACH;FMTTYPE=image/png:https://skowheganoutdoors.com/wp-content/uploads/2026/02/2.png
END:VEVENT
BEGIN:VEVENT
DTSTART;TZID=America/New_York:20260412T090000
DTEND;TZID=America/New_York:20260412T100000
DTSTAMP:20260419T162411
CREATED:20260217T170907Z
LAST-MODIFIED:20260217T170907Z
UID:3734-1775984400-1775988000@skowheganoutdoors.com
SUMMARY:Yoga with Jill | April 12\, 2026
DESCRIPTION:Join Jill from Wood & Water Yoga for a welcoming\, all-levels yoga class focused on movement\, breath\, and mindful connection. This weekly practice is a great way to stay grounded and active through the winter season. Held at the Skowhegan Center for Entrepreneurship at 181 Water Street\, Skowhegan\, ME.\n\n\nPlease register in advance to attend this program: https://www.giveffect.com/campaigns/44068-yoga-with-jill-march-april-2026/join
URL:https://skowheganoutdoors.com/event/yoga-with-jill-april-12-2026/
CATEGORIES:April,Free,Gather,Yoga
ATTACH;FMTTYPE=image/png:https://skowheganoutdoors.com/wp-content/uploads/2026/02/1.png
END:VEVENT
BEGIN:VEVENT
DTSTART;TZID=America/New_York:20260409T173000
DTEND;TZID=America/New_York:20260409T183000
DTSTAMP:20260419T162411
CREATED:20260217T194142Z
LAST-MODIFIED:20260217T194142Z
UID:3787-1775755800-1775759400@skowheganoutdoors.com
SUMMARY:"Spring Forward" Run Club with Kay Active Fitness | April 9\, 2026
DESCRIPTION:Join Kay Active Fitness and Skowhegan Outdoors for a run from Basecamp Gear Library. This includes areas of Downtown Skowhegan\, the Debe Trail\, and the Philbrick Woods. Beginners\, walkers\, marathoners welcomed to this social hour of exercise. \nPlease register to participate in this program: https://www.giveffect.com/campaigns/44076-spring-forward-run-club-with-kay-active-fitness-april-2026/join
URL:https://skowheganoutdoors.com/event/spring-forward-run-club-with-kay-active-fitness-april-9-2026/
CATEGORIES:April,Explore,Family Focused,Fitness,Free,Running
ATTACH;FMTTYPE=image/png:https://skowheganoutdoors.com/wp-content/uploads/2026/02/9.png
END:VEVENT
BEGIN:VEVENT
DTSTART;TZID=America/New_York:20260407T160000
DTEND;TZID=America/New_York:20260407T173000
DTSTAMP:20260419T162411
CREATED:20260217T174255Z
LAST-MODIFIED:20260217T174255Z
UID:3771-1775577600-1775583000@skowheganoutdoors.com
SUMMARY:Fly-Tyin' Tuesdays | April 7\, 2026
DESCRIPTION:Learn the basics of fly tying in this relaxed\, social workshop. Participants will be guided through materials\, tools\, and simple patterns. All materials included. \nMarch 10\, 24 & April 7\, 21 are at the Skowhegan Free Public Library\nMarch 17 is at the Bingham Union Library \n\n\n\nPlease register in advance to attend these programs: https://www.giveffect.com/campaigns/44072-fly-tyin-tuesday-march-april-2026/join
URL:https://skowheganoutdoors.com/event/fly-tyin-tuesdays-april-7-2026/
CATEGORIES:April,Fly Fishing,Free,Learn
ATTACH;FMTTYPE=image/png:https://skowheganoutdoors.com/wp-content/uploads/2026/02/4.png
END:VEVENT
BEGIN:VEVENT
DTSTART;TZID=America/New_York:20260406T170000
DTEND;TZID=America/New_York:20260406T180000
DTSTAMP:20260419T162411
CREATED:20260217T172100Z
LAST-MODIFIED:20260217T172100Z
UID:3749-1775494800-1775498400@skowheganoutdoors.com
SUMMARY:Downtown Rucksack Walk with Kay Active Fitness | April 6\, 2026
DESCRIPTION:Join Kay Active Fitness and Skowhegan Outdoors for a walk wearing weighted backpacks around downtown Skowhegan\, the Debe Trail\, and Philbrick Woods. This is a great way to stay active\, build strength\, and get outside—walks are social\, steady-paced\, and beginner friendly.\n\n\n\nPlease register in advance to attend this program: https://www.giveffect.com/campaigns/44069-downtown-rucksack-walk-with-kay-active-fitness-march-april-2026/join
URL:https://skowheganoutdoors.com/event/downtown-rucksack-walk-with-kay-active-fitness-april-6-2026/
CATEGORIES:April,Fitness,Free,Gather
ATTACH;FMTTYPE=image/png:https://skowheganoutdoors.com/wp-content/uploads/2026/02/2.png
END:VEVENT
BEGIN:VEVENT
DTSTART;TZID=America/New_York:20260402T173000
DTEND;TZID=America/New_York:20260402T183000
DTSTAMP:20260419T162411
CREATED:20260217T194038Z
LAST-MODIFIED:20260217T194038Z
UID:3784-1775151000-1775154600@skowheganoutdoors.com
SUMMARY:"Spring Forward" Run Club with Kay Active Fitness | April 2\, 2026
DESCRIPTION:Join Kay Active Fitness and Skowhegan Outdoors for a run from Basecamp Gear Library. This includes areas of Downtown Skowhegan\, the Debe Trail\, and the Philbrick Woods. Beginners\, walkers\, marathoners welcomed to this social hour of exercise. \nPlease register to participate in this program: https://www.giveffect.com/campaigns/44076-spring-forward-run-club-with-kay-active-fitness-april-2026/join
URL:https://skowheganoutdoors.com/event/spring-forward-run-club-with-kay-active-fitness-april-2-2026/
CATEGORIES:April,Explore,Family Focused,Fitness,Free
ATTACH;FMTTYPE=image/png:https://skowheganoutdoors.com/wp-content/uploads/2026/02/9.png
END:VEVENT
END:VCALENDAR